BEGIN:VCALENDAR
VERSION:2.0
PRODID:-//Young Naperville Singers - ECPv6.8.0//NONSGML v1.0//EN
CALSCALE:GREGORIAN
METHOD:PUBLISH
X-WR-CALNAME:Young Naperville Singers
X-ORIGINAL-URL:https://ynschoirs.org
X-WR-CALDESC:Events for Young Naperville Singers
REFRESH-INTERVAL;VALUE=DURATION:PT1H
X-Robots-Tag:noindex
X-PUBLISHED-TTL:PT1H
BEGIN:VTIMEZONE
TZID:America/Chicago
BEGIN:DAYLIGHT
TZOFFSETFROM:-0600
TZOFFSETTO:-0500
TZNAME:CDT
DTSTART:20230312T080000
END:DAYLIGHT
BEGIN:STANDARD
TZOFFSETFROM:-0500
TZOFFSETTO:-0600
TZNAME:CST
DTSTART:20231105T070000
END:STANDARD
END:VTIMEZONE
BEGIN:VEVENT
DTSTART;TZID=America/Chicago:20230227T181500
DTEND;TZID=America/Chicago:20230227T200000
DTSTAMP:20260419T204657
CREATED:20230110T191952Z
LAST-MODIFIED:20230110T191952Z
UID:10001837-1677521700-1677528000@ynschoirs.org
SUMMARY:Canto Vivo Rehearsal
DESCRIPTION:Our Saviour’s Lutheran Church
URL:https://ynschoirs.org/calendar/canto-vivo-rehearsal-4/2023-02-27/
LOCATION:Our Saviour’s Lutheran Church\, 815 S. Washington Street\, Naperville\, IL\, 60540
CATEGORIES:Canto Vivo,Parents
END:VEVENT
BEGIN:VEVENT
DTSTART;TZID=America/Chicago:20230227T164500
DTEND;TZID=America/Chicago:20230227T174500
DTSTAMP:20260419T204657
CREATED:20230110T195652Z
LAST-MODIFIED:20230313T152848Z
UID:10001853-1677516300-1677519900@ynschoirs.org
SUMMARY:Dolce Rehearsal
DESCRIPTION:Allied First Bank – Oswego
URL:https://ynschoirs.org/calendar/dolce-rehearsal-6/2023-02-27/
LOCATION:ServBank\, 3201 Orchard Road\, Oswego\, IL\, 60543
CATEGORIES:Dolce,Parents
END:VEVENT
BEGIN:VEVENT
DTSTART;TZID=America/Chicago:20230223T170000
DTEND;TZID=America/Chicago:20230223T181500
DTSTAMP:20260419T204657
CREATED:20230110T203316Z
LAST-MODIFIED:20230405T174033Z
UID:10001966-1677171600-1677176100@ynschoirs.org
SUMMARY:Aria Rehearsal
DESCRIPTION:Community Concert Center
URL:https://ynschoirs.org/calendar/aria-rehearsal-5/2023-02-23/
LOCATION:Community Concert Center\, 55 Concert Lane\, Naperville\, IL\, 60540
CATEGORIES:Aria,Parents
END:VEVENT
BEGIN:VEVENT
DTSTART;TZID=America/Chicago:20230223T164500
DTEND;TZID=America/Chicago:20230223T174500
DTSTAMP:20260419T204657
CREATED:20230110T203022Z
LAST-MODIFIED:20230405T174125Z
UID:10001935-1677170700-1677174300@ynschoirs.org
SUMMARY:Primo Thursday Rehearsal
DESCRIPTION:Our Saviour’s Lutheran Church
URL:https://ynschoirs.org/calendar/primo-thursday-rehearsal/2023-02-23/
LOCATION:Our Saviour’s Lutheran Church\, 815 S. Washington Street\, Naperville\, IL\, 60540
CATEGORIES:Parents,Primo
END:VEVENT
BEGIN:VEVENT
DTSTART;TZID=America/Chicago:20230223T163000
DTEND;TZID=America/Chicago:20230223T180000
DTSTAMP:20260419T204657
CREATED:20230110T203434Z
LAST-MODIFIED:20230110T203434Z
UID:10001982-1677169800-1677175200@ynschoirs.org
SUMMARY:Brillante Rehearsal
DESCRIPTION:Community Concert Center
URL:https://ynschoirs.org/calendar/brillante-rehearsal-5/2023-02-23/
LOCATION:Community Concert Center\, 55 Concert Lane\, Naperville\, IL\, 60540
CATEGORIES:Brillante,Parents
END:VEVENT
BEGIN:VEVENT
DTSTART;TZID=America/Chicago:20230222T164500
DTEND;TZID=America/Chicago:20230222T174500
DTSTAMP:20260419T204657
CREATED:20230110T202854Z
LAST-MODIFIED:20230405T174223Z
UID:10001950-1677084300-1677087900@ynschoirs.org
SUMMARY:Primo Wednesday Rehearsal
DESCRIPTION:Community Concert Center
URL:https://ynschoirs.org/calendar/primo-wednesday-rehearsal/2023-02-22/
LOCATION:Community Concert Center\, 55 Concert Lane\, Naperville\, IL\, 60540
CATEGORIES:Parents,Primo
END:VEVENT
BEGIN:VEVENT
DTSTART;TZID=America/Chicago:20230221T183000
DTEND;TZID=America/Chicago:20230221T200000
DTSTAMP:20260419T204657
CREATED:20230110T201710Z
LAST-MODIFIED:20230110T201710Z
UID:10001901-1677004200-1677009600@ynschoirs.org
SUMMARY:Cantabile Rehearsal
DESCRIPTION:Community Concert Center
URL:https://ynschoirs.org/calendar/cantabile-rehearsal-5/2023-02-21/
LOCATION:Community Concert Center\, 55 Concert Lane\, Naperville\, IL\, 60540
CATEGORIES:Cantabile,Parents
END:VEVENT
BEGIN:VEVENT
DTSTART;TZID=America/Chicago:20230221T181500
DTEND;TZID=America/Chicago:20230221T201500
DTSTAMP:20260419T204657
CREATED:20230110T200915Z
LAST-MODIFIED:20230110T200915Z
UID:10001870-1677003300-1677010500@ynschoirs.org
SUMMARY:Bella Voce Rehearsal
DESCRIPTION:Community Concert Center
URL:https://ynschoirs.org/calendar/bella-voce-rehearsal-5/2023-02-21/
LOCATION:Community Concert Center\, 55 Concert Lane\, Naperville\, IL\, 60540
CATEGORIES:Bella Voce,Parents
END:VEVENT
BEGIN:VEVENT
DTSTART;TZID=America/Chicago:20230221T164500
DTEND;TZID=America/Chicago:20230221T181500
DTSTAMP:20260419T204657
CREATED:20230110T202301Z
LAST-MODIFIED:20230110T202301Z
UID:10001917-1676997900-1677003300@ynschoirs.org
SUMMARY:Ragazzi Rehearsal
DESCRIPTION:Community Concert Center
URL:https://ynschoirs.org/calendar/ragazzi-rehearsal-5/2023-02-21/
LOCATION:Community Concert Center\, 55 Concert Lane\, Naperville\, IL\, 60540
CATEGORIES:Parents,Ragazzi
END:VEVENT
BEGIN:VEVENT
DTSTART;TZID=America/Chicago:20230221T163000
DTEND;TZID=America/Chicago:20230221T174500
DTSTAMP:20260419T204657
CREATED:20230110T201548Z
LAST-MODIFIED:20230405T174644Z
UID:10001886-1676997000-1677001500@ynschoirs.org
SUMMARY:Brio Rehearsal
DESCRIPTION:Community Concert Center
URL:https://ynschoirs.org/calendar/brio-rehearsal-5/2023-02-21/
LOCATION:Community Concert Center\, 55 Concert Lane\, Naperville\, IL\, 60540
CATEGORIES:Brio,Parents
END:VEVENT
BEGIN:VEVENT
DTSTART;VALUE=DATE:20230220
DTEND;VALUE=DATE:20230221
DTSTAMP:20260419T204657
CREATED:20230110T202414Z
LAST-MODIFIED:20230110T202414Z
UID:10001928-1676851200-1676937599@ynschoirs.org
SUMMARY:No Rehearsal - BC\, CV & Dolce
DESCRIPTION:Presidents’ Day – No Rehearsals
URL:https://ynschoirs.org/calendar/no-rehearsal-bc-cv-dolce-2/
LOCATION:IL
CATEGORIES:Bella Cantare,Canto Vivo,Dolce,Parents
END:VEVENT
BEGIN:VEVENT
DTSTART;TZID=America/Chicago:20230216T170000
DTEND;TZID=America/Chicago:20230216T181500
DTSTAMP:20260419T204657
CREATED:20230110T203316Z
LAST-MODIFIED:20230405T174033Z
UID:10001965-1676566800-1676571300@ynschoirs.org
SUMMARY:Aria Rehearsal
DESCRIPTION:Community Concert Center
URL:https://ynschoirs.org/calendar/aria-rehearsal-5/2023-02-16/
LOCATION:Community Concert Center\, 55 Concert Lane\, Naperville\, IL\, 60540
CATEGORIES:Aria,Parents
END:VEVENT
BEGIN:VEVENT
DTSTART;TZID=America/Chicago:20230216T164500
DTEND;TZID=America/Chicago:20230216T174500
DTSTAMP:20260419T204657
CREATED:20230110T203022Z
LAST-MODIFIED:20230405T174125Z
UID:10001934-1676565900-1676569500@ynschoirs.org
SUMMARY:Primo Thursday Rehearsal
DESCRIPTION:Our Saviour’s Lutheran Church
URL:https://ynschoirs.org/calendar/primo-thursday-rehearsal/2023-02-16/
LOCATION:Our Saviour’s Lutheran Church\, 815 S. Washington Street\, Naperville\, IL\, 60540
CATEGORIES:Parents,Primo
END:VEVENT
BEGIN:VEVENT
DTSTART;TZID=America/Chicago:20230216T163000
DTEND;TZID=America/Chicago:20230216T180000
DTSTAMP:20260419T204657
CREATED:20230110T203434Z
LAST-MODIFIED:20230110T203434Z
UID:10001981-1676565000-1676570400@ynschoirs.org
SUMMARY:Brillante Rehearsal
DESCRIPTION:Community Concert Center
URL:https://ynschoirs.org/calendar/brillante-rehearsal-5/2023-02-16/
LOCATION:Community Concert Center\, 55 Concert Lane\, Naperville\, IL\, 60540
CATEGORIES:Brillante,Parents
END:VEVENT
BEGIN:VEVENT
DTSTART;TZID=America/Chicago:20230215T164500
DTEND;TZID=America/Chicago:20230215T174500
DTSTAMP:20260419T204657
CREATED:20230110T202854Z
LAST-MODIFIED:20230405T174223Z
UID:10001949-1676479500-1676483100@ynschoirs.org
SUMMARY:Primo Wednesday Rehearsal
DESCRIPTION:Community Concert Center
URL:https://ynschoirs.org/calendar/primo-wednesday-rehearsal/2023-02-15/
LOCATION:Community Concert Center\, 55 Concert Lane\, Naperville\, IL\, 60540
CATEGORIES:Parents,Primo
END:VEVENT
BEGIN:VEVENT
DTSTART;TZID=America/Chicago:20230214T183000
DTEND;TZID=America/Chicago:20230214T200000
DTSTAMP:20260419T204657
CREATED:20230110T201710Z
LAST-MODIFIED:20230110T201710Z
UID:10001900-1676399400-1676404800@ynschoirs.org
SUMMARY:Cantabile Rehearsal
DESCRIPTION:Community Concert Center
URL:https://ynschoirs.org/calendar/cantabile-rehearsal-5/2023-02-14/
LOCATION:Community Concert Center\, 55 Concert Lane\, Naperville\, IL\, 60540
CATEGORIES:Cantabile,Parents
END:VEVENT
BEGIN:VEVENT
DTSTART;TZID=America/Chicago:20230214T181500
DTEND;TZID=America/Chicago:20230214T201500
DTSTAMP:20260419T204657
CREATED:20230110T200915Z
LAST-MODIFIED:20230110T200915Z
UID:10001869-1676398500-1676405700@ynschoirs.org
SUMMARY:Bella Voce Rehearsal
DESCRIPTION:Community Concert Center
URL:https://ynschoirs.org/calendar/bella-voce-rehearsal-5/2023-02-14/
LOCATION:Community Concert Center\, 55 Concert Lane\, Naperville\, IL\, 60540
CATEGORIES:Bella Voce,Parents
END:VEVENT
BEGIN:VEVENT
DTSTART;TZID=America/Chicago:20230214T164500
DTEND;TZID=America/Chicago:20230214T181500
DTSTAMP:20260419T204657
CREATED:20230110T202301Z
LAST-MODIFIED:20230110T202301Z
UID:10001916-1676393100-1676398500@ynschoirs.org
SUMMARY:Ragazzi Rehearsal
DESCRIPTION:Community Concert Center
URL:https://ynschoirs.org/calendar/ragazzi-rehearsal-5/2023-02-14/
LOCATION:Community Concert Center\, 55 Concert Lane\, Naperville\, IL\, 60540
CATEGORIES:Parents,Ragazzi
END:VEVENT
BEGIN:VEVENT
DTSTART;TZID=America/Chicago:20230214T163000
DTEND;TZID=America/Chicago:20230214T174500
DTSTAMP:20260419T204657
CREATED:20230110T201548Z
LAST-MODIFIED:20230405T174644Z
UID:10001885-1676392200-1676396700@ynschoirs.org
SUMMARY:Brio Rehearsal
DESCRIPTION:Community Concert Center
URL:https://ynschoirs.org/calendar/brio-rehearsal-5/2023-02-14/
LOCATION:Community Concert Center\, 55 Concert Lane\, Naperville\, IL\, 60540
CATEGORIES:Brio,Parents
END:VEVENT
BEGIN:VEVENT
DTSTART;TZID=America/Chicago:20230213T181500
DTEND;TZID=America/Chicago:20230213T201500
DTSTAMP:20260419T204657
CREATED:20230110T191334Z
LAST-MODIFIED:20230110T191334Z
UID:10001821-1676312100-1676319300@ynschoirs.org
SUMMARY:Bella Cantare Rehearsal
DESCRIPTION:Our Saviour’s Lutheran Church
URL:https://ynschoirs.org/calendar/bella-cantare-rehearsal-5/2023-02-13/
LOCATION:Our Saviour’s Lutheran Church\, 815 S. Washington Street\, Naperville\, IL\, 60540
CATEGORIES:Bella Cantare,Parents
END:VEVENT
BEGIN:VEVENT
DTSTART;TZID=America/Chicago:20230213T181500
DTEND;TZID=America/Chicago:20230213T200000
DTSTAMP:20260419T204657
CREATED:20230110T191952Z
LAST-MODIFIED:20230110T191952Z
UID:10001836-1676312100-1676318400@ynschoirs.org
SUMMARY:Canto Vivo Rehearsal
DESCRIPTION:Our Saviour’s Lutheran Church
URL:https://ynschoirs.org/calendar/canto-vivo-rehearsal-4/2023-02-13/
LOCATION:Our Saviour’s Lutheran Church\, 815 S. Washington Street\, Naperville\, IL\, 60540
CATEGORIES:Canto Vivo,Parents
END:VEVENT
BEGIN:VEVENT
DTSTART;TZID=America/Chicago:20230213T164500
DTEND;TZID=America/Chicago:20230213T174500
DTSTAMP:20260419T204657
CREATED:20230110T195652Z
LAST-MODIFIED:20230313T152848Z
UID:10001852-1676306700-1676310300@ynschoirs.org
SUMMARY:Dolce Rehearsal
DESCRIPTION:Allied First Bank – Oswego
URL:https://ynschoirs.org/calendar/dolce-rehearsal-6/2023-02-13/
LOCATION:ServBank\, 3201 Orchard Road\, Oswego\, IL\, 60543
CATEGORIES:Dolce,Parents
END:VEVENT
BEGIN:VEVENT
DTSTART;TZID=America/Chicago:20230209T170000
DTEND;TZID=America/Chicago:20230209T181500
DTSTAMP:20260419T204657
CREATED:20230110T203316Z
LAST-MODIFIED:20230405T174033Z
UID:10001964-1675962000-1675966500@ynschoirs.org
SUMMARY:Aria Rehearsal
DESCRIPTION:Community Concert Center
URL:https://ynschoirs.org/calendar/aria-rehearsal-5/2023-02-09/
LOCATION:Community Concert Center\, 55 Concert Lane\, Naperville\, IL\, 60540
CATEGORIES:Aria,Parents
END:VEVENT
BEGIN:VEVENT
DTSTART;TZID=America/Chicago:20230209T164500
DTEND;TZID=America/Chicago:20230209T174500
DTSTAMP:20260419T204657
CREATED:20230110T203022Z
LAST-MODIFIED:20230405T174125Z
UID:10001933-1675961100-1675964700@ynschoirs.org
SUMMARY:Primo Thursday Rehearsal
DESCRIPTION:Our Saviour’s Lutheran Church
URL:https://ynschoirs.org/calendar/primo-thursday-rehearsal/2023-02-09/
LOCATION:Our Saviour’s Lutheran Church\, 815 S. Washington Street\, Naperville\, IL\, 60540
CATEGORIES:Parents,Primo
END:VEVENT
BEGIN:VEVENT
DTSTART;TZID=America/Chicago:20230209T163000
DTEND;TZID=America/Chicago:20230209T180000
DTSTAMP:20260419T204657
CREATED:20230110T203434Z
LAST-MODIFIED:20230110T203434Z
UID:10001980-1675960200-1675965600@ynschoirs.org
SUMMARY:Brillante Rehearsal
DESCRIPTION:Community Concert Center
URL:https://ynschoirs.org/calendar/brillante-rehearsal-5/2023-02-09/
LOCATION:Community Concert Center\, 55 Concert Lane\, Naperville\, IL\, 60540
CATEGORIES:Brillante,Parents
END:VEVENT
BEGIN:VEVENT
DTSTART;TZID=America/Chicago:20230208T164500
DTEND;TZID=America/Chicago:20230208T174500
DTSTAMP:20260419T204657
CREATED:20230110T202854Z
LAST-MODIFIED:20230405T174223Z
UID:10001948-1675874700-1675878300@ynschoirs.org
SUMMARY:Primo Wednesday Rehearsal
DESCRIPTION:Community Concert Center
URL:https://ynschoirs.org/calendar/primo-wednesday-rehearsal/2023-02-08/
LOCATION:Community Concert Center\, 55 Concert Lane\, Naperville\, IL\, 60540
CATEGORIES:Parents,Primo
END:VEVENT
BEGIN:VEVENT
DTSTART;TZID=America/Chicago:20230207T183000
DTEND;TZID=America/Chicago:20230207T200000
DTSTAMP:20260419T204657
CREATED:20230110T201710Z
LAST-MODIFIED:20230110T201710Z
UID:10001899-1675794600-1675800000@ynschoirs.org
SUMMARY:Cantabile Rehearsal
DESCRIPTION:Community Concert Center
URL:https://ynschoirs.org/calendar/cantabile-rehearsal-5/2023-02-07/
LOCATION:Community Concert Center\, 55 Concert Lane\, Naperville\, IL\, 60540
CATEGORIES:Cantabile,Parents
END:VEVENT
BEGIN:VEVENT
DTSTART;TZID=America/Chicago:20230207T181500
DTEND;TZID=America/Chicago:20230207T201500
DTSTAMP:20260419T204657
CREATED:20230110T200915Z
LAST-MODIFIED:20230110T200915Z
UID:10001868-1675793700-1675800900@ynschoirs.org
SUMMARY:Bella Voce Rehearsal
DESCRIPTION:Community Concert Center
URL:https://ynschoirs.org/calendar/bella-voce-rehearsal-5/2023-02-07/
LOCATION:Community Concert Center\, 55 Concert Lane\, Naperville\, IL\, 60540
CATEGORIES:Bella Voce,Parents
END:VEVENT
BEGIN:VEVENT
DTSTART;TZID=America/Chicago:20230207T164500
DTEND;TZID=America/Chicago:20230207T181500
DTSTAMP:20260419T204657
CREATED:20230110T202301Z
LAST-MODIFIED:20230110T202301Z
UID:10001915-1675788300-1675793700@ynschoirs.org
SUMMARY:Ragazzi Rehearsal
DESCRIPTION:Community Concert Center
URL:https://ynschoirs.org/calendar/ragazzi-rehearsal-5/2023-02-07/
LOCATION:Community Concert Center\, 55 Concert Lane\, Naperville\, IL\, 60540
CATEGORIES:Parents,Ragazzi
END:VEVENT
BEGIN:VEVENT
DTSTART;TZID=America/Chicago:20230207T163000
DTEND;TZID=America/Chicago:20230207T174500
DTSTAMP:20260419T204657
CREATED:20230110T201548Z
LAST-MODIFIED:20230405T174644Z
UID:10001884-1675787400-1675791900@ynschoirs.org
SUMMARY:Brio Rehearsal
DESCRIPTION:Community Concert Center
URL:https://ynschoirs.org/calendar/brio-rehearsal-5/2023-02-07/
LOCATION:Community Concert Center\, 55 Concert Lane\, Naperville\, IL\, 60540
CATEGORIES:Brio,Parents
END:VEVENT
END:VCALENDAR