BEGIN:VCALENDAR
VERSION:2.0
PRODID:-//Young Naperville Singers - ECPv6.8.0//NONSGML v1.0//EN
CALSCALE:GREGORIAN
METHOD:PUBLISH
X-WR-CALNAME:Young Naperville Singers
X-ORIGINAL-URL:https://ynschoirs.org
X-WR-CALDESC:Events for Young Naperville Singers
REFRESH-INTERVAL;VALUE=DURATION:PT1H
X-Robots-Tag:noindex
X-PUBLISHED-TTL:PT1H
BEGIN:VTIMEZONE
TZID:America/Chicago
BEGIN:DAYLIGHT
TZOFFSETFROM:-0600
TZOFFSETTO:-0500
TZNAME:CDT
DTSTART:20230312T080000
END:DAYLIGHT
BEGIN:STANDARD
TZOFFSETFROM:-0500
TZOFFSETTO:-0600
TZNAME:CST
DTSTART:20231105T070000
END:STANDARD
END:VTIMEZONE
BEGIN:VEVENT
DTSTART;TZID=America/Chicago:20230418T164500
DTEND;TZID=America/Chicago:20230418T173000
DTSTAMP:20260419T233029
CREATED:20230405T170922Z
LAST-MODIFIED:20230405T170922Z
UID:10002013-1681836300-1681839000@ynschoirs.org
SUMMARY:Brio Showcase
DESCRIPTION:Martin Avenue 4:45-5:30pm (Wear Concert Attire)
URL:https://ynschoirs.org/calendar/brio-showcase/
LOCATION:Martin Avenue\, 310 W. Martin Avenue\, Naperville\, IL\, 60540
CATEGORIES:Brio,Parents
END:VEVENT
BEGIN:VEVENT
DTSTART;TZID=America/Chicago:20230417T181500
DTEND;TZID=America/Chicago:20230417T201500
DTSTAMP:20260419T233029
CREATED:20230110T191334Z
LAST-MODIFIED:20230110T191334Z
UID:10001828-1681755300-1681762500@ynschoirs.org
SUMMARY:Bella Cantare Rehearsal
DESCRIPTION:Our Saviour’s Lutheran Church
URL:https://ynschoirs.org/calendar/bella-cantare-rehearsal-5/2023-04-17/
LOCATION:Our Saviour’s Lutheran Church\, 815 S. Washington Street\, Naperville\, IL\, 60540
CATEGORIES:Bella Cantare,Parents
END:VEVENT
BEGIN:VEVENT
DTSTART;TZID=America/Chicago:20230417T181500
DTEND;TZID=America/Chicago:20230417T200000
DTSTAMP:20260419T233029
CREATED:20230110T191952Z
LAST-MODIFIED:20230110T191952Z
UID:10001843-1681755300-1681761600@ynschoirs.org
SUMMARY:Canto Vivo Rehearsal
DESCRIPTION:Our Saviour’s Lutheran Church
URL:https://ynschoirs.org/calendar/canto-vivo-rehearsal-4/2023-04-17/
LOCATION:Our Saviour’s Lutheran Church\, 815 S. Washington Street\, Naperville\, IL\, 60540
CATEGORIES:Canto Vivo,Parents
END:VEVENT
BEGIN:VEVENT
DTSTART;TZID=America/Chicago:20230417T164500
DTEND;TZID=America/Chicago:20230417T174500
DTSTAMP:20260419T233029
CREATED:20230110T195652Z
LAST-MODIFIED:20230313T152848Z
UID:10001859-1681749900-1681753500@ynschoirs.org
SUMMARY:Dolce Rehearsal
DESCRIPTION:Allied First Bank – Oswego
URL:https://ynschoirs.org/calendar/dolce-rehearsal-6/2023-04-17/
LOCATION:ServBank\, 3201 Orchard Road\, Oswego\, IL\, 60543
CATEGORIES:Dolce,Parents
END:VEVENT
BEGIN:VEVENT
DTSTART;TZID=America/Chicago:20230413T170000
DTEND;TZID=America/Chicago:20230413T181500
DTSTAMP:20260419T233029
CREATED:20230110T203316Z
LAST-MODIFIED:20230405T174033Z
UID:10001972-1681405200-1681409700@ynschoirs.org
SUMMARY:Aria Rehearsal
DESCRIPTION:Community Concert Center
URL:https://ynschoirs.org/calendar/aria-rehearsal-5/2023-04-13/
LOCATION:Community Concert Center\, 55 Concert Lane\, Naperville\, IL\, 60540
CATEGORIES:Aria,Parents
END:VEVENT
BEGIN:VEVENT
DTSTART;TZID=America/Chicago:20230413T164500
DTEND;TZID=America/Chicago:20230413T174500
DTSTAMP:20260419T233029
CREATED:20230110T203022Z
LAST-MODIFIED:20230405T174125Z
UID:10001941-1681404300-1681407900@ynschoirs.org
SUMMARY:Primo Thursday Rehearsal
DESCRIPTION:Our Saviour’s Lutheran Church
URL:https://ynschoirs.org/calendar/primo-thursday-rehearsal/2023-04-13/
LOCATION:Our Saviour’s Lutheran Church\, 815 S. Washington Street\, Naperville\, IL\, 60540
CATEGORIES:Parents,Primo
END:VEVENT
BEGIN:VEVENT
DTSTART;TZID=America/Chicago:20230413T163000
DTEND;TZID=America/Chicago:20230413T180000
DTSTAMP:20260419T233029
CREATED:20230110T203434Z
LAST-MODIFIED:20230110T203434Z
UID:10001988-1681403400-1681408800@ynschoirs.org
SUMMARY:Brillante Rehearsal
DESCRIPTION:Community Concert Center
URL:https://ynschoirs.org/calendar/brillante-rehearsal-5/2023-04-13/
LOCATION:Community Concert Center\, 55 Concert Lane\, Naperville\, IL\, 60540
CATEGORIES:Brillante,Parents
END:VEVENT
BEGIN:VEVENT
DTSTART;TZID=America/Chicago:20230412T164500
DTEND;TZID=America/Chicago:20230412T174500
DTSTAMP:20260419T233029
CREATED:20230110T202854Z
LAST-MODIFIED:20230405T174223Z
UID:10001956-1681317900-1681321500@ynschoirs.org
SUMMARY:Primo Wednesday Rehearsal
DESCRIPTION:Community Concert Center
URL:https://ynschoirs.org/calendar/primo-wednesday-rehearsal/2023-04-12/
LOCATION:Community Concert Center\, 55 Concert Lane\, Naperville\, IL\, 60540
CATEGORIES:Parents,Primo
END:VEVENT
BEGIN:VEVENT
DTSTART;TZID=America/Chicago:20230411T183000
DTEND;TZID=America/Chicago:20230411T200000
DTSTAMP:20260419T233029
CREATED:20230110T201710Z
LAST-MODIFIED:20230110T201710Z
UID:10001907-1681237800-1681243200@ynschoirs.org
SUMMARY:Cantabile Rehearsal
DESCRIPTION:Community Concert Center
URL:https://ynschoirs.org/calendar/cantabile-rehearsal-5/2023-04-11/
LOCATION:Community Concert Center\, 55 Concert Lane\, Naperville\, IL\, 60540
CATEGORIES:Cantabile,Parents
END:VEVENT
BEGIN:VEVENT
DTSTART;TZID=America/Chicago:20230411T181500
DTEND;TZID=America/Chicago:20230411T201500
DTSTAMP:20260419T233029
CREATED:20230110T200915Z
LAST-MODIFIED:20230110T200915Z
UID:10001876-1681236900-1681244100@ynschoirs.org
SUMMARY:Bella Voce Rehearsal
DESCRIPTION:Community Concert Center
URL:https://ynschoirs.org/calendar/bella-voce-rehearsal-5/2023-04-11/
LOCATION:Community Concert Center\, 55 Concert Lane\, Naperville\, IL\, 60540
CATEGORIES:Bella Voce,Parents
END:VEVENT
BEGIN:VEVENT
DTSTART;TZID=America/Chicago:20230411T164500
DTEND;TZID=America/Chicago:20230411T181500
DTSTAMP:20260419T233029
CREATED:20230110T202301Z
LAST-MODIFIED:20230110T202301Z
UID:10001923-1681231500-1681236900@ynschoirs.org
SUMMARY:Ragazzi Rehearsal
DESCRIPTION:Community Concert Center
URL:https://ynschoirs.org/calendar/ragazzi-rehearsal-5/2023-04-11/
LOCATION:Community Concert Center\, 55 Concert Lane\, Naperville\, IL\, 60540
CATEGORIES:Parents,Ragazzi
END:VEVENT
BEGIN:VEVENT
DTSTART;TZID=America/Chicago:20230411T163000
DTEND;TZID=America/Chicago:20230411T174500
DTSTAMP:20260419T233029
CREATED:20230110T201548Z
LAST-MODIFIED:20230405T174644Z
UID:10001892-1681230600-1681235100@ynschoirs.org
SUMMARY:Brio Rehearsal
DESCRIPTION:Community Concert Center
URL:https://ynschoirs.org/calendar/brio-rehearsal-5/2023-04-11/
LOCATION:Community Concert Center\, 55 Concert Lane\, Naperville\, IL\, 60540
CATEGORIES:Brio,Parents
END:VEVENT
BEGIN:VEVENT
DTSTART;TZID=America/Chicago:20230410T181500
DTEND;TZID=America/Chicago:20230410T201500
DTSTAMP:20260419T233029
CREATED:20230110T191334Z
LAST-MODIFIED:20230110T191334Z
UID:10001827-1681150500-1681157700@ynschoirs.org
SUMMARY:Bella Cantare Rehearsal
DESCRIPTION:Our Saviour’s Lutheran Church
URL:https://ynschoirs.org/calendar/bella-cantare-rehearsal-5/2023-04-10/
LOCATION:Our Saviour’s Lutheran Church\, 815 S. Washington Street\, Naperville\, IL\, 60540
CATEGORIES:Bella Cantare,Parents
END:VEVENT
BEGIN:VEVENT
DTSTART;TZID=America/Chicago:20230410T181500
DTEND;TZID=America/Chicago:20230410T200000
DTSTAMP:20260419T233029
CREATED:20230110T191952Z
LAST-MODIFIED:20230110T191952Z
UID:10001842-1681150500-1681156800@ynschoirs.org
SUMMARY:Canto Vivo Rehearsal
DESCRIPTION:Our Saviour’s Lutheran Church
URL:https://ynschoirs.org/calendar/canto-vivo-rehearsal-4/2023-04-10/
LOCATION:Our Saviour’s Lutheran Church\, 815 S. Washington Street\, Naperville\, IL\, 60540
CATEGORIES:Canto Vivo,Parents
END:VEVENT
BEGIN:VEVENT
DTSTART;TZID=America/Chicago:20230410T164500
DTEND;TZID=America/Chicago:20230410T174500
DTSTAMP:20260419T233029
CREATED:20230110T195652Z
LAST-MODIFIED:20230313T152848Z
UID:10001858-1681145100-1681148700@ynschoirs.org
SUMMARY:Dolce Rehearsal
DESCRIPTION:Allied First Bank – Oswego
URL:https://ynschoirs.org/calendar/dolce-rehearsal-6/2023-04-10/
LOCATION:ServBank\, 3201 Orchard Road\, Oswego\, IL\, 60543
CATEGORIES:Dolce,Parents
END:VEVENT
BEGIN:VEVENT
DTSTART;TZID=America/Chicago:20230406T170000
DTEND;TZID=America/Chicago:20230406T181500
DTSTAMP:20260419T233029
CREATED:20230110T203316Z
LAST-MODIFIED:20230405T174033Z
UID:10001971-1680800400-1680804900@ynschoirs.org
SUMMARY:Aria Rehearsal
DESCRIPTION:Community Concert Center
URL:https://ynschoirs.org/calendar/aria-rehearsal-5/2023-04-06/
LOCATION:Community Concert Center\, 55 Concert Lane\, Naperville\, IL\, 60540
CATEGORIES:Aria,Parents
END:VEVENT
BEGIN:VEVENT
DTSTART;TZID=America/Chicago:20230406T164500
DTEND;TZID=America/Chicago:20230406T174500
DTSTAMP:20260419T233029
CREATED:20230110T203022Z
LAST-MODIFIED:20230405T174125Z
UID:10001940-1680799500-1680803100@ynschoirs.org
SUMMARY:Primo Thursday Rehearsal
DESCRIPTION:Our Saviour’s Lutheran Church
URL:https://ynschoirs.org/calendar/primo-thursday-rehearsal/2023-04-06/
LOCATION:Our Saviour’s Lutheran Church\, 815 S. Washington Street\, Naperville\, IL\, 60540
CATEGORIES:Parents,Primo
END:VEVENT
BEGIN:VEVENT
DTSTART;TZID=America/Chicago:20230406T163000
DTEND;TZID=America/Chicago:20230406T180000
DTSTAMP:20260419T233029
CREATED:20230110T203434Z
LAST-MODIFIED:20230110T203434Z
UID:10001987-1680798600-1680804000@ynschoirs.org
SUMMARY:Brillante Rehearsal
DESCRIPTION:Community Concert Center
URL:https://ynschoirs.org/calendar/brillante-rehearsal-5/2023-04-06/
LOCATION:Community Concert Center\, 55 Concert Lane\, Naperville\, IL\, 60540
CATEGORIES:Brillante,Parents
END:VEVENT
BEGIN:VEVENT
DTSTART;TZID=America/Chicago:20230405T164500
DTEND;TZID=America/Chicago:20230405T174500
DTSTAMP:20260419T233029
CREATED:20230110T202854Z
LAST-MODIFIED:20230405T174223Z
UID:10001955-1680713100-1680716700@ynschoirs.org
SUMMARY:Primo Wednesday Rehearsal
DESCRIPTION:Community Concert Center
URL:https://ynschoirs.org/calendar/primo-wednesday-rehearsal/2023-04-05/
LOCATION:Community Concert Center\, 55 Concert Lane\, Naperville\, IL\, 60540
CATEGORIES:Parents,Primo
END:VEVENT
BEGIN:VEVENT
DTSTART;VALUE=DATE:20230405
DTEND;VALUE=DATE:20230406
DTSTAMP:20260419T233029
CREATED:20230405T174500Z
LAST-MODIFIED:20230405T174500Z
UID:10002018-1680652800-1680739199@ynschoirs.org
SUMMARY:NO Primo Wednesday Rehearsal
DESCRIPTION:No Rehearsal today…your Primo Showcase is Thursday 4/20 at 4:45pm at Martin Avenue.
URL:https://ynschoirs.org/calendar/no-primo-wednesday-rehearsal/
LOCATION:IL
CATEGORIES:Parents,Primo
END:VEVENT
BEGIN:VEVENT
DTSTART;TZID=America/Chicago:20230404T183000
DTEND;TZID=America/Chicago:20230404T200000
DTSTAMP:20260419T233029
CREATED:20230110T201710Z
LAST-MODIFIED:20230110T201710Z
UID:10001906-1680633000-1680638400@ynschoirs.org
SUMMARY:Cantabile Rehearsal
DESCRIPTION:Community Concert Center
URL:https://ynschoirs.org/calendar/cantabile-rehearsal-5/2023-04-04/
LOCATION:Community Concert Center\, 55 Concert Lane\, Naperville\, IL\, 60540
CATEGORIES:Cantabile,Parents
END:VEVENT
BEGIN:VEVENT
DTSTART;TZID=America/Chicago:20230404T181500
DTEND;TZID=America/Chicago:20230404T201500
DTSTAMP:20260419T233029
CREATED:20230110T200915Z
LAST-MODIFIED:20230110T200915Z
UID:10001875-1680632100-1680639300@ynschoirs.org
SUMMARY:Bella Voce Rehearsal
DESCRIPTION:Community Concert Center
URL:https://ynschoirs.org/calendar/bella-voce-rehearsal-5/2023-04-04/
LOCATION:Community Concert Center\, 55 Concert Lane\, Naperville\, IL\, 60540
CATEGORIES:Bella Voce,Parents
END:VEVENT
BEGIN:VEVENT
DTSTART;TZID=America/Chicago:20230404T164500
DTEND;TZID=America/Chicago:20230404T181500
DTSTAMP:20260419T233029
CREATED:20230110T202301Z
LAST-MODIFIED:20230110T202301Z
UID:10001922-1680626700-1680632100@ynschoirs.org
SUMMARY:Ragazzi Rehearsal
DESCRIPTION:Community Concert Center
URL:https://ynschoirs.org/calendar/ragazzi-rehearsal-5/2023-04-04/
LOCATION:Community Concert Center\, 55 Concert Lane\, Naperville\, IL\, 60540
CATEGORIES:Parents,Ragazzi
END:VEVENT
BEGIN:VEVENT
DTSTART;TZID=America/Chicago:20230404T163000
DTEND;TZID=America/Chicago:20230404T174500
DTSTAMP:20260419T233029
CREATED:20230110T201548Z
LAST-MODIFIED:20230405T174644Z
UID:10001891-1680625800-1680630300@ynschoirs.org
SUMMARY:Brio Rehearsal
DESCRIPTION:Community Concert Center
URL:https://ynschoirs.org/calendar/brio-rehearsal-5/2023-04-04/
LOCATION:Community Concert Center\, 55 Concert Lane\, Naperville\, IL\, 60540
CATEGORIES:Brio,Parents
END:VEVENT
BEGIN:VEVENT
DTSTART;TZID=America/Chicago:20230403T181500
DTEND;TZID=America/Chicago:20230403T201500
DTSTAMP:20260419T233029
CREATED:20230110T191334Z
LAST-MODIFIED:20230110T191334Z
UID:10001826-1680545700-1680552900@ynschoirs.org
SUMMARY:Bella Cantare Rehearsal
DESCRIPTION:Our Saviour’s Lutheran Church
URL:https://ynschoirs.org/calendar/bella-cantare-rehearsal-5/2023-04-03/
LOCATION:Our Saviour’s Lutheran Church\, 815 S. Washington Street\, Naperville\, IL\, 60540
CATEGORIES:Bella Cantare,Parents
END:VEVENT
BEGIN:VEVENT
DTSTART;TZID=America/Chicago:20230403T181500
DTEND;TZID=America/Chicago:20230403T200000
DTSTAMP:20260419T233029
CREATED:20230110T191952Z
LAST-MODIFIED:20230110T191952Z
UID:10001841-1680545700-1680552000@ynschoirs.org
SUMMARY:Canto Vivo Rehearsal
DESCRIPTION:Our Saviour’s Lutheran Church
URL:https://ynschoirs.org/calendar/canto-vivo-rehearsal-4/2023-04-03/
LOCATION:Our Saviour’s Lutheran Church\, 815 S. Washington Street\, Naperville\, IL\, 60540
CATEGORIES:Canto Vivo,Parents
END:VEVENT
BEGIN:VEVENT
DTSTART;TZID=America/Chicago:20230403T164500
DTEND;TZID=America/Chicago:20230403T174500
DTSTAMP:20260419T233029
CREATED:20230110T195652Z
LAST-MODIFIED:20230313T152848Z
UID:10001857-1680540300-1680543900@ynschoirs.org
SUMMARY:Dolce Rehearsal
DESCRIPTION:Allied First Bank – Oswego
URL:https://ynschoirs.org/calendar/dolce-rehearsal-6/2023-04-03/
LOCATION:ServBank\, 3201 Orchard Road\, Oswego\, IL\, 60543
CATEGORIES:Dolce,Parents
END:VEVENT
BEGIN:VEVENT
DTSTART;VALUE=DATE:20230327
DTEND;VALUE=DATE:20230401
DTSTAMP:20260419T233029
CREATED:20230110T202549Z
LAST-MODIFIED:20230110T202549Z
UID:10001929-1679875200-1680307199@ynschoirs.org
SUMMARY:Spring Break - No Rehearsals
DESCRIPTION:No Rehearsals for any choirs this week – Spring Break
URL:https://ynschoirs.org/calendar/spring-break-no-rehearsals/
LOCATION:IL
CATEGORIES:Aria,Bella Cantare,Bella Voce,Brillante,Brio,Cantabile,Canto Vivo,Dolce,Parents,Primo,Ragazzi
END:VEVENT
BEGIN:VEVENT
DTSTART;TZID=America/Chicago:20230323T170000
DTEND;TZID=America/Chicago:20230323T181500
DTSTAMP:20260419T233029
CREATED:20230110T203316Z
LAST-MODIFIED:20230405T174033Z
UID:10001970-1679590800-1679595300@ynschoirs.org
SUMMARY:Aria Rehearsal
DESCRIPTION:Community Concert Center
URL:https://ynschoirs.org/calendar/aria-rehearsal-5/2023-03-23/
LOCATION:Community Concert Center\, 55 Concert Lane\, Naperville\, IL\, 60540
CATEGORIES:Aria,Parents
END:VEVENT
BEGIN:VEVENT
DTSTART;TZID=America/Chicago:20230323T164500
DTEND;TZID=America/Chicago:20230323T174500
DTSTAMP:20260419T233029
CREATED:20230110T203022Z
LAST-MODIFIED:20230405T174125Z
UID:10001939-1679589900-1679593500@ynschoirs.org
SUMMARY:Primo Thursday Rehearsal
DESCRIPTION:Our Saviour’s Lutheran Church
URL:https://ynschoirs.org/calendar/primo-thursday-rehearsal/2023-03-23/
LOCATION:Our Saviour’s Lutheran Church\, 815 S. Washington Street\, Naperville\, IL\, 60540
CATEGORIES:Parents,Primo
END:VEVENT
END:VCALENDAR