BEGIN:VCALENDAR
VERSION:2.0
PRODID:-//Young Naperville Singers - ECPv6.8.0//NONSGML v1.0//EN
CALSCALE:GREGORIAN
METHOD:PUBLISH
X-WR-CALNAME:Young Naperville Singers
X-ORIGINAL-URL:https://ynschoirs.org
X-WR-CALDESC:Events for Young Naperville Singers
REFRESH-INTERVAL;VALUE=DURATION:PT1H
X-Robots-Tag:noindex
X-PUBLISHED-TTL:PT1H
BEGIN:VTIMEZONE
TZID:America/Chicago
BEGIN:DAYLIGHT
TZOFFSETFROM:-0600
TZOFFSETTO:-0500
TZNAME:CDT
DTSTART:20230312T080000
END:DAYLIGHT
BEGIN:STANDARD
TZOFFSETFROM:-0500
TZOFFSETTO:-0600
TZNAME:CST
DTSTART:20231105T070000
END:STANDARD
END:VTIMEZONE
BEGIN:VEVENT
DTSTART;TZID=America/Chicago:20230209T163000
DTEND;TZID=America/Chicago:20230209T180000
DTSTAMP:20260419T235318
CREATED:20230110T203434Z
LAST-MODIFIED:20230110T203434Z
UID:10001980-1675960200-1675965600@ynschoirs.org
SUMMARY:Brillante Rehearsal
DESCRIPTION:Community Concert Center
URL:https://ynschoirs.org/calendar/brillante-rehearsal-5/2023-02-09/
LOCATION:Community Concert Center\, 55 Concert Lane\, Naperville\, IL\, 60540
CATEGORIES:Brillante,Parents
END:VEVENT
BEGIN:VEVENT
DTSTART;TZID=America/Chicago:20230208T164500
DTEND;TZID=America/Chicago:20230208T174500
DTSTAMP:20260419T235318
CREATED:20230110T202854Z
LAST-MODIFIED:20230405T174223Z
UID:10001948-1675874700-1675878300@ynschoirs.org
SUMMARY:Primo Wednesday Rehearsal
DESCRIPTION:Community Concert Center
URL:https://ynschoirs.org/calendar/primo-wednesday-rehearsal/2023-02-08/
LOCATION:Community Concert Center\, 55 Concert Lane\, Naperville\, IL\, 60540
CATEGORIES:Parents,Primo
END:VEVENT
BEGIN:VEVENT
DTSTART;TZID=America/Chicago:20230207T183000
DTEND;TZID=America/Chicago:20230207T200000
DTSTAMP:20260419T235318
CREATED:20230110T201710Z
LAST-MODIFIED:20230110T201710Z
UID:10001899-1675794600-1675800000@ynschoirs.org
SUMMARY:Cantabile Rehearsal
DESCRIPTION:Community Concert Center
URL:https://ynschoirs.org/calendar/cantabile-rehearsal-5/2023-02-07/
LOCATION:Community Concert Center\, 55 Concert Lane\, Naperville\, IL\, 60540
CATEGORIES:Cantabile,Parents
END:VEVENT
BEGIN:VEVENT
DTSTART;TZID=America/Chicago:20230207T181500
DTEND;TZID=America/Chicago:20230207T201500
DTSTAMP:20260419T235318
CREATED:20230110T200915Z
LAST-MODIFIED:20230110T200915Z
UID:10001868-1675793700-1675800900@ynschoirs.org
SUMMARY:Bella Voce Rehearsal
DESCRIPTION:Community Concert Center
URL:https://ynschoirs.org/calendar/bella-voce-rehearsal-5/2023-02-07/
LOCATION:Community Concert Center\, 55 Concert Lane\, Naperville\, IL\, 60540
CATEGORIES:Bella Voce,Parents
END:VEVENT
BEGIN:VEVENT
DTSTART;TZID=America/Chicago:20230207T164500
DTEND;TZID=America/Chicago:20230207T181500
DTSTAMP:20260419T235318
CREATED:20230110T202301Z
LAST-MODIFIED:20230110T202301Z
UID:10001915-1675788300-1675793700@ynschoirs.org
SUMMARY:Ragazzi Rehearsal
DESCRIPTION:Community Concert Center
URL:https://ynschoirs.org/calendar/ragazzi-rehearsal-5/2023-02-07/
LOCATION:Community Concert Center\, 55 Concert Lane\, Naperville\, IL\, 60540
CATEGORIES:Parents,Ragazzi
END:VEVENT
BEGIN:VEVENT
DTSTART;TZID=America/Chicago:20230207T163000
DTEND;TZID=America/Chicago:20230207T174500
DTSTAMP:20260419T235318
CREATED:20230110T201548Z
LAST-MODIFIED:20230405T174644Z
UID:10001884-1675787400-1675791900@ynschoirs.org
SUMMARY:Brio Rehearsal
DESCRIPTION:Community Concert Center
URL:https://ynschoirs.org/calendar/brio-rehearsal-5/2023-02-07/
LOCATION:Community Concert Center\, 55 Concert Lane\, Naperville\, IL\, 60540
CATEGORIES:Brio,Parents
END:VEVENT
BEGIN:VEVENT
DTSTART;TZID=America/Chicago:20230206T181500
DTEND;TZID=America/Chicago:20230206T201500
DTSTAMP:20260419T235318
CREATED:20230110T191334Z
LAST-MODIFIED:20230110T191334Z
UID:10001820-1675707300-1675714500@ynschoirs.org
SUMMARY:Bella Cantare Rehearsal
DESCRIPTION:Our Saviour’s Lutheran Church
URL:https://ynschoirs.org/calendar/bella-cantare-rehearsal-5/2023-02-06/
LOCATION:Our Saviour’s Lutheran Church\, 815 S. Washington Street\, Naperville\, IL\, 60540
CATEGORIES:Bella Cantare,Parents
END:VEVENT
BEGIN:VEVENT
DTSTART;TZID=America/Chicago:20230206T181500
DTEND;TZID=America/Chicago:20230206T200000
DTSTAMP:20260419T235318
CREATED:20230110T191952Z
LAST-MODIFIED:20230110T191952Z
UID:10001835-1675707300-1675713600@ynschoirs.org
SUMMARY:Canto Vivo Rehearsal
DESCRIPTION:Our Saviour’s Lutheran Church
URL:https://ynschoirs.org/calendar/canto-vivo-rehearsal-4/2023-02-06/
LOCATION:Our Saviour’s Lutheran Church\, 815 S. Washington Street\, Naperville\, IL\, 60540
CATEGORIES:Canto Vivo,Parents
END:VEVENT
BEGIN:VEVENT
DTSTART;TZID=America/Chicago:20230206T164500
DTEND;TZID=America/Chicago:20230206T174500
DTSTAMP:20260419T235318
CREATED:20230110T195652Z
LAST-MODIFIED:20230313T152848Z
UID:10001851-1675701900-1675705500@ynschoirs.org
SUMMARY:Dolce Rehearsal
DESCRIPTION:Allied First Bank – Oswego
URL:https://ynschoirs.org/calendar/dolce-rehearsal-6/2023-02-06/
LOCATION:ServBank\, 3201 Orchard Road\, Oswego\, IL\, 60543
CATEGORIES:Dolce,Parents
END:VEVENT
BEGIN:VEVENT
DTSTART;TZID=America/Chicago:20230204T081500
DTEND;TZID=America/Chicago:20230204T140000
DTSTAMP:20260419T235318
CREATED:20230110T203640Z
LAST-MODIFIED:20230316T154311Z
UID:10001995-1675498500-1675519200@ynschoirs.org
SUMMARY:Sing & Celebrate Honor Choir Festival
DESCRIPTION:Sing & Celebrate Honor Choir Festival \n\nCantabile\, Ragazzi & Brillante will be participating\n8:15am arrival at Wentz Concert Hall\n1:30pm Parent Concert\nLunch will be served
URL:https://ynschoirs.org/calendar/sing-celebrate-honor-choir-festival/
LOCATION:Wentz Concert Hall\, 171 E Chicago Avenue\, Naperville\, IL\, 60540
CATEGORIES:Brillante,Cantabile,Community Events,Parents,Ragazzi
END:VEVENT
BEGIN:VEVENT
DTSTART;TZID=America/Chicago:20230204T073000
DTEND;TZID=America/Chicago:20230204T073000
DTSTAMP:20260419T235318
CREATED:20230111T154407Z
LAST-MODIFIED:20230316T154311Z
UID:10001506-1675495800-1675495800@ynschoirs.org
SUMMARY:Stone Soup Concert
DESCRIPTION:Stone Soup Concert\n\nBella Cantare\, Bella Voce & Canto Vivo\nWentz Concert Hall\nLate Afternoon Arrival (Time TBD) – 7:30pm Ticketed Concert\n\n 
URL:https://ynschoirs.org/calendar/stone-soup-concert/
LOCATION:IL
CATEGORIES:Bella Cantare,Bella Voce,Canto Vivo,Community Events,Parents
END:VEVENT
BEGIN:VEVENT
DTSTART;TZID=America/Chicago:20230202T170000
DTEND;TZID=America/Chicago:20230202T181500
DTSTAMP:20260419T235318
CREATED:20230110T203316Z
LAST-MODIFIED:20230405T174033Z
UID:10001963-1675357200-1675361700@ynschoirs.org
SUMMARY:Aria Rehearsal
DESCRIPTION:Community Concert Center
URL:https://ynschoirs.org/calendar/aria-rehearsal-5/2023-02-02/
LOCATION:Community Concert Center\, 55 Concert Lane\, Naperville\, IL\, 60540
CATEGORIES:Aria,Parents
END:VEVENT
BEGIN:VEVENT
DTSTART;TZID=America/Chicago:20230202T164500
DTEND;TZID=America/Chicago:20230202T174500
DTSTAMP:20260419T235318
CREATED:20230110T203022Z
LAST-MODIFIED:20230405T174125Z
UID:10001932-1675356300-1675359900@ynschoirs.org
SUMMARY:Primo Thursday Rehearsal
DESCRIPTION:Our Saviour’s Lutheran Church
URL:https://ynschoirs.org/calendar/primo-thursday-rehearsal/2023-02-02/
LOCATION:Our Saviour’s Lutheran Church\, 815 S. Washington Street\, Naperville\, IL\, 60540
CATEGORIES:Parents,Primo
END:VEVENT
BEGIN:VEVENT
DTSTART;TZID=America/Chicago:20230202T163000
DTEND;TZID=America/Chicago:20230202T180000
DTSTAMP:20260419T235318
CREATED:20230110T203434Z
LAST-MODIFIED:20230110T203434Z
UID:10001979-1675355400-1675360800@ynschoirs.org
SUMMARY:Brillante Rehearsal
DESCRIPTION:Community Concert Center
URL:https://ynschoirs.org/calendar/brillante-rehearsal-5/2023-02-02/
LOCATION:Community Concert Center\, 55 Concert Lane\, Naperville\, IL\, 60540
CATEGORIES:Brillante,Parents
END:VEVENT
BEGIN:VEVENT
DTSTART;TZID=America/Chicago:20230201T164500
DTEND;TZID=America/Chicago:20230201T174500
DTSTAMP:20260419T235318
CREATED:20230110T202854Z
LAST-MODIFIED:20230405T174223Z
UID:10001947-1675269900-1675273500@ynschoirs.org
SUMMARY:Primo Wednesday Rehearsal
DESCRIPTION:Community Concert Center
URL:https://ynschoirs.org/calendar/primo-wednesday-rehearsal/2023-02-01/
LOCATION:Community Concert Center\, 55 Concert Lane\, Naperville\, IL\, 60540
CATEGORIES:Parents,Primo
END:VEVENT
BEGIN:VEVENT
DTSTART;TZID=America/Chicago:20230131T183000
DTEND;TZID=America/Chicago:20230131T200000
DTSTAMP:20260419T235318
CREATED:20230110T201710Z
LAST-MODIFIED:20230110T201710Z
UID:10001898-1675189800-1675195200@ynschoirs.org
SUMMARY:Cantabile Rehearsal
DESCRIPTION:Community Concert Center
URL:https://ynschoirs.org/calendar/cantabile-rehearsal-5/2023-01-31/
LOCATION:Community Concert Center\, 55 Concert Lane\, Naperville\, IL\, 60540
CATEGORIES:Cantabile,Parents
END:VEVENT
BEGIN:VEVENT
DTSTART;TZID=America/Chicago:20230131T181500
DTEND;TZID=America/Chicago:20230131T201500
DTSTAMP:20260419T235318
CREATED:20230110T200915Z
LAST-MODIFIED:20230110T200915Z
UID:10001867-1675188900-1675196100@ynschoirs.org
SUMMARY:Bella Voce Rehearsal
DESCRIPTION:Community Concert Center
URL:https://ynschoirs.org/calendar/bella-voce-rehearsal-5/2023-01-31/
LOCATION:Community Concert Center\, 55 Concert Lane\, Naperville\, IL\, 60540
CATEGORIES:Bella Voce,Parents
END:VEVENT
BEGIN:VEVENT
DTSTART;TZID=America/Chicago:20230131T164500
DTEND;TZID=America/Chicago:20230131T181500
DTSTAMP:20260419T235318
CREATED:20230110T202301Z
LAST-MODIFIED:20230110T202301Z
UID:10001914-1675183500-1675188900@ynschoirs.org
SUMMARY:Ragazzi Rehearsal
DESCRIPTION:Community Concert Center
URL:https://ynschoirs.org/calendar/ragazzi-rehearsal-5/2023-01-31/
LOCATION:Community Concert Center\, 55 Concert Lane\, Naperville\, IL\, 60540
CATEGORIES:Parents,Ragazzi
END:VEVENT
BEGIN:VEVENT
DTSTART;TZID=America/Chicago:20230131T163000
DTEND;TZID=America/Chicago:20230131T174500
DTSTAMP:20260419T235318
CREATED:20230110T201548Z
LAST-MODIFIED:20230405T174644Z
UID:10001883-1675182600-1675187100@ynschoirs.org
SUMMARY:Brio Rehearsal
DESCRIPTION:Community Concert Center
URL:https://ynschoirs.org/calendar/brio-rehearsal-5/2023-01-31/
LOCATION:Community Concert Center\, 55 Concert Lane\, Naperville\, IL\, 60540
CATEGORIES:Brio,Parents
END:VEVENT
BEGIN:VEVENT
DTSTART;TZID=America/Chicago:20230130T181500
DTEND;TZID=America/Chicago:20230130T201500
DTSTAMP:20260419T235318
CREATED:20230110T191334Z
LAST-MODIFIED:20230110T191334Z
UID:10001819-1675102500-1675109700@ynschoirs.org
SUMMARY:Bella Cantare Rehearsal
DESCRIPTION:Our Saviour’s Lutheran Church
URL:https://ynschoirs.org/calendar/bella-cantare-rehearsal-5/2023-01-30/
LOCATION:Our Saviour’s Lutheran Church\, 815 S. Washington Street\, Naperville\, IL\, 60540
CATEGORIES:Bella Cantare,Parents
END:VEVENT
BEGIN:VEVENT
DTSTART;TZID=America/Chicago:20230130T181500
DTEND;TZID=America/Chicago:20230130T200000
DTSTAMP:20260419T235318
CREATED:20230110T191952Z
LAST-MODIFIED:20230110T191952Z
UID:10001834-1675102500-1675108800@ynschoirs.org
SUMMARY:Canto Vivo Rehearsal
DESCRIPTION:Our Saviour’s Lutheran Church
URL:https://ynschoirs.org/calendar/canto-vivo-rehearsal-4/2023-01-30/
LOCATION:Our Saviour’s Lutheran Church\, 815 S. Washington Street\, Naperville\, IL\, 60540
CATEGORIES:Canto Vivo,Parents
END:VEVENT
BEGIN:VEVENT
DTSTART;TZID=America/Chicago:20230130T164500
DTEND;TZID=America/Chicago:20230130T174500
DTSTAMP:20260419T235318
CREATED:20230110T195652Z
LAST-MODIFIED:20230313T152848Z
UID:10001850-1675097100-1675100700@ynschoirs.org
SUMMARY:Dolce Rehearsal
DESCRIPTION:Allied First Bank – Oswego
URL:https://ynschoirs.org/calendar/dolce-rehearsal-6/2023-01-30/
LOCATION:ServBank\, 3201 Orchard Road\, Oswego\, IL\, 60543
CATEGORIES:Dolce,Parents
END:VEVENT
BEGIN:VEVENT
DTSTART;TZID=America/Chicago:20230126T170000
DTEND;TZID=America/Chicago:20230126T181500
DTSTAMP:20260419T235318
CREATED:20230110T203316Z
LAST-MODIFIED:20230405T174033Z
UID:10001962-1674752400-1674756900@ynschoirs.org
SUMMARY:Aria Rehearsal
DESCRIPTION:Community Concert Center
URL:https://ynschoirs.org/calendar/aria-rehearsal-5/2023-01-26/
LOCATION:Community Concert Center\, 55 Concert Lane\, Naperville\, IL\, 60540
CATEGORIES:Aria,Parents
END:VEVENT
BEGIN:VEVENT
DTSTART;TZID=America/Chicago:20230126T164500
DTEND;TZID=America/Chicago:20230126T174500
DTSTAMP:20260419T235318
CREATED:20230110T203022Z
LAST-MODIFIED:20230405T174125Z
UID:10001931-1674751500-1674755100@ynschoirs.org
SUMMARY:Primo Thursday Rehearsal
DESCRIPTION:Our Saviour’s Lutheran Church
URL:https://ynschoirs.org/calendar/primo-thursday-rehearsal/2023-01-26/
LOCATION:Our Saviour’s Lutheran Church\, 815 S. Washington Street\, Naperville\, IL\, 60540
CATEGORIES:Parents,Primo
END:VEVENT
BEGIN:VEVENT
DTSTART;TZID=America/Chicago:20230126T163000
DTEND;TZID=America/Chicago:20230126T180000
DTSTAMP:20260419T235318
CREATED:20230110T203434Z
LAST-MODIFIED:20230110T203434Z
UID:10001978-1674750600-1674756000@ynschoirs.org
SUMMARY:Brillante Rehearsal
DESCRIPTION:Community Concert Center
URL:https://ynschoirs.org/calendar/brillante-rehearsal-5/2023-01-26/
LOCATION:Community Concert Center\, 55 Concert Lane\, Naperville\, IL\, 60540
CATEGORIES:Brillante,Parents
END:VEVENT
BEGIN:VEVENT
DTSTART;TZID=America/Chicago:20230125T164500
DTEND;TZID=America/Chicago:20230125T174500
DTSTAMP:20260419T235318
CREATED:20230110T202854Z
LAST-MODIFIED:20230405T174223Z
UID:10001946-1674665100-1674668700@ynschoirs.org
SUMMARY:Primo Wednesday Rehearsal
DESCRIPTION:Community Concert Center
URL:https://ynschoirs.org/calendar/primo-wednesday-rehearsal/2023-01-25/
LOCATION:Community Concert Center\, 55 Concert Lane\, Naperville\, IL\, 60540
CATEGORIES:Parents,Primo
END:VEVENT
BEGIN:VEVENT
DTSTART;TZID=America/Chicago:20230124T183000
DTEND;TZID=America/Chicago:20230124T200000
DTSTAMP:20260419T235318
CREATED:20230110T201710Z
LAST-MODIFIED:20230110T201710Z
UID:10001897-1674585000-1674590400@ynschoirs.org
SUMMARY:Cantabile Rehearsal
DESCRIPTION:Community Concert Center
URL:https://ynschoirs.org/calendar/cantabile-rehearsal-5/2023-01-24/
LOCATION:Community Concert Center\, 55 Concert Lane\, Naperville\, IL\, 60540
CATEGORIES:Cantabile,Parents
END:VEVENT
BEGIN:VEVENT
DTSTART;TZID=America/Chicago:20230124T181500
DTEND;TZID=America/Chicago:20230124T201500
DTSTAMP:20260419T235318
CREATED:20230110T200915Z
LAST-MODIFIED:20230110T200915Z
UID:10001866-1674584100-1674591300@ynschoirs.org
SUMMARY:Bella Voce Rehearsal
DESCRIPTION:Community Concert Center
URL:https://ynschoirs.org/calendar/bella-voce-rehearsal-5/2023-01-24/
LOCATION:Community Concert Center\, 55 Concert Lane\, Naperville\, IL\, 60540
CATEGORIES:Bella Voce,Parents
END:VEVENT
BEGIN:VEVENT
DTSTART;TZID=America/Chicago:20230124T164500
DTEND;TZID=America/Chicago:20230124T181500
DTSTAMP:20260419T235318
CREATED:20230110T202301Z
LAST-MODIFIED:20230110T202301Z
UID:10001913-1674578700-1674584100@ynschoirs.org
SUMMARY:Ragazzi Rehearsal
DESCRIPTION:Community Concert Center
URL:https://ynschoirs.org/calendar/ragazzi-rehearsal-5/2023-01-24/
LOCATION:Community Concert Center\, 55 Concert Lane\, Naperville\, IL\, 60540
CATEGORIES:Parents,Ragazzi
END:VEVENT
BEGIN:VEVENT
DTSTART;TZID=America/Chicago:20230124T163000
DTEND;TZID=America/Chicago:20230124T174500
DTSTAMP:20260419T235318
CREATED:20230110T201548Z
LAST-MODIFIED:20230405T174644Z
UID:10001882-1674577800-1674582300@ynschoirs.org
SUMMARY:Brio Rehearsal
DESCRIPTION:Community Concert Center
URL:https://ynschoirs.org/calendar/brio-rehearsal-5/2023-01-24/
LOCATION:Community Concert Center\, 55 Concert Lane\, Naperville\, IL\, 60540
CATEGORIES:Brio,Parents
END:VEVENT
END:VCALENDAR