BEGIN:VCALENDAR
VERSION:2.0
PRODID:-//Young Naperville Singers - ECPv6.8.0//NONSGML v1.0//EN
CALSCALE:GREGORIAN
METHOD:PUBLISH
X-WR-CALNAME:Young Naperville Singers
X-ORIGINAL-URL:https://ynschoirs.org
X-WR-CALDESC:Events for Young Naperville Singers
REFRESH-INTERVAL;VALUE=DURATION:PT1H
X-Robots-Tag:noindex
X-PUBLISHED-TTL:PT1H
BEGIN:VTIMEZONE
TZID:America/Chicago
BEGIN:DAYLIGHT
TZOFFSETFROM:-0600
TZOFFSETTO:-0500
TZNAME:CDT
DTSTART:20220313T080000
END:DAYLIGHT
BEGIN:STANDARD
TZOFFSETFROM:-0500
TZOFFSETTO:-0600
TZNAME:CST
DTSTART:20221106T070000
END:STANDARD
END:VTIMEZONE
BEGIN:VEVENT
DTSTART;TZID=America/Chicago:20221103T170000
DTEND;TZID=America/Chicago:20221103T181500
DTSTAMP:20260420T171846
CREATED:20220804T183625Z
LAST-MODIFIED:20220804T183625Z
UID:10001786-1667494800-1667499300@ynschoirs.org
SUMMARY:Aria Rehearsal
DESCRIPTION:Community Concert Center
URL:https://ynschoirs.org/calendar/aria-rehearsal-4/2022-11-03/
LOCATION:Community Concert Center\, 55 Concert Lane\, Naperville\, IL\, 60540
CATEGORIES:Aria,Parents
END:VEVENT
BEGIN:VEVENT
DTSTART;TZID=America/Chicago:20221103T164500
DTEND;TZID=America/Chicago:20221103T174500
DTSTAMP:20260420T171846
CREATED:20220804T183138Z
LAST-MODIFIED:20220901T024524Z
UID:10001771-1667493900-1667497500@ynschoirs.org
SUMMARY:Primo Thursday Rehearsal
DESCRIPTION:Our Saviour’s Church
URL:https://ynschoirs.org/calendar/primo-2-rehearsal/2022-11-03/
LOCATION:Our Saviour’s Lutheran Church\, 815 S. Washington Street\, Naperville\, IL\, 60540
CATEGORIES:Parents,Primo
END:VEVENT
BEGIN:VEVENT
DTSTART;TZID=America/Chicago:20221103T163000
DTEND;TZID=America/Chicago:20221103T180000
DTSTAMP:20260420T171846
CREATED:20220804T183744Z
LAST-MODIFIED:20220804T183744Z
UID:10001802-1667493000-1667498400@ynschoirs.org
SUMMARY:Brillante Rehearsal
DESCRIPTION:Community Concert Center
URL:https://ynschoirs.org/calendar/brillante-rehearsal-4/2022-11-03/
LOCATION:Community Concert Center\, 55 Concert Lane\, Naperville\, IL\, 60540
CATEGORIES:Brillante,Parents
END:VEVENT
BEGIN:VEVENT
DTSTART;TZID=America/Chicago:20221102T164500
DTEND;TZID=America/Chicago:20221102T174500
DTSTAMP:20260420T171846
CREATED:20220804T182750Z
LAST-MODIFIED:20220901T024655Z
UID:10001756-1667407500-1667411100@ynschoirs.org
SUMMARY:Primo Wednesday Rehearsal
DESCRIPTION:Community Concert Center
URL:https://ynschoirs.org/calendar/primo-1-rehearsal/2022-11-02/
LOCATION:Community Concert Center\, 55 Concert Lane\, Naperville\, IL\, 60540
CATEGORIES:Parents,Primo
END:VEVENT
BEGIN:VEVENT
DTSTART;TZID=America/Chicago:20221101T183000
DTEND;TZID=America/Chicago:20221101T200000
DTSTAMP:20260420T171846
CREATED:20220804T182516Z
LAST-MODIFIED:20220804T182516Z
UID:10001740-1667327400-1667332800@ynschoirs.org
SUMMARY:Cantabile Rehearsal
DESCRIPTION:Community Concert Center
URL:https://ynschoirs.org/calendar/cantabile-rehearsal-4/2022-11-01/
LOCATION:Community Concert Center\, 55 Concert Lane\, Naperville\, IL\, 60540
CATEGORIES:Cantabile,Parents
END:VEVENT
BEGIN:VEVENT
DTSTART;TZID=America/Chicago:20221101T181500
DTEND;TZID=America/Chicago:20221101T201500
DTSTAMP:20260420T171846
CREATED:20220804T173855Z
LAST-MODIFIED:20220804T173855Z
UID:10001391-1667326500-1667333700@ynschoirs.org
SUMMARY:Bella Voce Rehearsal
DESCRIPTION:Community Concert Center
URL:https://ynschoirs.org/calendar/bella-voce-rehearsal-4/2022-11-01/
LOCATION:Community Concert Center\, 55 Concert Lane\, Naperville\, IL\, 60540
CATEGORIES:Bella Voce,Parents
END:VEVENT
BEGIN:VEVENT
DTSTART;TZID=America/Chicago:20221101T164500
DTEND;TZID=America/Chicago:20221101T181500
DTSTAMP:20260420T171846
CREATED:20220804T174509Z
LAST-MODIFIED:20220804T174509Z
UID:10001724-1667321100-1667326500@ynschoirs.org
SUMMARY:Ragazzi Rehearsal
DESCRIPTION:Community Concert Center
URL:https://ynschoirs.org/calendar/ragazzi-rehearsal-4/2022-11-01/
LOCATION:Community Concert Center\, 55 Concert Lane\, Naperville\, IL\, 60540
CATEGORIES:Parents,Ragazzi
END:VEVENT
BEGIN:VEVENT
DTSTART;TZID=America/Chicago:20221101T163000
DTEND;TZID=America/Chicago:20221101T174500
DTSTAMP:20260420T171846
CREATED:20220804T174654Z
LAST-MODIFIED:20220804T174654Z
UID:10001708-1667320200-1667324700@ynschoirs.org
SUMMARY:Brio Rehearsal
DESCRIPTION:Community Concert Center
URL:https://ynschoirs.org/calendar/brio-rehearsal-4/2022-11-01/
LOCATION:Community Concert Center\, 55 Concert Lane\, Naperville\, IL\, 60540
CATEGORIES:Brio,Parents
END:VEVENT
BEGIN:VEVENT
DTSTART;TZID=America/Chicago:20221031T181500
DTEND;TZID=America/Chicago:20221031T201500
DTSTAMP:20260420T171846
CREATED:20220804T172343Z
LAST-MODIFIED:20220804T172505Z
UID:10001346-1667240100-1667247300@ynschoirs.org
SUMMARY:Bella Cantare Rehearsal
DESCRIPTION:Our Saviour’s Church
URL:https://ynschoirs.org/calendar/bella-cantare-rehearsal-3/2022-10-31/
LOCATION:Our Saviour’s Lutheran Church\, 815 S. Washington Street\, Naperville\, IL\, 60540
CATEGORIES:Bella Cantare,Parents
END:VEVENT
BEGIN:VEVENT
DTSTART;TZID=America/Chicago:20221031T181500
DTEND;TZID=America/Chicago:20221031T200000
DTSTAMP:20260420T171846
CREATED:20220804T173422Z
LAST-MODIFIED:20220816T163155Z
UID:10001362-1667240100-1667246400@ynschoirs.org
SUMMARY:Canto Vivo Rehearsal
DESCRIPTION:Our Saviour’s Church
URL:https://ynschoirs.org/calendar/canto-vivo-rehearsal-3/2022-10-31/
LOCATION:Our Saviour’s Lutheran Church\, 815 S. Washington Street\, Naperville\, IL\, 60540
CATEGORIES:Canto Vivo,Parents
END:VEVENT
BEGIN:VEVENT
DTSTART;VALUE=DATE:20221031
DTEND;VALUE=DATE:20221101
DTSTAMP:20260420T171846
CREATED:20220804T184649Z
LAST-MODIFIED:20220804T184825Z
UID:10001813-1667174400-1667260799@ynschoirs.org
SUMMARY:No Rehearsal - Dolce
DESCRIPTION:Halloween
URL:https://ynschoirs.org/calendar/no-rehearsal-dolce/
LOCATION:IL
CATEGORIES:Dolce,Parents
END:VEVENT
BEGIN:VEVENT
DTSTART;TZID=America/Chicago:20221027T170000
DTEND;TZID=America/Chicago:20221027T181500
DTSTAMP:20260420T171846
CREATED:20220804T183625Z
LAST-MODIFIED:20220804T183625Z
UID:10001785-1666890000-1666894500@ynschoirs.org
SUMMARY:Aria Rehearsal
DESCRIPTION:Community Concert Center
URL:https://ynschoirs.org/calendar/aria-rehearsal-4/2022-10-27/
LOCATION:Community Concert Center\, 55 Concert Lane\, Naperville\, IL\, 60540
CATEGORIES:Aria,Parents
END:VEVENT
BEGIN:VEVENT
DTSTART;TZID=America/Chicago:20221027T164500
DTEND;TZID=America/Chicago:20221027T174500
DTSTAMP:20260420T171846
CREATED:20220804T183138Z
LAST-MODIFIED:20220901T024524Z
UID:10001770-1666889100-1666892700@ynschoirs.org
SUMMARY:Primo Thursday Rehearsal
DESCRIPTION:Our Saviour’s Church
URL:https://ynschoirs.org/calendar/primo-2-rehearsal/2022-10-27/
LOCATION:Our Saviour’s Lutheran Church\, 815 S. Washington Street\, Naperville\, IL\, 60540
CATEGORIES:Parents,Primo
END:VEVENT
BEGIN:VEVENT
DTSTART;TZID=America/Chicago:20221027T163000
DTEND;TZID=America/Chicago:20221027T180000
DTSTAMP:20260420T171846
CREATED:20220804T183744Z
LAST-MODIFIED:20220804T183744Z
UID:10001801-1666888200-1666893600@ynschoirs.org
SUMMARY:Brillante Rehearsal
DESCRIPTION:Community Concert Center
URL:https://ynschoirs.org/calendar/brillante-rehearsal-4/2022-10-27/
LOCATION:Community Concert Center\, 55 Concert Lane\, Naperville\, IL\, 60540
CATEGORIES:Brillante,Parents
END:VEVENT
BEGIN:VEVENT
DTSTART;TZID=America/Chicago:20221026T164500
DTEND;TZID=America/Chicago:20221026T174500
DTSTAMP:20260420T171846
CREATED:20220804T182750Z
LAST-MODIFIED:20220901T024655Z
UID:10001755-1666802700-1666806300@ynschoirs.org
SUMMARY:Primo Wednesday Rehearsal
DESCRIPTION:Community Concert Center
URL:https://ynschoirs.org/calendar/primo-1-rehearsal/2022-10-26/
LOCATION:Community Concert Center\, 55 Concert Lane\, Naperville\, IL\, 60540
CATEGORIES:Parents,Primo
END:VEVENT
BEGIN:VEVENT
DTSTART;TZID=America/Chicago:20221025T183000
DTEND;TZID=America/Chicago:20221025T200000
DTSTAMP:20260420T171846
CREATED:20220804T182516Z
LAST-MODIFIED:20220804T182516Z
UID:10001739-1666722600-1666728000@ynschoirs.org
SUMMARY:Cantabile Rehearsal
DESCRIPTION:Community Concert Center
URL:https://ynschoirs.org/calendar/cantabile-rehearsal-4/2022-10-25/
LOCATION:Community Concert Center\, 55 Concert Lane\, Naperville\, IL\, 60540
CATEGORIES:Cantabile,Parents
END:VEVENT
BEGIN:VEVENT
DTSTART;TZID=America/Chicago:20221025T181500
DTEND;TZID=America/Chicago:20221025T201500
DTSTAMP:20260420T171846
CREATED:20220804T173855Z
LAST-MODIFIED:20220804T173855Z
UID:10001390-1666721700-1666728900@ynschoirs.org
SUMMARY:Bella Voce Rehearsal
DESCRIPTION:Community Concert Center
URL:https://ynschoirs.org/calendar/bella-voce-rehearsal-4/2022-10-25/
LOCATION:Community Concert Center\, 55 Concert Lane\, Naperville\, IL\, 60540
CATEGORIES:Bella Voce,Parents
END:VEVENT
BEGIN:VEVENT
DTSTART;TZID=America/Chicago:20221025T164500
DTEND;TZID=America/Chicago:20221025T181500
DTSTAMP:20260420T171846
CREATED:20220804T174509Z
LAST-MODIFIED:20220804T174509Z
UID:10001723-1666716300-1666721700@ynschoirs.org
SUMMARY:Ragazzi Rehearsal
DESCRIPTION:Community Concert Center
URL:https://ynschoirs.org/calendar/ragazzi-rehearsal-4/2022-10-25/
LOCATION:Community Concert Center\, 55 Concert Lane\, Naperville\, IL\, 60540
CATEGORIES:Parents,Ragazzi
END:VEVENT
BEGIN:VEVENT
DTSTART;TZID=America/Chicago:20221025T163000
DTEND;TZID=America/Chicago:20221025T174500
DTSTAMP:20260420T171846
CREATED:20220804T174654Z
LAST-MODIFIED:20220804T174654Z
UID:10001707-1666715400-1666719900@ynschoirs.org
SUMMARY:Brio Rehearsal
DESCRIPTION:Community Concert Center
URL:https://ynschoirs.org/calendar/brio-rehearsal-4/2022-10-25/
LOCATION:Community Concert Center\, 55 Concert Lane\, Naperville\, IL\, 60540
CATEGORIES:Brio,Parents
END:VEVENT
BEGIN:VEVENT
DTSTART;TZID=America/Chicago:20221024T181500
DTEND;TZID=America/Chicago:20221024T201500
DTSTAMP:20260420T171846
CREATED:20220804T172343Z
LAST-MODIFIED:20220804T172505Z
UID:10001345-1666635300-1666642500@ynschoirs.org
SUMMARY:Bella Cantare Rehearsal
DESCRIPTION:Our Saviour’s Church
URL:https://ynschoirs.org/calendar/bella-cantare-rehearsal-3/2022-10-24/
LOCATION:Our Saviour’s Lutheran Church\, 815 S. Washington Street\, Naperville\, IL\, 60540
CATEGORIES:Bella Cantare,Parents
END:VEVENT
BEGIN:VEVENT
DTSTART;TZID=America/Chicago:20221024T181500
DTEND;TZID=America/Chicago:20221024T200000
DTSTAMP:20260420T171846
CREATED:20220804T173422Z
LAST-MODIFIED:20220816T163155Z
UID:10001361-1666635300-1666641600@ynschoirs.org
SUMMARY:Canto Vivo Rehearsal
DESCRIPTION:Our Saviour’s Church
URL:https://ynschoirs.org/calendar/canto-vivo-rehearsal-3/2022-10-24/
LOCATION:Our Saviour’s Lutheran Church\, 815 S. Washington Street\, Naperville\, IL\, 60540
CATEGORIES:Canto Vivo,Parents
END:VEVENT
BEGIN:VEVENT
DTSTART;TZID=America/Chicago:20221024T164500
DTEND;TZID=America/Chicago:20221024T174500
DTSTAMP:20260420T171846
CREATED:20220804T174212Z
LAST-MODIFIED:20220804T184555Z
UID:10001405-1666629900-1666633500@ynschoirs.org
SUMMARY:Dolce Rehearsal
DESCRIPTION:Allied First Bank – Oswego
URL:https://ynschoirs.org/calendar/dolce-rehearsal-5/2022-10-24/
LOCATION:ServBank\, 3201 Orchard Road\, Oswego\, IL\, 60543
CATEGORIES:Dolce,Parents
END:VEVENT
BEGIN:VEVENT
DTSTART;VALUE=DATE:20221022
DTEND;VALUE=DATE:20221023
DTSTAMP:20260420T171846
CREATED:20220801T203305Z
LAST-MODIFIED:20220801T203305Z
UID:10001692-1666396800-1666483199@ynschoirs.org
SUMMARY:Fall Fest
DESCRIPTION:Each YNS Choir will have a time slot.  A schedule will come out closer to the date.  Plan for morning/early afternoon.
URL:https://ynschoirs.org/calendar/fall-fest/
LOCATION:St. Timothy Church\, 1313 N. Mill Street\, Naperville\, IL\, 60563
CATEGORIES:Aria,Bella Cantare,Bella Voce,Brillante,Brio,Cantabile,Canto Vivo,Dolce,Parents,Primo,Ragazzi
END:VEVENT
BEGIN:VEVENT
DTSTART;TZID=America/Chicago:20221020T170000
DTEND;TZID=America/Chicago:20221020T181500
DTSTAMP:20260420T171846
CREATED:20220804T183625Z
LAST-MODIFIED:20220804T183625Z
UID:10001784-1666285200-1666289700@ynschoirs.org
SUMMARY:Aria Rehearsal
DESCRIPTION:Community Concert Center
URL:https://ynschoirs.org/calendar/aria-rehearsal-4/2022-10-20/
LOCATION:Community Concert Center\, 55 Concert Lane\, Naperville\, IL\, 60540
CATEGORIES:Aria,Parents
END:VEVENT
BEGIN:VEVENT
DTSTART;TZID=America/Chicago:20221020T164500
DTEND;TZID=America/Chicago:20221020T174500
DTSTAMP:20260420T171846
CREATED:20220804T183138Z
LAST-MODIFIED:20220901T024524Z
UID:10001769-1666284300-1666287900@ynschoirs.org
SUMMARY:Primo Thursday Rehearsal
DESCRIPTION:Our Saviour’s Church
URL:https://ynschoirs.org/calendar/primo-2-rehearsal/2022-10-20/
LOCATION:Our Saviour’s Lutheran Church\, 815 S. Washington Street\, Naperville\, IL\, 60540
CATEGORIES:Parents,Primo
END:VEVENT
BEGIN:VEVENT
DTSTART;TZID=America/Chicago:20221020T163000
DTEND;TZID=America/Chicago:20221020T180000
DTSTAMP:20260420T171846
CREATED:20220804T183744Z
LAST-MODIFIED:20220804T183744Z
UID:10001800-1666283400-1666288800@ynschoirs.org
SUMMARY:Brillante Rehearsal
DESCRIPTION:Community Concert Center
URL:https://ynschoirs.org/calendar/brillante-rehearsal-4/2022-10-20/
LOCATION:Community Concert Center\, 55 Concert Lane\, Naperville\, IL\, 60540
CATEGORIES:Brillante,Parents
END:VEVENT
BEGIN:VEVENT
DTSTART;TZID=America/Chicago:20221019T164500
DTEND;TZID=America/Chicago:20221019T174500
DTSTAMP:20260420T171846
CREATED:20220804T182750Z
LAST-MODIFIED:20220901T024655Z
UID:10001754-1666197900-1666201500@ynschoirs.org
SUMMARY:Primo Wednesday Rehearsal
DESCRIPTION:Community Concert Center
URL:https://ynschoirs.org/calendar/primo-1-rehearsal/2022-10-19/
LOCATION:Community Concert Center\, 55 Concert Lane\, Naperville\, IL\, 60540
CATEGORIES:Parents,Primo
END:VEVENT
BEGIN:VEVENT
DTSTART;TZID=America/Chicago:20221018T183000
DTEND;TZID=America/Chicago:20221018T200000
DTSTAMP:20260420T171846
CREATED:20220804T182516Z
LAST-MODIFIED:20220804T182516Z
UID:10001738-1666117800-1666123200@ynschoirs.org
SUMMARY:Cantabile Rehearsal
DESCRIPTION:Community Concert Center
URL:https://ynschoirs.org/calendar/cantabile-rehearsal-4/2022-10-18/
LOCATION:Community Concert Center\, 55 Concert Lane\, Naperville\, IL\, 60540
CATEGORIES:Cantabile,Parents
END:VEVENT
BEGIN:VEVENT
DTSTART;TZID=America/Chicago:20221018T181500
DTEND;TZID=America/Chicago:20221018T201500
DTSTAMP:20260420T171846
CREATED:20220804T173855Z
LAST-MODIFIED:20220804T173855Z
UID:10001389-1666116900-1666124100@ynschoirs.org
SUMMARY:Bella Voce Rehearsal
DESCRIPTION:Community Concert Center
URL:https://ynschoirs.org/calendar/bella-voce-rehearsal-4/2022-10-18/
LOCATION:Community Concert Center\, 55 Concert Lane\, Naperville\, IL\, 60540
CATEGORIES:Bella Voce,Parents
END:VEVENT
BEGIN:VEVENT
DTSTART;TZID=America/Chicago:20221018T164500
DTEND;TZID=America/Chicago:20221018T181500
DTSTAMP:20260420T171846
CREATED:20220804T174509Z
LAST-MODIFIED:20220804T174509Z
UID:10001722-1666111500-1666116900@ynschoirs.org
SUMMARY:Ragazzi Rehearsal
DESCRIPTION:Community Concert Center
URL:https://ynschoirs.org/calendar/ragazzi-rehearsal-4/2022-10-18/
LOCATION:Community Concert Center\, 55 Concert Lane\, Naperville\, IL\, 60540
CATEGORIES:Parents,Ragazzi
END:VEVENT
END:VCALENDAR