BEGIN:VCALENDAR
VERSION:2.0
PRODID:-//Young Naperville Singers - ECPv6.8.0//NONSGML v1.0//EN
CALSCALE:GREGORIAN
METHOD:PUBLISH
X-WR-CALNAME:Young Naperville Singers
X-ORIGINAL-URL:https://ynschoirs.org
X-WR-CALDESC:Events for Young Naperville Singers
REFRESH-INTERVAL;VALUE=DURATION:PT1H
X-Robots-Tag:noindex
X-PUBLISHED-TTL:PT1H
BEGIN:VTIMEZONE
TZID:America/Chicago
BEGIN:DAYLIGHT
TZOFFSETFROM:-0600
TZOFFSETTO:-0500
TZNAME:CDT
DTSTART:20220313T080000
END:DAYLIGHT
BEGIN:STANDARD
TZOFFSETFROM:-0500
TZOFFSETTO:-0600
TZNAME:CST
DTSTART:20221106T070000
END:STANDARD
END:VTIMEZONE
BEGIN:VEVENT
DTSTART;TZID=America/Chicago:20221020T164500
DTEND;TZID=America/Chicago:20221020T174500
DTSTAMP:20260421T000249
CREATED:20220804T183138Z
LAST-MODIFIED:20220901T024524Z
UID:10001769-1666284300-1666287900@ynschoirs.org
SUMMARY:Primo Thursday Rehearsal
DESCRIPTION:Our Saviour’s Church
URL:https://ynschoirs.org/calendar/primo-2-rehearsal/2022-10-20/
LOCATION:Our Saviour’s Lutheran Church\, 815 S. Washington Street\, Naperville\, IL\, 60540
CATEGORIES:Parents,Primo
END:VEVENT
BEGIN:VEVENT
DTSTART;TZID=America/Chicago:20221020T163000
DTEND;TZID=America/Chicago:20221020T180000
DTSTAMP:20260421T000249
CREATED:20220804T183744Z
LAST-MODIFIED:20220804T183744Z
UID:10001800-1666283400-1666288800@ynschoirs.org
SUMMARY:Brillante Rehearsal
DESCRIPTION:Community Concert Center
URL:https://ynschoirs.org/calendar/brillante-rehearsal-4/2022-10-20/
LOCATION:Community Concert Center\, 55 Concert Lane\, Naperville\, IL\, 60540
CATEGORIES:Brillante,Parents
END:VEVENT
BEGIN:VEVENT
DTSTART;TZID=America/Chicago:20221019T164500
DTEND;TZID=America/Chicago:20221019T174500
DTSTAMP:20260421T000249
CREATED:20220804T182750Z
LAST-MODIFIED:20220901T024655Z
UID:10001754-1666197900-1666201500@ynschoirs.org
SUMMARY:Primo Wednesday Rehearsal
DESCRIPTION:Community Concert Center
URL:https://ynschoirs.org/calendar/primo-1-rehearsal/2022-10-19/
LOCATION:Community Concert Center\, 55 Concert Lane\, Naperville\, IL\, 60540
CATEGORIES:Parents,Primo
END:VEVENT
BEGIN:VEVENT
DTSTART;TZID=America/Chicago:20221018T183000
DTEND;TZID=America/Chicago:20221018T200000
DTSTAMP:20260421T000249
CREATED:20220804T182516Z
LAST-MODIFIED:20220804T182516Z
UID:10001738-1666117800-1666123200@ynschoirs.org
SUMMARY:Cantabile Rehearsal
DESCRIPTION:Community Concert Center
URL:https://ynschoirs.org/calendar/cantabile-rehearsal-4/2022-10-18/
LOCATION:Community Concert Center\, 55 Concert Lane\, Naperville\, IL\, 60540
CATEGORIES:Cantabile,Parents
END:VEVENT
BEGIN:VEVENT
DTSTART;TZID=America/Chicago:20221018T181500
DTEND;TZID=America/Chicago:20221018T201500
DTSTAMP:20260421T000249
CREATED:20220804T173855Z
LAST-MODIFIED:20220804T173855Z
UID:10001389-1666116900-1666124100@ynschoirs.org
SUMMARY:Bella Voce Rehearsal
DESCRIPTION:Community Concert Center
URL:https://ynschoirs.org/calendar/bella-voce-rehearsal-4/2022-10-18/
LOCATION:Community Concert Center\, 55 Concert Lane\, Naperville\, IL\, 60540
CATEGORIES:Bella Voce,Parents
END:VEVENT
BEGIN:VEVENT
DTSTART;TZID=America/Chicago:20221018T164500
DTEND;TZID=America/Chicago:20221018T181500
DTSTAMP:20260421T000249
CREATED:20220804T174509Z
LAST-MODIFIED:20220804T174509Z
UID:10001722-1666111500-1666116900@ynschoirs.org
SUMMARY:Ragazzi Rehearsal
DESCRIPTION:Community Concert Center
URL:https://ynschoirs.org/calendar/ragazzi-rehearsal-4/2022-10-18/
LOCATION:Community Concert Center\, 55 Concert Lane\, Naperville\, IL\, 60540
CATEGORIES:Parents,Ragazzi
END:VEVENT
BEGIN:VEVENT
DTSTART;TZID=America/Chicago:20221018T163000
DTEND;TZID=America/Chicago:20221018T174500
DTSTAMP:20260421T000249
CREATED:20220804T174654Z
LAST-MODIFIED:20220804T174654Z
UID:10001706-1666110600-1666115100@ynschoirs.org
SUMMARY:Brio Rehearsal
DESCRIPTION:Community Concert Center
URL:https://ynschoirs.org/calendar/brio-rehearsal-4/2022-10-18/
LOCATION:Community Concert Center\, 55 Concert Lane\, Naperville\, IL\, 60540
CATEGORIES:Brio,Parents
END:VEVENT
BEGIN:VEVENT
DTSTART;TZID=America/Chicago:20221017T181500
DTEND;TZID=America/Chicago:20221017T201500
DTSTAMP:20260421T000249
CREATED:20220804T172343Z
LAST-MODIFIED:20220804T172505Z
UID:10001344-1666030500-1666037700@ynschoirs.org
SUMMARY:Bella Cantare Rehearsal
DESCRIPTION:Our Saviour’s Church
URL:https://ynschoirs.org/calendar/bella-cantare-rehearsal-3/2022-10-17/
LOCATION:Our Saviour’s Lutheran Church\, 815 S. Washington Street\, Naperville\, IL\, 60540
CATEGORIES:Bella Cantare,Parents
END:VEVENT
BEGIN:VEVENT
DTSTART;TZID=America/Chicago:20221017T181500
DTEND;TZID=America/Chicago:20221017T200000
DTSTAMP:20260421T000249
CREATED:20220804T173422Z
LAST-MODIFIED:20220816T163155Z
UID:10001360-1666030500-1666036800@ynschoirs.org
SUMMARY:Canto Vivo Rehearsal
DESCRIPTION:Our Saviour’s Church
URL:https://ynschoirs.org/calendar/canto-vivo-rehearsal-3/2022-10-17/
LOCATION:Our Saviour’s Lutheran Church\, 815 S. Washington Street\, Naperville\, IL\, 60540
CATEGORIES:Canto Vivo,Parents
END:VEVENT
BEGIN:VEVENT
DTSTART;TZID=America/Chicago:20221017T164500
DTEND;TZID=America/Chicago:20221017T174500
DTSTAMP:20260421T000249
CREATED:20220804T174212Z
LAST-MODIFIED:20220804T184555Z
UID:10001404-1666025100-1666028700@ynschoirs.org
SUMMARY:Dolce Rehearsal
DESCRIPTION:Allied First Bank – Oswego
URL:https://ynschoirs.org/calendar/dolce-rehearsal-5/2022-10-17/
LOCATION:ServBank\, 3201 Orchard Road\, Oswego\, IL\, 60543
CATEGORIES:Dolce,Parents
END:VEVENT
BEGIN:VEVENT
DTSTART;VALUE=DATE:20221017
DTEND;VALUE=DATE:20221018
DTSTAMP:20260421T000249
CREATED:20220801T202513Z
LAST-MODIFIED:20220801T202744Z
UID:10001690-1665964800-1666051199@ynschoirs.org
SUMMARY:Butter Braid Fundraiser Begins
DESCRIPTION:This fundraiser goes through 11/4.
URL:https://ynschoirs.org/calendar/butter-braid-fundraiser-begins-2/
LOCATION:IL
CATEGORIES:Aria,Bella Cantare,Bella Voce,Brillante,Brio,Cantabile,Canto Vivo,Dolce,Parents,Primo,Ragazzi
END:VEVENT
BEGIN:VEVENT
DTSTART;VALUE=DATE:20221015
DTEND;VALUE=DATE:20221016
DTSTAMP:20260421T000249
CREATED:20220801T202659Z
LAST-MODIFIED:20220829T120925Z
UID:10001691-1665792000-1665878399@ynschoirs.org
SUMMARY:Sing On
DESCRIPTION:Times To Be Determined…morning and early afternoon \nRegistration for non YNS singers coming soon
URL:https://ynschoirs.org/calendar/boys-power-sing-2/
LOCATION:Neuqua Valley High School\, 2360 95th Street\, Naperville\, IL\, 60564
CATEGORIES:Canto Vivo,Community Events,Parents,Ragazzi
END:VEVENT
BEGIN:VEVENT
DTSTART;TZID=America/Chicago:20221013T170000
DTEND;TZID=America/Chicago:20221013T181500
DTSTAMP:20260421T000249
CREATED:20220804T183625Z
LAST-MODIFIED:20220804T183625Z
UID:10001783-1665680400-1665684900@ynschoirs.org
SUMMARY:Aria Rehearsal
DESCRIPTION:Community Concert Center
URL:https://ynschoirs.org/calendar/aria-rehearsal-4/2022-10-13/
LOCATION:Community Concert Center\, 55 Concert Lane\, Naperville\, IL\, 60540
CATEGORIES:Aria,Parents
END:VEVENT
BEGIN:VEVENT
DTSTART;TZID=America/Chicago:20221013T164500
DTEND;TZID=America/Chicago:20221013T174500
DTSTAMP:20260421T000249
CREATED:20220804T183138Z
LAST-MODIFIED:20220901T024524Z
UID:10001768-1665679500-1665683100@ynschoirs.org
SUMMARY:Primo Thursday Rehearsal
DESCRIPTION:Our Saviour’s Church
URL:https://ynschoirs.org/calendar/primo-2-rehearsal/2022-10-13/
LOCATION:Our Saviour’s Lutheran Church\, 815 S. Washington Street\, Naperville\, IL\, 60540
CATEGORIES:Parents,Primo
END:VEVENT
BEGIN:VEVENT
DTSTART;TZID=America/Chicago:20221013T163000
DTEND;TZID=America/Chicago:20221013T180000
DTSTAMP:20260421T000249
CREATED:20220804T183744Z
LAST-MODIFIED:20220804T183744Z
UID:10001799-1665678600-1665684000@ynschoirs.org
SUMMARY:Brillante Rehearsal
DESCRIPTION:Community Concert Center
URL:https://ynschoirs.org/calendar/brillante-rehearsal-4/2022-10-13/
LOCATION:Community Concert Center\, 55 Concert Lane\, Naperville\, IL\, 60540
CATEGORIES:Brillante,Parents
END:VEVENT
BEGIN:VEVENT
DTSTART;TZID=America/Chicago:20221012T164500
DTEND;TZID=America/Chicago:20221012T174500
DTSTAMP:20260421T000249
CREATED:20220804T182750Z
LAST-MODIFIED:20220901T024655Z
UID:10001753-1665593100-1665596700@ynschoirs.org
SUMMARY:Primo Wednesday Rehearsal
DESCRIPTION:Community Concert Center
URL:https://ynschoirs.org/calendar/primo-1-rehearsal/2022-10-12/
LOCATION:Community Concert Center\, 55 Concert Lane\, Naperville\, IL\, 60540
CATEGORIES:Parents,Primo
END:VEVENT
BEGIN:VEVENT
DTSTART;TZID=America/Chicago:20221011T183000
DTEND;TZID=America/Chicago:20221011T200000
DTSTAMP:20260421T000249
CREATED:20220804T182516Z
LAST-MODIFIED:20220804T182516Z
UID:10001737-1665513000-1665518400@ynschoirs.org
SUMMARY:Cantabile Rehearsal
DESCRIPTION:Community Concert Center
URL:https://ynschoirs.org/calendar/cantabile-rehearsal-4/2022-10-11/
LOCATION:Community Concert Center\, 55 Concert Lane\, Naperville\, IL\, 60540
CATEGORIES:Cantabile,Parents
END:VEVENT
BEGIN:VEVENT
DTSTART;TZID=America/Chicago:20221011T181500
DTEND;TZID=America/Chicago:20221011T201500
DTSTAMP:20260421T000249
CREATED:20220804T173855Z
LAST-MODIFIED:20220804T173855Z
UID:10001388-1665512100-1665519300@ynschoirs.org
SUMMARY:Bella Voce Rehearsal
DESCRIPTION:Community Concert Center
URL:https://ynschoirs.org/calendar/bella-voce-rehearsal-4/2022-10-11/
LOCATION:Community Concert Center\, 55 Concert Lane\, Naperville\, IL\, 60540
CATEGORIES:Bella Voce,Parents
END:VEVENT
BEGIN:VEVENT
DTSTART;TZID=America/Chicago:20221011T164500
DTEND;TZID=America/Chicago:20221011T181500
DTSTAMP:20260421T000249
CREATED:20220804T174509Z
LAST-MODIFIED:20220804T174509Z
UID:10001721-1665506700-1665512100@ynschoirs.org
SUMMARY:Ragazzi Rehearsal
DESCRIPTION:Community Concert Center
URL:https://ynschoirs.org/calendar/ragazzi-rehearsal-4/2022-10-11/
LOCATION:Community Concert Center\, 55 Concert Lane\, Naperville\, IL\, 60540
CATEGORIES:Parents,Ragazzi
END:VEVENT
BEGIN:VEVENT
DTSTART;TZID=America/Chicago:20221011T163000
DTEND;TZID=America/Chicago:20221011T174500
DTSTAMP:20260421T000249
CREATED:20220804T174654Z
LAST-MODIFIED:20220804T174654Z
UID:10001705-1665505800-1665510300@ynschoirs.org
SUMMARY:Brio Rehearsal
DESCRIPTION:Community Concert Center
URL:https://ynschoirs.org/calendar/brio-rehearsal-4/2022-10-11/
LOCATION:Community Concert Center\, 55 Concert Lane\, Naperville\, IL\, 60540
CATEGORIES:Brio,Parents
END:VEVENT
BEGIN:VEVENT
DTSTART;VALUE=DATE:20221010
DTEND;VALUE=DATE:20221011
DTSTAMP:20260421T000249
CREATED:20220804T184512Z
LAST-MODIFIED:20220804T184854Z
UID:10001812-1665360000-1665446399@ynschoirs.org
SUMMARY:No Rehearsal for Dolce\, Bella Cantare & Canto Vivo
DESCRIPTION:Columbus Day
URL:https://ynschoirs.org/calendar/no-rehearsal-for-dolce-bella-cantare-canto-vivo/
LOCATION:IL
CATEGORIES:Bella Cantare,Canto Vivo,Dolce,Parents
END:VEVENT
BEGIN:VEVENT
DTSTART;TZID=America/Chicago:20221006T170000
DTEND;TZID=America/Chicago:20221006T181500
DTSTAMP:20260421T000249
CREATED:20220804T183625Z
LAST-MODIFIED:20220804T183625Z
UID:10001782-1665075600-1665080100@ynschoirs.org
SUMMARY:Aria Rehearsal
DESCRIPTION:Community Concert Center
URL:https://ynschoirs.org/calendar/aria-rehearsal-4/2022-10-06/
LOCATION:Community Concert Center\, 55 Concert Lane\, Naperville\, IL\, 60540
CATEGORIES:Aria,Parents
END:VEVENT
BEGIN:VEVENT
DTSTART;TZID=America/Chicago:20221006T164500
DTEND;TZID=America/Chicago:20221006T174500
DTSTAMP:20260421T000249
CREATED:20220804T183138Z
LAST-MODIFIED:20220901T024524Z
UID:10001767-1665074700-1665078300@ynschoirs.org
SUMMARY:Primo Thursday Rehearsal
DESCRIPTION:Our Saviour’s Church
URL:https://ynschoirs.org/calendar/primo-2-rehearsal/2022-10-06/
LOCATION:Our Saviour’s Lutheran Church\, 815 S. Washington Street\, Naperville\, IL\, 60540
CATEGORIES:Parents,Primo
END:VEVENT
BEGIN:VEVENT
DTSTART;TZID=America/Chicago:20221006T163000
DTEND;TZID=America/Chicago:20221006T180000
DTSTAMP:20260421T000249
CREATED:20220804T183744Z
LAST-MODIFIED:20220804T183744Z
UID:10001798-1665073800-1665079200@ynschoirs.org
SUMMARY:Brillante Rehearsal
DESCRIPTION:Community Concert Center
URL:https://ynschoirs.org/calendar/brillante-rehearsal-4/2022-10-06/
LOCATION:Community Concert Center\, 55 Concert Lane\, Naperville\, IL\, 60540
CATEGORIES:Brillante,Parents
END:VEVENT
BEGIN:VEVENT
DTSTART;TZID=America/Chicago:20221005T164500
DTEND;TZID=America/Chicago:20221005T174500
DTSTAMP:20260421T000249
CREATED:20220804T182750Z
LAST-MODIFIED:20220901T024655Z
UID:10001752-1664988300-1664991900@ynschoirs.org
SUMMARY:Primo Wednesday Rehearsal
DESCRIPTION:Community Concert Center
URL:https://ynschoirs.org/calendar/primo-1-rehearsal/2022-10-05/
LOCATION:Community Concert Center\, 55 Concert Lane\, Naperville\, IL\, 60540
CATEGORIES:Parents,Primo
END:VEVENT
BEGIN:VEVENT
DTSTART;TZID=America/Chicago:20221004T183000
DTEND;TZID=America/Chicago:20221004T200000
DTSTAMP:20260421T000249
CREATED:20220804T182516Z
LAST-MODIFIED:20220804T182516Z
UID:10001736-1664908200-1664913600@ynschoirs.org
SUMMARY:Cantabile Rehearsal
DESCRIPTION:Community Concert Center
URL:https://ynschoirs.org/calendar/cantabile-rehearsal-4/2022-10-04/
LOCATION:Community Concert Center\, 55 Concert Lane\, Naperville\, IL\, 60540
CATEGORIES:Cantabile,Parents
END:VEVENT
BEGIN:VEVENT
DTSTART;TZID=America/Chicago:20221004T181500
DTEND;TZID=America/Chicago:20221004T201500
DTSTAMP:20260421T000249
CREATED:20220804T173855Z
LAST-MODIFIED:20220804T173855Z
UID:10001387-1664907300-1664914500@ynschoirs.org
SUMMARY:Bella Voce Rehearsal
DESCRIPTION:Community Concert Center
URL:https://ynschoirs.org/calendar/bella-voce-rehearsal-4/2022-10-04/
LOCATION:Community Concert Center\, 55 Concert Lane\, Naperville\, IL\, 60540
CATEGORIES:Bella Voce,Parents
END:VEVENT
BEGIN:VEVENT
DTSTART;TZID=America/Chicago:20221004T164500
DTEND;TZID=America/Chicago:20221004T181500
DTSTAMP:20260421T000249
CREATED:20220804T174509Z
LAST-MODIFIED:20220804T174509Z
UID:10001720-1664901900-1664907300@ynschoirs.org
SUMMARY:Ragazzi Rehearsal
DESCRIPTION:Community Concert Center
URL:https://ynschoirs.org/calendar/ragazzi-rehearsal-4/2022-10-04/
LOCATION:Community Concert Center\, 55 Concert Lane\, Naperville\, IL\, 60540
CATEGORIES:Parents,Ragazzi
END:VEVENT
BEGIN:VEVENT
DTSTART;TZID=America/Chicago:20221004T163000
DTEND;TZID=America/Chicago:20221004T174500
DTSTAMP:20260421T000249
CREATED:20220804T174654Z
LAST-MODIFIED:20220804T174654Z
UID:10001704-1664901000-1664905500@ynschoirs.org
SUMMARY:Brio Rehearsal
DESCRIPTION:Community Concert Center
URL:https://ynschoirs.org/calendar/brio-rehearsal-4/2022-10-04/
LOCATION:Community Concert Center\, 55 Concert Lane\, Naperville\, IL\, 60540
CATEGORIES:Brio,Parents
END:VEVENT
BEGIN:VEVENT
DTSTART;TZID=America/Chicago:20221003T181500
DTEND;TZID=America/Chicago:20221003T201500
DTSTAMP:20260421T000249
CREATED:20220804T172343Z
LAST-MODIFIED:20220804T172505Z
UID:10001343-1664820900-1664828100@ynschoirs.org
SUMMARY:Bella Cantare Rehearsal
DESCRIPTION:Our Saviour’s Church
URL:https://ynschoirs.org/calendar/bella-cantare-rehearsal-3/2022-10-03/
LOCATION:Our Saviour’s Lutheran Church\, 815 S. Washington Street\, Naperville\, IL\, 60540
CATEGORIES:Bella Cantare,Parents
END:VEVENT
END:VCALENDAR