BEGIN:VCALENDAR
VERSION:2.0
PRODID:-//Young Naperville Singers - ECPv6.8.0//NONSGML v1.0//EN
CALSCALE:GREGORIAN
METHOD:PUBLISH
X-WR-CALNAME:Young Naperville Singers
X-ORIGINAL-URL:https://ynschoirs.org
X-WR-CALDESC:Events for Young Naperville Singers
REFRESH-INTERVAL;VALUE=DURATION:PT1H
X-Robots-Tag:noindex
X-PUBLISHED-TTL:PT1H
BEGIN:VTIMEZONE
TZID:America/Chicago
BEGIN:DAYLIGHT
TZOFFSETFROM:-0600
TZOFFSETTO:-0500
TZNAME:CDT
DTSTART:20220313T080000
END:DAYLIGHT
BEGIN:STANDARD
TZOFFSETFROM:-0500
TZOFFSETTO:-0600
TZNAME:CST
DTSTART:20221106T070000
END:STANDARD
END:VTIMEZONE
BEGIN:VEVENT
DTSTART;TZID=America/Chicago:20221005T164500
DTEND;TZID=America/Chicago:20221005T174500
DTSTAMP:20260420T233105
CREATED:20220804T182750Z
LAST-MODIFIED:20220901T024655Z
UID:10001752-1664988300-1664991900@ynschoirs.org
SUMMARY:Primo Wednesday Rehearsal
DESCRIPTION:Community Concert Center
URL:https://ynschoirs.org/calendar/primo-1-rehearsal/2022-10-05/
LOCATION:Community Concert Center\, 55 Concert Lane\, Naperville\, IL\, 60540
CATEGORIES:Parents,Primo
END:VEVENT
BEGIN:VEVENT
DTSTART;TZID=America/Chicago:20221004T183000
DTEND;TZID=America/Chicago:20221004T200000
DTSTAMP:20260420T233105
CREATED:20220804T182516Z
LAST-MODIFIED:20220804T182516Z
UID:10001736-1664908200-1664913600@ynschoirs.org
SUMMARY:Cantabile Rehearsal
DESCRIPTION:Community Concert Center
URL:https://ynschoirs.org/calendar/cantabile-rehearsal-4/2022-10-04/
LOCATION:Community Concert Center\, 55 Concert Lane\, Naperville\, IL\, 60540
CATEGORIES:Cantabile,Parents
END:VEVENT
BEGIN:VEVENT
DTSTART;TZID=America/Chicago:20221004T181500
DTEND;TZID=America/Chicago:20221004T201500
DTSTAMP:20260420T233105
CREATED:20220804T173855Z
LAST-MODIFIED:20220804T173855Z
UID:10001387-1664907300-1664914500@ynschoirs.org
SUMMARY:Bella Voce Rehearsal
DESCRIPTION:Community Concert Center
URL:https://ynschoirs.org/calendar/bella-voce-rehearsal-4/2022-10-04/
LOCATION:Community Concert Center\, 55 Concert Lane\, Naperville\, IL\, 60540
CATEGORIES:Bella Voce,Parents
END:VEVENT
BEGIN:VEVENT
DTSTART;TZID=America/Chicago:20221004T164500
DTEND;TZID=America/Chicago:20221004T181500
DTSTAMP:20260420T233105
CREATED:20220804T174509Z
LAST-MODIFIED:20220804T174509Z
UID:10001720-1664901900-1664907300@ynschoirs.org
SUMMARY:Ragazzi Rehearsal
DESCRIPTION:Community Concert Center
URL:https://ynschoirs.org/calendar/ragazzi-rehearsal-4/2022-10-04/
LOCATION:Community Concert Center\, 55 Concert Lane\, Naperville\, IL\, 60540
CATEGORIES:Parents,Ragazzi
END:VEVENT
BEGIN:VEVENT
DTSTART;TZID=America/Chicago:20221004T163000
DTEND;TZID=America/Chicago:20221004T174500
DTSTAMP:20260420T233105
CREATED:20220804T174654Z
LAST-MODIFIED:20220804T174654Z
UID:10001704-1664901000-1664905500@ynschoirs.org
SUMMARY:Brio Rehearsal
DESCRIPTION:Community Concert Center
URL:https://ynschoirs.org/calendar/brio-rehearsal-4/2022-10-04/
LOCATION:Community Concert Center\, 55 Concert Lane\, Naperville\, IL\, 60540
CATEGORIES:Brio,Parents
END:VEVENT
BEGIN:VEVENT
DTSTART;TZID=America/Chicago:20221003T181500
DTEND;TZID=America/Chicago:20221003T201500
DTSTAMP:20260420T233105
CREATED:20220804T172343Z
LAST-MODIFIED:20220804T172505Z
UID:10001343-1664820900-1664828100@ynschoirs.org
SUMMARY:Bella Cantare Rehearsal
DESCRIPTION:Our Saviour’s Church
URL:https://ynschoirs.org/calendar/bella-cantare-rehearsal-3/2022-10-03/
LOCATION:Our Saviour’s Lutheran Church\, 815 S. Washington Street\, Naperville\, IL\, 60540
CATEGORIES:Bella Cantare,Parents
END:VEVENT
BEGIN:VEVENT
DTSTART;TZID=America/Chicago:20221003T181500
DTEND;TZID=America/Chicago:20221003T200000
DTSTAMP:20260420T233105
CREATED:20220804T173422Z
LAST-MODIFIED:20220816T163155Z
UID:10001359-1664820900-1664827200@ynschoirs.org
SUMMARY:Canto Vivo Rehearsal
DESCRIPTION:Our Saviour’s Church
URL:https://ynschoirs.org/calendar/canto-vivo-rehearsal-3/2022-10-03/
LOCATION:Our Saviour’s Lutheran Church\, 815 S. Washington Street\, Naperville\, IL\, 60540
CATEGORIES:Canto Vivo,Parents
END:VEVENT
BEGIN:VEVENT
DTSTART;TZID=America/Chicago:20221003T164500
DTEND;TZID=America/Chicago:20221003T174500
DTSTAMP:20260420T233105
CREATED:20220804T174212Z
LAST-MODIFIED:20220804T184555Z
UID:10001403-1664815500-1664819100@ynschoirs.org
SUMMARY:Dolce Rehearsal
DESCRIPTION:Allied First Bank – Oswego
URL:https://ynschoirs.org/calendar/dolce-rehearsal-5/2022-10-03/
LOCATION:ServBank\, 3201 Orchard Road\, Oswego\, IL\, 60543
CATEGORIES:Dolce,Parents
END:VEVENT
BEGIN:VEVENT
DTSTART;TZID=America/Chicago:20220929T170000
DTEND;TZID=America/Chicago:20220929T181500
DTSTAMP:20260420T233105
CREATED:20220804T183625Z
LAST-MODIFIED:20220804T183625Z
UID:10001781-1664470800-1664475300@ynschoirs.org
SUMMARY:Aria Rehearsal
DESCRIPTION:Community Concert Center
URL:https://ynschoirs.org/calendar/aria-rehearsal-4/2022-09-29/
LOCATION:Community Concert Center\, 55 Concert Lane\, Naperville\, IL\, 60540
CATEGORIES:Aria,Parents
END:VEVENT
BEGIN:VEVENT
DTSTART;TZID=America/Chicago:20220929T164500
DTEND;TZID=America/Chicago:20220929T174500
DTSTAMP:20260420T233105
CREATED:20220804T183138Z
LAST-MODIFIED:20220901T024524Z
UID:10001766-1664469900-1664473500@ynschoirs.org
SUMMARY:Primo Thursday Rehearsal
DESCRIPTION:Our Saviour’s Church
URL:https://ynschoirs.org/calendar/primo-2-rehearsal/2022-09-29/
LOCATION:Our Saviour’s Lutheran Church\, 815 S. Washington Street\, Naperville\, IL\, 60540
CATEGORIES:Parents,Primo
END:VEVENT
BEGIN:VEVENT
DTSTART;TZID=America/Chicago:20220929T163000
DTEND;TZID=America/Chicago:20220929T180000
DTSTAMP:20260420T233105
CREATED:20220804T183744Z
LAST-MODIFIED:20220804T183744Z
UID:10001797-1664469000-1664474400@ynschoirs.org
SUMMARY:Brillante Rehearsal
DESCRIPTION:Community Concert Center
URL:https://ynschoirs.org/calendar/brillante-rehearsal-4/2022-09-29/
LOCATION:Community Concert Center\, 55 Concert Lane\, Naperville\, IL\, 60540
CATEGORIES:Brillante,Parents
END:VEVENT
BEGIN:VEVENT
DTSTART;TZID=America/Chicago:20220928T164500
DTEND;TZID=America/Chicago:20220928T174500
DTSTAMP:20260420T233105
CREATED:20220804T182750Z
LAST-MODIFIED:20220901T024655Z
UID:10001751-1664383500-1664387100@ynschoirs.org
SUMMARY:Primo Wednesday Rehearsal
DESCRIPTION:Community Concert Center
URL:https://ynschoirs.org/calendar/primo-1-rehearsal/2022-09-28/
LOCATION:Community Concert Center\, 55 Concert Lane\, Naperville\, IL\, 60540
CATEGORIES:Parents,Primo
END:VEVENT
BEGIN:VEVENT
DTSTART;TZID=America/Chicago:20220927T183000
DTEND;TZID=America/Chicago:20220927T200000
DTSTAMP:20260420T233105
CREATED:20220804T182516Z
LAST-MODIFIED:20220804T182516Z
UID:10001735-1664303400-1664308800@ynschoirs.org
SUMMARY:Cantabile Rehearsal
DESCRIPTION:Community Concert Center
URL:https://ynschoirs.org/calendar/cantabile-rehearsal-4/2022-09-27/
LOCATION:Community Concert Center\, 55 Concert Lane\, Naperville\, IL\, 60540
CATEGORIES:Cantabile,Parents
END:VEVENT
BEGIN:VEVENT
DTSTART;TZID=America/Chicago:20220927T181500
DTEND;TZID=America/Chicago:20220927T201500
DTSTAMP:20260420T233105
CREATED:20220804T173855Z
LAST-MODIFIED:20220804T173855Z
UID:10001386-1664302500-1664309700@ynschoirs.org
SUMMARY:Bella Voce Rehearsal
DESCRIPTION:Community Concert Center
URL:https://ynschoirs.org/calendar/bella-voce-rehearsal-4/2022-09-27/
LOCATION:Community Concert Center\, 55 Concert Lane\, Naperville\, IL\, 60540
CATEGORIES:Bella Voce,Parents
END:VEVENT
BEGIN:VEVENT
DTSTART;TZID=America/Chicago:20220927T164500
DTEND;TZID=America/Chicago:20220927T181500
DTSTAMP:20260420T233105
CREATED:20220804T174509Z
LAST-MODIFIED:20220804T174509Z
UID:10001719-1664297100-1664302500@ynschoirs.org
SUMMARY:Ragazzi Rehearsal
DESCRIPTION:Community Concert Center
URL:https://ynschoirs.org/calendar/ragazzi-rehearsal-4/2022-09-27/
LOCATION:Community Concert Center\, 55 Concert Lane\, Naperville\, IL\, 60540
CATEGORIES:Parents,Ragazzi
END:VEVENT
BEGIN:VEVENT
DTSTART;TZID=America/Chicago:20220927T163000
DTEND;TZID=America/Chicago:20220927T174500
DTSTAMP:20260420T233105
CREATED:20220804T174654Z
LAST-MODIFIED:20220804T174654Z
UID:10001703-1664296200-1664300700@ynschoirs.org
SUMMARY:Brio Rehearsal
DESCRIPTION:Community Concert Center
URL:https://ynschoirs.org/calendar/brio-rehearsal-4/2022-09-27/
LOCATION:Community Concert Center\, 55 Concert Lane\, Naperville\, IL\, 60540
CATEGORIES:Brio,Parents
END:VEVENT
BEGIN:VEVENT
DTSTART;TZID=America/Chicago:20220926T181500
DTEND;TZID=America/Chicago:20220926T201500
DTSTAMP:20260420T233105
CREATED:20220804T172343Z
LAST-MODIFIED:20220804T172505Z
UID:10001342-1664216100-1664223300@ynschoirs.org
SUMMARY:Bella Cantare Rehearsal
DESCRIPTION:Our Saviour’s Church
URL:https://ynschoirs.org/calendar/bella-cantare-rehearsal-3/2022-09-26/
LOCATION:Our Saviour’s Lutheran Church\, 815 S. Washington Street\, Naperville\, IL\, 60540
CATEGORIES:Bella Cantare,Parents
END:VEVENT
BEGIN:VEVENT
DTSTART;TZID=America/Chicago:20220926T181500
DTEND;TZID=America/Chicago:20220926T200000
DTSTAMP:20260420T233105
CREATED:20220804T173422Z
LAST-MODIFIED:20220816T163155Z
UID:10001358-1664216100-1664222400@ynschoirs.org
SUMMARY:Canto Vivo Rehearsal
DESCRIPTION:Our Saviour’s Church
URL:https://ynschoirs.org/calendar/canto-vivo-rehearsal-3/2022-09-26/
LOCATION:Our Saviour’s Lutheran Church\, 815 S. Washington Street\, Naperville\, IL\, 60540
CATEGORIES:Canto Vivo,Parents
END:VEVENT
BEGIN:VEVENT
DTSTART;TZID=America/Chicago:20220926T164500
DTEND;TZID=America/Chicago:20220926T174500
DTSTAMP:20260420T233105
CREATED:20220804T174212Z
LAST-MODIFIED:20220804T184555Z
UID:10001402-1664210700-1664214300@ynschoirs.org
SUMMARY:Dolce Rehearsal
DESCRIPTION:Allied First Bank – Oswego
URL:https://ynschoirs.org/calendar/dolce-rehearsal-5/2022-09-26/
LOCATION:ServBank\, 3201 Orchard Road\, Oswego\, IL\, 60543
CATEGORIES:Dolce,Parents
END:VEVENT
BEGIN:VEVENT
DTSTART;TZID=America/Chicago:20220922T170000
DTEND;TZID=America/Chicago:20220922T181500
DTSTAMP:20260420T233105
CREATED:20220804T183625Z
LAST-MODIFIED:20220804T183625Z
UID:10001780-1663866000-1663870500@ynschoirs.org
SUMMARY:Aria Rehearsal
DESCRIPTION:Community Concert Center
URL:https://ynschoirs.org/calendar/aria-rehearsal-4/2022-09-22/
LOCATION:Community Concert Center\, 55 Concert Lane\, Naperville\, IL\, 60540
CATEGORIES:Aria,Parents
END:VEVENT
BEGIN:VEVENT
DTSTART;TZID=America/Chicago:20220922T164500
DTEND;TZID=America/Chicago:20220922T174500
DTSTAMP:20260420T233105
CREATED:20220804T183138Z
LAST-MODIFIED:20220901T024524Z
UID:10001765-1663865100-1663868700@ynschoirs.org
SUMMARY:Primo Thursday Rehearsal
DESCRIPTION:Our Saviour’s Church
URL:https://ynschoirs.org/calendar/primo-2-rehearsal/2022-09-22/
LOCATION:Our Saviour’s Lutheran Church\, 815 S. Washington Street\, Naperville\, IL\, 60540
CATEGORIES:Parents,Primo
END:VEVENT
BEGIN:VEVENT
DTSTART;TZID=America/Chicago:20220922T163000
DTEND;TZID=America/Chicago:20220922T180000
DTSTAMP:20260420T233105
CREATED:20220804T183744Z
LAST-MODIFIED:20220804T183744Z
UID:10001796-1663864200-1663869600@ynschoirs.org
SUMMARY:Brillante Rehearsal
DESCRIPTION:Community Concert Center
URL:https://ynschoirs.org/calendar/brillante-rehearsal-4/2022-09-22/
LOCATION:Community Concert Center\, 55 Concert Lane\, Naperville\, IL\, 60540
CATEGORIES:Brillante,Parents
END:VEVENT
BEGIN:VEVENT
DTSTART;TZID=America/Chicago:20220921T164500
DTEND;TZID=America/Chicago:20220921T174500
DTSTAMP:20260420T233105
CREATED:20220804T182750Z
LAST-MODIFIED:20220901T024655Z
UID:10001750-1663778700-1663782300@ynschoirs.org
SUMMARY:Primo Wednesday Rehearsal
DESCRIPTION:Community Concert Center
URL:https://ynschoirs.org/calendar/primo-1-rehearsal/2022-09-21/
LOCATION:Community Concert Center\, 55 Concert Lane\, Naperville\, IL\, 60540
CATEGORIES:Parents,Primo
END:VEVENT
BEGIN:VEVENT
DTSTART;TZID=America/Chicago:20220920T183000
DTEND;TZID=America/Chicago:20220920T200000
DTSTAMP:20260420T233105
CREATED:20220804T182516Z
LAST-MODIFIED:20220804T182516Z
UID:10001734-1663698600-1663704000@ynschoirs.org
SUMMARY:Cantabile Rehearsal
DESCRIPTION:Community Concert Center
URL:https://ynschoirs.org/calendar/cantabile-rehearsal-4/2022-09-20/
LOCATION:Community Concert Center\, 55 Concert Lane\, Naperville\, IL\, 60540
CATEGORIES:Cantabile,Parents
END:VEVENT
BEGIN:VEVENT
DTSTART;TZID=America/Chicago:20220920T181500
DTEND;TZID=America/Chicago:20220920T201500
DTSTAMP:20260420T233105
CREATED:20220804T173855Z
LAST-MODIFIED:20220804T173855Z
UID:10001385-1663697700-1663704900@ynschoirs.org
SUMMARY:Bella Voce Rehearsal
DESCRIPTION:Community Concert Center
URL:https://ynschoirs.org/calendar/bella-voce-rehearsal-4/2022-09-20/
LOCATION:Community Concert Center\, 55 Concert Lane\, Naperville\, IL\, 60540
CATEGORIES:Bella Voce,Parents
END:VEVENT
BEGIN:VEVENT
DTSTART;TZID=America/Chicago:20220920T164500
DTEND;TZID=America/Chicago:20220920T181500
DTSTAMP:20260420T233105
CREATED:20220804T174509Z
LAST-MODIFIED:20220804T174509Z
UID:10001718-1663692300-1663697700@ynschoirs.org
SUMMARY:Ragazzi Rehearsal
DESCRIPTION:Community Concert Center
URL:https://ynschoirs.org/calendar/ragazzi-rehearsal-4/2022-09-20/
LOCATION:Community Concert Center\, 55 Concert Lane\, Naperville\, IL\, 60540
CATEGORIES:Parents,Ragazzi
END:VEVENT
BEGIN:VEVENT
DTSTART;TZID=America/Chicago:20220920T163000
DTEND;TZID=America/Chicago:20220920T174500
DTSTAMP:20260420T233105
CREATED:20220804T174654Z
LAST-MODIFIED:20220804T174654Z
UID:10001702-1663691400-1663695900@ynschoirs.org
SUMMARY:Brio Rehearsal
DESCRIPTION:Community Concert Center
URL:https://ynschoirs.org/calendar/brio-rehearsal-4/2022-09-20/
LOCATION:Community Concert Center\, 55 Concert Lane\, Naperville\, IL\, 60540
CATEGORIES:Brio,Parents
END:VEVENT
BEGIN:VEVENT
DTSTART;TZID=America/Chicago:20220919T181500
DTEND;TZID=America/Chicago:20220919T201500
DTSTAMP:20260420T233105
CREATED:20220804T172343Z
LAST-MODIFIED:20220804T172505Z
UID:10001341-1663611300-1663618500@ynschoirs.org
SUMMARY:Bella Cantare Rehearsal
DESCRIPTION:Our Saviour’s Church
URL:https://ynschoirs.org/calendar/bella-cantare-rehearsal-3/2022-09-19/
LOCATION:Our Saviour’s Lutheran Church\, 815 S. Washington Street\, Naperville\, IL\, 60540
CATEGORIES:Bella Cantare,Parents
END:VEVENT
BEGIN:VEVENT
DTSTART;TZID=America/Chicago:20220919T181500
DTEND;TZID=America/Chicago:20220919T200000
DTSTAMP:20260420T233105
CREATED:20220804T173422Z
LAST-MODIFIED:20220816T163155Z
UID:10001357-1663611300-1663617600@ynschoirs.org
SUMMARY:Canto Vivo Rehearsal
DESCRIPTION:Our Saviour’s Church
URL:https://ynschoirs.org/calendar/canto-vivo-rehearsal-3/2022-09-19/
LOCATION:Our Saviour’s Lutheran Church\, 815 S. Washington Street\, Naperville\, IL\, 60540
CATEGORIES:Canto Vivo,Parents
END:VEVENT
BEGIN:VEVENT
DTSTART;TZID=America/Chicago:20220919T164500
DTEND;TZID=America/Chicago:20220919T174500
DTSTAMP:20260420T233105
CREATED:20220804T174212Z
LAST-MODIFIED:20220804T184555Z
UID:10001401-1663605900-1663609500@ynschoirs.org
SUMMARY:Dolce Rehearsal
DESCRIPTION:Allied First Bank – Oswego
URL:https://ynschoirs.org/calendar/dolce-rehearsal-5/2022-09-19/
LOCATION:ServBank\, 3201 Orchard Road\, Oswego\, IL\, 60543
CATEGORIES:Dolce,Parents
END:VEVENT
END:VCALENDAR