BEGIN:VCALENDAR
VERSION:2.0
PRODID:-//Young Naperville Singers - ECPv6.8.0//NONSGML v1.0//EN
CALSCALE:GREGORIAN
METHOD:PUBLISH
X-WR-CALNAME:Young Naperville Singers
X-ORIGINAL-URL:https://ynschoirs.org
X-WR-CALDESC:Events for Young Naperville Singers
REFRESH-INTERVAL;VALUE=DURATION:PT1H
X-Robots-Tag:noindex
X-PUBLISHED-TTL:PT1H
BEGIN:VTIMEZONE
TZID:America/Chicago
BEGIN:DAYLIGHT
TZOFFSETFROM:-0600
TZOFFSETTO:-0500
TZNAME:CDT
DTSTART:20220313T080000
END:DAYLIGHT
BEGIN:STANDARD
TZOFFSETFROM:-0500
TZOFFSETTO:-0600
TZNAME:CST
DTSTART:20221106T070000
END:STANDARD
END:VTIMEZONE
BEGIN:VEVENT
DTSTART;TZID=America/Chicago:20220831T164500
DTEND;TZID=America/Chicago:20220831T174500
DTSTAMP:20260421T094402
CREATED:20220804T182750Z
LAST-MODIFIED:20220901T024655Z
UID:10001747-1661964300-1661967900@ynschoirs.org
SUMMARY:Primo Wednesday Rehearsal
DESCRIPTION:Community Concert Center
URL:https://ynschoirs.org/calendar/primo-1-rehearsal/2022-08-31/
LOCATION:Community Concert Center\, 55 Concert Lane\, Naperville\, IL\, 60540
CATEGORIES:Parents,Primo
END:VEVENT
BEGIN:VEVENT
DTSTART;TZID=America/Chicago:20220830T183000
DTEND;TZID=America/Chicago:20220830T200000
DTSTAMP:20260421T094402
CREATED:20220804T182516Z
LAST-MODIFIED:20220804T182516Z
UID:10001731-1661884200-1661889600@ynschoirs.org
SUMMARY:Cantabile Rehearsal
DESCRIPTION:Community Concert Center
URL:https://ynschoirs.org/calendar/cantabile-rehearsal-4/2022-08-30/
LOCATION:Community Concert Center\, 55 Concert Lane\, Naperville\, IL\, 60540
CATEGORIES:Cantabile,Parents
END:VEVENT
BEGIN:VEVENT
DTSTART;TZID=America/Chicago:20220830T181500
DTEND;TZID=America/Chicago:20220830T201500
DTSTAMP:20260421T094402
CREATED:20220804T173855Z
LAST-MODIFIED:20220804T173855Z
UID:10001382-1661883300-1661890500@ynschoirs.org
SUMMARY:Bella Voce Rehearsal
DESCRIPTION:Community Concert Center
URL:https://ynschoirs.org/calendar/bella-voce-rehearsal-4/2022-08-30/
LOCATION:Community Concert Center\, 55 Concert Lane\, Naperville\, IL\, 60540
CATEGORIES:Bella Voce,Parents
END:VEVENT
BEGIN:VEVENT
DTSTART;TZID=America/Chicago:20220830T164500
DTEND;TZID=America/Chicago:20220830T181500
DTSTAMP:20260421T094402
CREATED:20220804T174509Z
LAST-MODIFIED:20220804T174509Z
UID:10001715-1661877900-1661883300@ynschoirs.org
SUMMARY:Ragazzi Rehearsal
DESCRIPTION:Community Concert Center
URL:https://ynschoirs.org/calendar/ragazzi-rehearsal-4/2022-08-30/
LOCATION:Community Concert Center\, 55 Concert Lane\, Naperville\, IL\, 60540
CATEGORIES:Parents,Ragazzi
END:VEVENT
BEGIN:VEVENT
DTSTART;TZID=America/Chicago:20220830T163000
DTEND;TZID=America/Chicago:20220830T174500
DTSTAMP:20260421T094402
CREATED:20220804T174654Z
LAST-MODIFIED:20220804T174654Z
UID:10001699-1661877000-1661881500@ynschoirs.org
SUMMARY:Brio Rehearsal
DESCRIPTION:Community Concert Center
URL:https://ynschoirs.org/calendar/brio-rehearsal-4/2022-08-30/
LOCATION:Community Concert Center\, 55 Concert Lane\, Naperville\, IL\, 60540
CATEGORIES:Brio,Parents
END:VEVENT
BEGIN:VEVENT
DTSTART;TZID=America/Chicago:20220829T181500
DTEND;TZID=America/Chicago:20220829T201500
DTSTAMP:20260421T094402
CREATED:20220804T172343Z
LAST-MODIFIED:20220804T172505Z
UID:10001339-1661796900-1661804100@ynschoirs.org
SUMMARY:Bella Cantare Rehearsal
DESCRIPTION:Our Saviour’s Church
URL:https://ynschoirs.org/calendar/bella-cantare-rehearsal-3/2022-08-29/
LOCATION:Our Saviour’s Lutheran Church\, 815 S. Washington Street\, Naperville\, IL\, 60540
CATEGORIES:Bella Cantare,Parents
END:VEVENT
BEGIN:VEVENT
DTSTART;TZID=America/Chicago:20220829T181500
DTEND;TZID=America/Chicago:20220829T200000
DTSTAMP:20260421T094402
CREATED:20220804T173422Z
LAST-MODIFIED:20220816T163155Z
UID:10001355-1661796900-1661803200@ynschoirs.org
SUMMARY:Canto Vivo Rehearsal
DESCRIPTION:Our Saviour’s Church
URL:https://ynschoirs.org/calendar/canto-vivo-rehearsal-3/2022-08-29/
LOCATION:Our Saviour’s Lutheran Church\, 815 S. Washington Street\, Naperville\, IL\, 60540
CATEGORIES:Canto Vivo,Parents
END:VEVENT
BEGIN:VEVENT
DTSTART;TZID=America/Chicago:20220829T164500
DTEND;TZID=America/Chicago:20220829T174500
DTSTAMP:20260421T094402
CREATED:20220804T174212Z
LAST-MODIFIED:20220804T184555Z
UID:10001399-1661791500-1661795100@ynschoirs.org
SUMMARY:Dolce Rehearsal
DESCRIPTION:Allied First Bank – Oswego
URL:https://ynschoirs.org/calendar/dolce-rehearsal-5/2022-08-29/
LOCATION:ServBank\, 3201 Orchard Road\, Oswego\, IL\, 60543
CATEGORIES:Dolce,Parents
END:VEVENT
BEGIN:VEVENT
DTSTART;TZID=America/Chicago:20220505T164500
DTEND;TZID=America/Chicago:20220505T180000
DTSTAMP:20260421T094402
CREATED:20220112T174030Z
LAST-MODIFIED:20220201T154555Z
UID:10001554-1651769100-1651773600@ynschoirs.org
SUMMARY:Aria Rehearsal
DESCRIPTION:Aria Rehearsal\nCommunity Concert Center 4:45pm-6:00pm
URL:https://ynschoirs.org/calendar/aria-rehearsal-3/2022-05-05/
LOCATION:Community Concert Center\, 55 Concert Lane\, Naperville\, IL\, 60540
CATEGORIES:Aria,Parents
END:VEVENT
BEGIN:VEVENT
DTSTART;TZID=America/Chicago:20220505T163000
DTEND;TZID=America/Chicago:20220505T180000
DTSTAMP:20260421T094402
CREATED:20220112T173752Z
LAST-MODIFIED:20220201T154828Z
UID:10001540-1651768200-1651773600@ynschoirs.org
SUMMARY:Brillante Rehearsal
DESCRIPTION:Brillante Rehearsal\nCommunity Concert Center 4:30-6:00pm
URL:https://ynschoirs.org/calendar/brillante-rehearsal-3/2022-05-05/
LOCATION:Community Concert Center\, 55 Concert Lane\, Naperville\, IL\, 60540
CATEGORIES:Brillante,Parents
END:VEVENT
BEGIN:VEVENT
DTSTART;TZID=America/Chicago:20220504T164500
DTEND;TZID=America/Chicago:20220504T174500
DTSTAMP:20260421T094402
CREATED:20220112T180139Z
LAST-MODIFIED:20220201T154919Z
UID:10001671-1651682700-1651686300@ynschoirs.org
SUMMARY:Primo Rehearsal
DESCRIPTION:Primo Rehearsal\nCommunity Concert Center 4:45pm-5:45pm
URL:https://ynschoirs.org/calendar/primo-rehearsal-4/2022-05-04/
LOCATION:Community Concert Center\, 55 Concert Lane\, Naperville\, IL\, 60540
CATEGORIES:Parents,Primo
END:VEVENT
BEGIN:VEVENT
DTSTART;TZID=America/Chicago:20220503T184500
DTEND;TZID=America/Chicago:20220503T201500
DTSTAMP:20260421T094402
CREATED:20220112T180008Z
LAST-MODIFIED:20220201T155008Z
UID:10001655-1651603500-1651608900@ynschoirs.org
SUMMARY:Cantabile Rehearsal
DESCRIPTION:Cantabile Rehearsal\nCommunity Concert Center 6:45-8:15pm
URL:https://ynschoirs.org/calendar/cantabile-rehearsal-3/2022-05-03/
LOCATION:Community Concert Center\, 55 Concert Lane\, Naperville\, IL\, 60540
CATEGORIES:Cantabile,Parents
END:VEVENT
BEGIN:VEVENT
DTSTART;TZID=America/Chicago:20220503T181500
DTEND;TZID=America/Chicago:20220503T201500
DTSTAMP:20260421T094402
CREATED:20220112T175812Z
LAST-MODIFIED:20220112T175812Z
UID:10001639-1651601700-1651608900@ynschoirs.org
SUMMARY:Bella Voce Rehearsal
DESCRIPTION:Bella Voce Rehearsal\nFaith Lutheran Church 6:15pm-8:15pm
URL:https://ynschoirs.org/calendar/bella-voce-rehearsal-3/2022-05-03/
LOCATION:Faith Lutheran Church\, 3000 Liberty Street\, Aurora\, IL\, 60502
CATEGORIES:Bella Voce,Parents
END:VEVENT
BEGIN:VEVENT
DTSTART;TZID=America/Chicago:20220503T164500
DTEND;TZID=America/Chicago:20220503T181500
DTSTAMP:20260421T094402
CREATED:20220112T175644Z
LAST-MODIFIED:20220201T155220Z
UID:10001626-1651596300-1651601700@ynschoirs.org
SUMMARY:Ragazzi Rehearsal
DESCRIPTION:Ragazzi Rehearsal\nCommunity Concert Center 4:45-6:15pm \n 
URL:https://ynschoirs.org/calendar/ragazzi-rehearsal-3/2022-05-03/
LOCATION:Community Concert Center\, 55 Concert Lane\, Naperville\, IL\, 60540
CATEGORIES:Parents,Ragazzi
END:VEVENT
BEGIN:VEVENT
DTSTART;TZID=America/Chicago:20220503T163000
DTEND;TZID=America/Chicago:20220503T174500
DTSTAMP:20260421T094402
CREATED:20220112T175054Z
LAST-MODIFIED:20220201T155310Z
UID:10001611-1651595400-1651599900@ynschoirs.org
SUMMARY:Brio Rehearsal
DESCRIPTION:Brio Rehearsal\nCommunity Concert Center 4:30-5:45pm
URL:https://ynschoirs.org/calendar/brio-rehearsal-3/2022-05-03/
LOCATION:Community Concert Center\, 55 Concert Lane\, Naperville\, IL\, 60540
CATEGORIES:Brio,Parents
END:VEVENT
BEGIN:VEVENT
DTSTART;TZID=America/Chicago:20220502T181500
DTEND;TZID=America/Chicago:20220502T201500
DTSTAMP:20260421T094402
CREATED:20220112T174209Z
LAST-MODIFIED:20220112T174209Z
UID:10001569-1651515300-1651522500@ynschoirs.org
SUMMARY:Bella Cantare Rehearsal
DESCRIPTION:Bella Cantare Rehearsal\nFaith Lutheran Church 6:15-8:15pm
URL:https://ynschoirs.org/calendar/bella-cantare-rehearsal-2/2022-05-02/
LOCATION:Faith Lutheran Church\, 3000 Liberty Street\, Aurora\, IL\, 60502
CATEGORIES:Bella Cantare,Parents
END:VEVENT
BEGIN:VEVENT
DTSTART;TZID=America/Chicago:20220502T181500
DTEND;TZID=America/Chicago:20220502T200000
DTSTAMP:20260421T094402
CREATED:20220112T174345Z
LAST-MODIFIED:20220112T174345Z
UID:10001583-1651515300-1651521600@ynschoirs.org
SUMMARY:Canto Vivo Rehearsal
DESCRIPTION:Canto Vivo Rehearsal\nFaith Lutheran Church 6:15-8:00pm
URL:https://ynschoirs.org/calendar/canto-vivo-rehearsal-2/2022-05-02/
LOCATION:Faith Lutheran Church\, 3000 Liberty Street\, Aurora\, IL\, 60502
CATEGORIES:Canto Vivo,Parents
END:VEVENT
BEGIN:VEVENT
DTSTART;TZID=America/Chicago:20220502T164500
DTEND;TZID=America/Chicago:20220502T174500
DTSTAMP:20260421T094402
CREATED:20220112T174546Z
LAST-MODIFIED:20220112T174546Z
UID:10001591-1651509900-1651513500@ynschoirs.org
SUMMARY:Dolce Rehearsal
DESCRIPTION:Dolce Rehearsal\nAllied First Bank 4:45-5:45pm
URL:https://ynschoirs.org/calendar/dolce-rehearsal-4/2022-05-02/
LOCATION:ServBank\, 3201 Orchard Road\, Oswego\, IL\, 60543
CATEGORIES:Dolce,Parents
END:VEVENT
BEGIN:VEVENT
DTSTART;VALUE=DATE:20220501
DTEND;VALUE=DATE:20220502
DTSTAMP:20260421T094402
CREATED:20220208T162440Z
LAST-MODIFIED:20220208T162440Z
UID:10001683-1651363200-1651449599@ynschoirs.org
SUMMARY:Spring Concert
DESCRIPTION:Spring Concert\n\nPrimo\, Aria\, Dolce and Brio (Bella Cantare and Canto Vivo will also be included) \nSt. Thomas Catholic Church – Afternoon/Early Evening Time TBD
URL:https://ynschoirs.org/calendar/spring-concert-2/
LOCATION:St. Thomas the Apostle Catholic Church\, 1500 Brookdale Road\, Naperville\, IL\, 60563
CATEGORIES:Aria,Bella Cantare,Brio,Canto Vivo,Dolce,Parents,Primo
END:VEVENT
BEGIN:VEVENT
DTSTART;TZID=America/Chicago:20220428T164500
DTEND;TZID=America/Chicago:20220428T173000
DTSTAMP:20260421T094402
CREATED:20220112T174030Z
LAST-MODIFIED:20220214T174742Z
UID:10001555-1651164300-1651167000@ynschoirs.org
SUMMARY:Aria Showcase Performance
DESCRIPTION:Aria Showcase Performance\nArrival: 4:45pm Performance: 5:15pm Dismissal: 5:30pm
URL:https://ynschoirs.org/calendar/aria-rehearsal-3-2022-04-28/
LOCATION:Martin Avenue\, 310 W. Martin Avenue\, Naperville\, IL\, 60540
CATEGORIES:Aria,Parents
END:VEVENT
BEGIN:VEVENT
DTSTART;TZID=America/Chicago:20220428T163000
DTEND;TZID=America/Chicago:20220428T180000
DTSTAMP:20260421T094402
CREATED:20220112T173752Z
LAST-MODIFIED:20220201T154828Z
UID:10001539-1651163400-1651168800@ynschoirs.org
SUMMARY:Brillante Rehearsal
DESCRIPTION:Brillante Rehearsal\nCommunity Concert Center 4:30-6:00pm
URL:https://ynschoirs.org/calendar/brillante-rehearsal-3/2022-04-28/
LOCATION:Community Concert Center\, 55 Concert Lane\, Naperville\, IL\, 60540
CATEGORIES:Brillante,Parents
END:VEVENT
BEGIN:VEVENT
DTSTART;TZID=America/Chicago:20220427T164500
DTEND;TZID=America/Chicago:20220427T174500
DTSTAMP:20260421T094402
CREATED:20220112T180139Z
LAST-MODIFIED:20220201T154919Z
UID:10001670-1651077900-1651081500@ynschoirs.org
SUMMARY:Primo Rehearsal
DESCRIPTION:Primo Rehearsal\nCommunity Concert Center 4:45pm-5:45pm
URL:https://ynschoirs.org/calendar/primo-rehearsal-4/2022-04-27/
LOCATION:Community Concert Center\, 55 Concert Lane\, Naperville\, IL\, 60540
CATEGORIES:Parents,Primo
END:VEVENT
BEGIN:VEVENT
DTSTART;TZID=America/Chicago:20220426T184500
DTEND;TZID=America/Chicago:20220426T201500
DTSTAMP:20260421T094402
CREATED:20220112T180008Z
LAST-MODIFIED:20220201T155008Z
UID:10001654-1650998700-1651004100@ynschoirs.org
SUMMARY:Cantabile Rehearsal
DESCRIPTION:Cantabile Rehearsal\nCommunity Concert Center 6:45-8:15pm
URL:https://ynschoirs.org/calendar/cantabile-rehearsal-3/2022-04-26/
LOCATION:Community Concert Center\, 55 Concert Lane\, Naperville\, IL\, 60540
CATEGORIES:Cantabile,Parents
END:VEVENT
BEGIN:VEVENT
DTSTART;TZID=America/Chicago:20220426T181500
DTEND;TZID=America/Chicago:20220426T201500
DTSTAMP:20260421T094402
CREATED:20220112T175812Z
LAST-MODIFIED:20220112T175812Z
UID:10001638-1650996900-1651004100@ynschoirs.org
SUMMARY:Bella Voce Rehearsal
DESCRIPTION:Bella Voce Rehearsal\nFaith Lutheran Church 6:15pm-8:15pm
URL:https://ynschoirs.org/calendar/bella-voce-rehearsal-3/2022-04-26/
LOCATION:Faith Lutheran Church\, 3000 Liberty Street\, Aurora\, IL\, 60502
CATEGORIES:Bella Voce,Parents
END:VEVENT
BEGIN:VEVENT
DTSTART;TZID=America/Chicago:20220426T164500
DTEND;TZID=America/Chicago:20220426T181500
DTSTAMP:20260421T094402
CREATED:20220112T175644Z
LAST-MODIFIED:20220201T155220Z
UID:10001625-1650991500-1650996900@ynschoirs.org
SUMMARY:Ragazzi Rehearsal
DESCRIPTION:Ragazzi Rehearsal\nCommunity Concert Center 4:45-6:15pm \n 
URL:https://ynschoirs.org/calendar/ragazzi-rehearsal-3/2022-04-26/
LOCATION:Community Concert Center\, 55 Concert Lane\, Naperville\, IL\, 60540
CATEGORIES:Parents,Ragazzi
END:VEVENT
BEGIN:VEVENT
DTSTART;TZID=America/Chicago:20220426T163000
DTEND;TZID=America/Chicago:20220426T174500
DTSTAMP:20260421T094402
CREATED:20220112T175054Z
LAST-MODIFIED:20220201T155310Z
UID:10001610-1650990600-1650995100@ynschoirs.org
SUMMARY:Brio Rehearsal
DESCRIPTION:Brio Rehearsal\nCommunity Concert Center 4:30-5:45pm
URL:https://ynschoirs.org/calendar/brio-rehearsal-3/2022-04-26/
LOCATION:Community Concert Center\, 55 Concert Lane\, Naperville\, IL\, 60540
CATEGORIES:Brio,Parents
END:VEVENT
BEGIN:VEVENT
DTSTART;TZID=America/Chicago:20220425T181500
DTEND;TZID=America/Chicago:20220425T201500
DTSTAMP:20260421T094402
CREATED:20220112T174209Z
LAST-MODIFIED:20220112T174209Z
UID:10001568-1650910500-1650917700@ynschoirs.org
SUMMARY:Bella Cantare Rehearsal
DESCRIPTION:Bella Cantare Rehearsal\nFaith Lutheran Church 6:15-8:15pm
URL:https://ynschoirs.org/calendar/bella-cantare-rehearsal-2/2022-04-25/
LOCATION:Faith Lutheran Church\, 3000 Liberty Street\, Aurora\, IL\, 60502
CATEGORIES:Bella Cantare,Parents
END:VEVENT
BEGIN:VEVENT
DTSTART;TZID=America/Chicago:20220425T181500
DTEND;TZID=America/Chicago:20220425T200000
DTSTAMP:20260421T094402
CREATED:20220112T174345Z
LAST-MODIFIED:20220112T174345Z
UID:10001582-1650910500-1650916800@ynschoirs.org
SUMMARY:Canto Vivo Rehearsal
DESCRIPTION:Canto Vivo Rehearsal\nFaith Lutheran Church 6:15-8:00pm
URL:https://ynschoirs.org/calendar/canto-vivo-rehearsal-2/2022-04-25/
LOCATION:Faith Lutheran Church\, 3000 Liberty Street\, Aurora\, IL\, 60502
CATEGORIES:Canto Vivo,Parents
END:VEVENT
BEGIN:VEVENT
DTSTART;TZID=America/Chicago:20220425T164500
DTEND;TZID=America/Chicago:20220425T174500
DTSTAMP:20260421T094402
CREATED:20220112T174546Z
LAST-MODIFIED:20220307T154347Z
UID:10001597-1650905100-1650908700@ynschoirs.org
SUMMARY:Dolce Showcase Performance
DESCRIPTION:Dolce Showcase Performance\nAlden of Waterford 4:45pm arrival\, 5:00pm performance
URL:https://ynschoirs.org/calendar/dolce-rehearsal-4-2022-04-25/
LOCATION:ServBank\, 3201 Orchard Road\, Oswego\, IL\, 60543
CATEGORIES:Dolce,Parents
END:VEVENT
BEGIN:VEVENT
DTSTART;VALUE=DATE:20220424
DTEND;VALUE=DATE:20220425
DTSTAMP:20260421T094402
CREATED:20220208T162047Z
LAST-MODIFIED:20220208T162047Z
UID:10001682-1650758400-1650844799@ynschoirs.org
SUMMARY:Spring Concert
DESCRIPTION:Spring Concert\nBrillante\, Ragazzi\, Cantabile\, Bella Voce\, Bella Cantare and Canto Vivo \nAfternoon and Evening Times – TBD
URL:https://ynschoirs.org/calendar/spring-concert/
LOCATION:Wentz Concert Hall\, 171 E Chicago Avenue\, Naperville\, IL\, 60540
CATEGORIES:Bella Cantare,Bella Voce,Brillante,Cantabile,Canto Vivo,Parents,Ragazzi
END:VEVENT
END:VCALENDAR