BEGIN:VCALENDAR
VERSION:2.0
PRODID:-//Young Naperville Singers - ECPv6.8.0//NONSGML v1.0//EN
CALSCALE:GREGORIAN
METHOD:PUBLISH
X-WR-CALNAME:Young Naperville Singers
X-ORIGINAL-URL:https://ynschoirs.org
X-WR-CALDESC:Events for Young Naperville Singers
REFRESH-INTERVAL;VALUE=DURATION:PT1H
X-Robots-Tag:noindex
X-PUBLISHED-TTL:PT1H
BEGIN:VTIMEZONE
TZID:America/Chicago
BEGIN:DAYLIGHT
TZOFFSETFROM:-0600
TZOFFSETTO:-0500
TZNAME:CDT
DTSTART:20220313T080000
END:DAYLIGHT
BEGIN:STANDARD
TZOFFSETFROM:-0500
TZOFFSETTO:-0600
TZNAME:CST
DTSTART:20221106T070000
END:STANDARD
END:VTIMEZONE
BEGIN:VEVENT
DTSTART;TZID=America/Chicago:20220307T181500
DTEND;TZID=America/Chicago:20220307T201500
DTSTAMP:20260421T195821
CREATED:20220112T174209Z
LAST-MODIFIED:20220112T174209Z
UID:10001562-1646676900-1646684100@ynschoirs.org
SUMMARY:Bella Cantare Rehearsal
DESCRIPTION:Bella Cantare Rehearsal\nFaith Lutheran Church 6:15-8:15pm
URL:https://ynschoirs.org/calendar/bella-cantare-rehearsal-2/2022-03-07/
LOCATION:Faith Lutheran Church\, 3000 Liberty Street\, Aurora\, IL\, 60502
CATEGORIES:Bella Cantare,Parents
END:VEVENT
BEGIN:VEVENT
DTSTART;TZID=America/Chicago:20220307T181500
DTEND;TZID=America/Chicago:20220307T200000
DTSTAMP:20260421T195821
CREATED:20220112T174345Z
LAST-MODIFIED:20220112T174345Z
UID:10001576-1646676900-1646683200@ynschoirs.org
SUMMARY:Canto Vivo Rehearsal
DESCRIPTION:Canto Vivo Rehearsal\nFaith Lutheran Church 6:15-8:00pm
URL:https://ynschoirs.org/calendar/canto-vivo-rehearsal-2/2022-03-07/
LOCATION:Faith Lutheran Church\, 3000 Liberty Street\, Aurora\, IL\, 60502
CATEGORIES:Canto Vivo,Parents
END:VEVENT
BEGIN:VEVENT
DTSTART;TZID=America/Chicago:20220307T164500
DTEND;TZID=America/Chicago:20220307T174500
DTSTAMP:20260421T195821
CREATED:20220112T174546Z
LAST-MODIFIED:20220112T174546Z
UID:10001587-1646671500-1646675100@ynschoirs.org
SUMMARY:Dolce Rehearsal
DESCRIPTION:Dolce Rehearsal\nAllied First Bank 4:45-5:45pm
URL:https://ynschoirs.org/calendar/dolce-rehearsal-4/2022-03-07/
LOCATION:ServBank\, 3201 Orchard Road\, Oswego\, IL\, 60543
CATEGORIES:Dolce,Parents
END:VEVENT
BEGIN:VEVENT
DTSTART;TZID=America/Chicago:20220303T164500
DTEND;TZID=America/Chicago:20220303T180000
DTSTAMP:20260421T195821
CREATED:20220112T174030Z
LAST-MODIFIED:20220201T154555Z
UID:10001547-1646325900-1646330400@ynschoirs.org
SUMMARY:Aria Rehearsal
DESCRIPTION:Aria Rehearsal\nCommunity Concert Center 4:45pm-6:00pm
URL:https://ynschoirs.org/calendar/aria-rehearsal-3/2022-03-03/
LOCATION:Community Concert Center\, 55 Concert Lane\, Naperville\, IL\, 60540
CATEGORIES:Aria,Parents
END:VEVENT
BEGIN:VEVENT
DTSTART;TZID=America/Chicago:20220303T163000
DTEND;TZID=America/Chicago:20220303T180000
DTSTAMP:20260421T195821
CREATED:20220112T173752Z
LAST-MODIFIED:20220201T154828Z
UID:10001532-1646325000-1646330400@ynschoirs.org
SUMMARY:Brillante Rehearsal
DESCRIPTION:Brillante Rehearsal\nCommunity Concert Center 4:30-6:00pm
URL:https://ynschoirs.org/calendar/brillante-rehearsal-3/2022-03-03/
LOCATION:Community Concert Center\, 55 Concert Lane\, Naperville\, IL\, 60540
CATEGORIES:Brillante,Parents
END:VEVENT
BEGIN:VEVENT
DTSTART;TZID=America/Chicago:20220302T164500
DTEND;TZID=America/Chicago:20220302T174500
DTSTAMP:20260421T195821
CREATED:20220112T180139Z
LAST-MODIFIED:20220201T154919Z
UID:10001664-1646239500-1646243100@ynschoirs.org
SUMMARY:Primo Rehearsal
DESCRIPTION:Primo Rehearsal\nCommunity Concert Center 4:45pm-5:45pm
URL:https://ynschoirs.org/calendar/primo-rehearsal-4/2022-03-02/
LOCATION:Community Concert Center\, 55 Concert Lane\, Naperville\, IL\, 60540
CATEGORIES:Parents,Primo
END:VEVENT
BEGIN:VEVENT
DTSTART;TZID=America/Chicago:20220301T184500
DTEND;TZID=America/Chicago:20220301T201500
DTSTAMP:20260421T195821
CREATED:20220112T180008Z
LAST-MODIFIED:20220201T155008Z
UID:10001649-1646160300-1646165700@ynschoirs.org
SUMMARY:Cantabile Rehearsal
DESCRIPTION:Cantabile Rehearsal\nCommunity Concert Center 6:45-8:15pm
URL:https://ynschoirs.org/calendar/cantabile-rehearsal-3/2022-03-01/
LOCATION:Community Concert Center\, 55 Concert Lane\, Naperville\, IL\, 60540
CATEGORIES:Cantabile,Parents
END:VEVENT
BEGIN:VEVENT
DTSTART;TZID=America/Chicago:20220301T181500
DTEND;TZID=America/Chicago:20220301T201500
DTSTAMP:20260421T195821
CREATED:20220112T175812Z
LAST-MODIFIED:20220112T175812Z
UID:10001634-1646158500-1646165700@ynschoirs.org
SUMMARY:Bella Voce Rehearsal
DESCRIPTION:Bella Voce Rehearsal\nFaith Lutheran Church 6:15pm-8:15pm
URL:https://ynschoirs.org/calendar/bella-voce-rehearsal-3/2022-03-01/
LOCATION:Faith Lutheran Church\, 3000 Liberty Street\, Aurora\, IL\, 60502
CATEGORIES:Bella Voce,Parents
END:VEVENT
BEGIN:VEVENT
DTSTART;TZID=America/Chicago:20220301T164500
DTEND;TZID=America/Chicago:20220301T181500
DTSTAMP:20260421T195821
CREATED:20220112T175644Z
LAST-MODIFIED:20220201T155220Z
UID:10001619-1646153100-1646158500@ynschoirs.org
SUMMARY:Ragazzi Rehearsal
DESCRIPTION:Ragazzi Rehearsal\nCommunity Concert Center 4:45-6:15pm \n 
URL:https://ynschoirs.org/calendar/ragazzi-rehearsal-3/2022-03-01/
LOCATION:Community Concert Center\, 55 Concert Lane\, Naperville\, IL\, 60540
CATEGORIES:Parents,Ragazzi
END:VEVENT
BEGIN:VEVENT
DTSTART;TZID=America/Chicago:20220301T163000
DTEND;TZID=America/Chicago:20220301T174500
DTSTAMP:20260421T195821
CREATED:20220112T175054Z
LAST-MODIFIED:20220201T155310Z
UID:10001605-1646152200-1646156700@ynschoirs.org
SUMMARY:Brio Rehearsal
DESCRIPTION:Brio Rehearsal\nCommunity Concert Center 4:30-5:45pm
URL:https://ynschoirs.org/calendar/brio-rehearsal-3/2022-03-01/
LOCATION:Community Concert Center\, 55 Concert Lane\, Naperville\, IL\, 60540
CATEGORIES:Brio,Parents
END:VEVENT
BEGIN:VEVENT
DTSTART;TZID=America/Chicago:20220228T181500
DTEND;TZID=America/Chicago:20220228T201500
DTSTAMP:20260421T195821
CREATED:20220112T174209Z
LAST-MODIFIED:20220112T174209Z
UID:10001561-1646072100-1646079300@ynschoirs.org
SUMMARY:Bella Cantare Rehearsal
DESCRIPTION:Bella Cantare Rehearsal\nFaith Lutheran Church 6:15-8:15pm
URL:https://ynschoirs.org/calendar/bella-cantare-rehearsal-2/2022-02-28/
LOCATION:Faith Lutheran Church\, 3000 Liberty Street\, Aurora\, IL\, 60502
CATEGORIES:Bella Cantare,Parents
END:VEVENT
BEGIN:VEVENT
DTSTART;TZID=America/Chicago:20220228T181500
DTEND;TZID=America/Chicago:20220228T200000
DTSTAMP:20260421T195821
CREATED:20220112T174345Z
LAST-MODIFIED:20220112T174345Z
UID:10001575-1646072100-1646078400@ynschoirs.org
SUMMARY:Canto Vivo Rehearsal
DESCRIPTION:Canto Vivo Rehearsal\nFaith Lutheran Church 6:15-8:00pm
URL:https://ynschoirs.org/calendar/canto-vivo-rehearsal-2/2022-02-28/
LOCATION:Faith Lutheran Church\, 3000 Liberty Street\, Aurora\, IL\, 60502
CATEGORIES:Canto Vivo,Parents
END:VEVENT
BEGIN:VEVENT
DTSTART;TZID=America/Chicago:20220228T164500
DTEND;TZID=America/Chicago:20220228T180000
DTSTAMP:20260421T195821
CREATED:20220112T174546Z
LAST-MODIFIED:20220201T194417Z
UID:10001594-1646066700-1646071200@ynschoirs.org
SUMMARY:Dolce Rehearsal
DESCRIPTION:Dolce Rehearsal – Bring a Friend\nAllied First Bank 4:45-6:00pm
URL:https://ynschoirs.org/calendar/dolce-rehearsal-4-2022-02-28/
LOCATION:ServBank\, 3201 Orchard Road\, Oswego\, IL\, 60543
CATEGORIES:Dolce,Parents
END:VEVENT
BEGIN:VEVENT
DTSTART;TZID=America/Chicago:20220224T164500
DTEND;TZID=America/Chicago:20220224T180000
DTSTAMP:20260421T195821
CREATED:20220112T174030Z
LAST-MODIFIED:20220201T154555Z
UID:10001546-1645721100-1645725600@ynschoirs.org
SUMMARY:Aria Rehearsal
DESCRIPTION:Aria Rehearsal\nCommunity Concert Center 4:45pm-6:00pm
URL:https://ynschoirs.org/calendar/aria-rehearsal-3/2022-02-24/
LOCATION:Community Concert Center\, 55 Concert Lane\, Naperville\, IL\, 60540
CATEGORIES:Aria,Parents
END:VEVENT
BEGIN:VEVENT
DTSTART;TZID=America/Chicago:20220224T163000
DTEND;TZID=America/Chicago:20220224T180000
DTSTAMP:20260421T195821
CREATED:20220112T173752Z
LAST-MODIFIED:20220201T154828Z
UID:10001531-1645720200-1645725600@ynschoirs.org
SUMMARY:Brillante Rehearsal
DESCRIPTION:Brillante Rehearsal\nCommunity Concert Center 4:30-6:00pm
URL:https://ynschoirs.org/calendar/brillante-rehearsal-3/2022-02-24/
LOCATION:Community Concert Center\, 55 Concert Lane\, Naperville\, IL\, 60540
CATEGORIES:Brillante,Parents
END:VEVENT
BEGIN:VEVENT
DTSTART;TZID=America/Chicago:20220223T164500
DTEND;TZID=America/Chicago:20220223T174500
DTSTAMP:20260421T195821
CREATED:20220112T180139Z
LAST-MODIFIED:20220201T154919Z
UID:10001663-1645634700-1645638300@ynschoirs.org
SUMMARY:Primo Rehearsal
DESCRIPTION:Primo Rehearsal\nCommunity Concert Center 4:45pm-5:45pm
URL:https://ynschoirs.org/calendar/primo-rehearsal-4/2022-02-23/
LOCATION:Community Concert Center\, 55 Concert Lane\, Naperville\, IL\, 60540
CATEGORIES:Parents,Primo
END:VEVENT
BEGIN:VEVENT
DTSTART;TZID=America/Chicago:20220222T184500
DTEND;TZID=America/Chicago:20220222T201500
DTSTAMP:20260421T195821
CREATED:20220112T180008Z
LAST-MODIFIED:20220201T155008Z
UID:10001648-1645555500-1645560900@ynschoirs.org
SUMMARY:Cantabile Rehearsal
DESCRIPTION:Cantabile Rehearsal\nCommunity Concert Center 6:45-8:15pm
URL:https://ynschoirs.org/calendar/cantabile-rehearsal-3/2022-02-22/
LOCATION:Community Concert Center\, 55 Concert Lane\, Naperville\, IL\, 60540
CATEGORIES:Cantabile,Parents
END:VEVENT
BEGIN:VEVENT
DTSTART;TZID=America/Chicago:20220222T181500
DTEND;TZID=America/Chicago:20220222T201500
DTSTAMP:20260421T195821
CREATED:20220112T175812Z
LAST-MODIFIED:20220112T175812Z
UID:10001633-1645553700-1645560900@ynschoirs.org
SUMMARY:Bella Voce Rehearsal
DESCRIPTION:Bella Voce Rehearsal\nFaith Lutheran Church 6:15pm-8:15pm
URL:https://ynschoirs.org/calendar/bella-voce-rehearsal-3/2022-02-22/
LOCATION:Faith Lutheran Church\, 3000 Liberty Street\, Aurora\, IL\, 60502
CATEGORIES:Bella Voce,Parents
END:VEVENT
BEGIN:VEVENT
DTSTART;TZID=America/Chicago:20220222T164500
DTEND;TZID=America/Chicago:20220222T181500
DTSTAMP:20260421T195821
CREATED:20220112T175644Z
LAST-MODIFIED:20220201T155220Z
UID:10001618-1645548300-1645553700@ynschoirs.org
SUMMARY:Ragazzi Rehearsal
DESCRIPTION:Ragazzi Rehearsal\nCommunity Concert Center 4:45-6:15pm \n 
URL:https://ynschoirs.org/calendar/ragazzi-rehearsal-3/2022-02-22/
LOCATION:Community Concert Center\, 55 Concert Lane\, Naperville\, IL\, 60540
CATEGORIES:Parents,Ragazzi
END:VEVENT
BEGIN:VEVENT
DTSTART;TZID=America/Chicago:20220222T163000
DTEND;TZID=America/Chicago:20220222T174500
DTSTAMP:20260421T195821
CREATED:20220112T175054Z
LAST-MODIFIED:20220201T155310Z
UID:10001604-1645547400-1645551900@ynschoirs.org
SUMMARY:Brio Rehearsal
DESCRIPTION:Brio Rehearsal\nCommunity Concert Center 4:30-5:45pm
URL:https://ynschoirs.org/calendar/brio-rehearsal-3/2022-02-22/
LOCATION:Community Concert Center\, 55 Concert Lane\, Naperville\, IL\, 60540
CATEGORIES:Brio,Parents
END:VEVENT
BEGIN:VEVENT
DTSTART;TZID=America/Chicago:20220221T181500
DTEND;TZID=America/Chicago:20220221T201500
DTSTAMP:20260421T195821
CREATED:20220112T174209Z
LAST-MODIFIED:20220112T174209Z
UID:10001560-1645467300-1645474500@ynschoirs.org
SUMMARY:Bella Cantare Rehearsal
DESCRIPTION:Bella Cantare Rehearsal\nFaith Lutheran Church 6:15-8:15pm
URL:https://ynschoirs.org/calendar/bella-cantare-rehearsal-2/2022-02-21/
LOCATION:Faith Lutheran Church\, 3000 Liberty Street\, Aurora\, IL\, 60502
CATEGORIES:Bella Cantare,Parents
END:VEVENT
BEGIN:VEVENT
DTSTART;TZID=America/Chicago:20220221T181500
DTEND;TZID=America/Chicago:20220221T200000
DTSTAMP:20260421T195821
CREATED:20220112T174345Z
LAST-MODIFIED:20220112T174345Z
UID:10001574-1645467300-1645473600@ynschoirs.org
SUMMARY:Canto Vivo Rehearsal
DESCRIPTION:Canto Vivo Rehearsal\nFaith Lutheran Church 6:15-8:00pm
URL:https://ynschoirs.org/calendar/canto-vivo-rehearsal-2/2022-02-21/
LOCATION:Faith Lutheran Church\, 3000 Liberty Street\, Aurora\, IL\, 60502
CATEGORIES:Canto Vivo,Parents
END:VEVENT
BEGIN:VEVENT
DTSTART;VALUE=DATE:20220221
DTEND;VALUE=DATE:20220222
DTSTAMP:20260421T195821
CREATED:20220112T174546Z
LAST-MODIFIED:20220221T150210Z
UID:10001593-1645401600-1645487999@ynschoirs.org
SUMMARY:Dolce - No Rehearsal
DESCRIPTION:Dolce – No Rehearsal\n 
URL:https://ynschoirs.org/calendar/dolce-rehearsal-4-2022-02-21/
LOCATION:ServBank\, 3201 Orchard Road\, Oswego\, IL\, 60543
CATEGORIES:Dolce,Parents
END:VEVENT
BEGIN:VEVENT
DTSTART;TZID=America/Chicago:20220217T164500
DTEND;TZID=America/Chicago:20220217T180000
DTSTAMP:20260421T195821
CREATED:20220112T174030Z
LAST-MODIFIED:20220201T154555Z
UID:10001545-1645116300-1645120800@ynschoirs.org
SUMMARY:Aria Rehearsal
DESCRIPTION:Aria Rehearsal\nCommunity Concert Center 4:45pm-6:00pm
URL:https://ynschoirs.org/calendar/aria-rehearsal-3/2022-02-17/
LOCATION:Community Concert Center\, 55 Concert Lane\, Naperville\, IL\, 60540
CATEGORIES:Aria,Parents
END:VEVENT
BEGIN:VEVENT
DTSTART;TZID=America/Chicago:20220217T163000
DTEND;TZID=America/Chicago:20220217T180000
DTSTAMP:20260421T195821
CREATED:20220112T173752Z
LAST-MODIFIED:20220201T154828Z
UID:10001530-1645115400-1645120800@ynschoirs.org
SUMMARY:Brillante Rehearsal
DESCRIPTION:Brillante Rehearsal\nCommunity Concert Center 4:30-6:00pm
URL:https://ynschoirs.org/calendar/brillante-rehearsal-3/2022-02-17/
LOCATION:Community Concert Center\, 55 Concert Lane\, Naperville\, IL\, 60540
CATEGORIES:Brillante,Parents
END:VEVENT
BEGIN:VEVENT
DTSTART;TZID=America/Chicago:20220216T164500
DTEND;TZID=America/Chicago:20220216T174500
DTSTAMP:20260421T195821
CREATED:20220112T180139Z
LAST-MODIFIED:20220201T154919Z
UID:10001662-1645029900-1645033500@ynschoirs.org
SUMMARY:Primo Rehearsal
DESCRIPTION:Primo Rehearsal\nCommunity Concert Center 4:45pm-5:45pm
URL:https://ynschoirs.org/calendar/primo-rehearsal-4/2022-02-16/
LOCATION:Community Concert Center\, 55 Concert Lane\, Naperville\, IL\, 60540
CATEGORIES:Parents,Primo
END:VEVENT
BEGIN:VEVENT
DTSTART;TZID=America/Chicago:20220215T184500
DTEND;TZID=America/Chicago:20220215T201500
DTSTAMP:20260421T195821
CREATED:20220112T180008Z
LAST-MODIFIED:20220201T155008Z
UID:10001647-1644950700-1644956100@ynschoirs.org
SUMMARY:Cantabile Rehearsal
DESCRIPTION:Cantabile Rehearsal\nCommunity Concert Center 6:45-8:15pm
URL:https://ynschoirs.org/calendar/cantabile-rehearsal-3/2022-02-15/
LOCATION:Community Concert Center\, 55 Concert Lane\, Naperville\, IL\, 60540
CATEGORIES:Cantabile,Parents
END:VEVENT
BEGIN:VEVENT
DTSTART;TZID=America/Chicago:20220215T181500
DTEND;TZID=America/Chicago:20220215T201500
DTSTAMP:20260421T195821
CREATED:20220112T175812Z
LAST-MODIFIED:20220112T175812Z
UID:10001632-1644948900-1644956100@ynschoirs.org
SUMMARY:Bella Voce Rehearsal
DESCRIPTION:Bella Voce Rehearsal\nFaith Lutheran Church 6:15pm-8:15pm
URL:https://ynschoirs.org/calendar/bella-voce-rehearsal-3/2022-02-15/
LOCATION:Faith Lutheran Church\, 3000 Liberty Street\, Aurora\, IL\, 60502
CATEGORIES:Bella Voce,Parents
END:VEVENT
BEGIN:VEVENT
DTSTART;TZID=America/Chicago:20220215T164500
DTEND;TZID=America/Chicago:20220215T181500
DTSTAMP:20260421T195821
CREATED:20220112T175644Z
LAST-MODIFIED:20220201T155220Z
UID:10001617-1644943500-1644948900@ynschoirs.org
SUMMARY:Ragazzi Rehearsal
DESCRIPTION:Ragazzi Rehearsal\nCommunity Concert Center 4:45-6:15pm \n 
URL:https://ynschoirs.org/calendar/ragazzi-rehearsal-3/2022-02-15/
LOCATION:Community Concert Center\, 55 Concert Lane\, Naperville\, IL\, 60540
CATEGORIES:Parents,Ragazzi
END:VEVENT
BEGIN:VEVENT
DTSTART;TZID=America/Chicago:20220215T163000
DTEND;TZID=America/Chicago:20220215T174500
DTSTAMP:20260421T195821
CREATED:20220112T175054Z
LAST-MODIFIED:20220201T155310Z
UID:10001603-1644942600-1644947100@ynschoirs.org
SUMMARY:Brio Rehearsal
DESCRIPTION:Brio Rehearsal\nCommunity Concert Center 4:30-5:45pm
URL:https://ynschoirs.org/calendar/brio-rehearsal-3/2022-02-15/
LOCATION:Community Concert Center\, 55 Concert Lane\, Naperville\, IL\, 60540
CATEGORIES:Brio,Parents
END:VEVENT
END:VCALENDAR