BEGIN:VCALENDAR
VERSION:2.0
PRODID:-//Young Naperville Singers - ECPv6.8.0//NONSGML v1.0//EN
CALSCALE:GREGORIAN
METHOD:PUBLISH
X-WR-CALNAME:Young Naperville Singers
X-ORIGINAL-URL:https://ynschoirs.org
X-WR-CALDESC:Events for Young Naperville Singers
REFRESH-INTERVAL;VALUE=DURATION:PT1H
X-Robots-Tag:noindex
X-PUBLISHED-TTL:PT1H
BEGIN:VTIMEZONE
TZID:America/Chicago
BEGIN:DAYLIGHT
TZOFFSETFROM:-0600
TZOFFSETTO:-0500
TZNAME:CDT
DTSTART:20220313T080000
END:DAYLIGHT
BEGIN:STANDARD
TZOFFSETFROM:-0500
TZOFFSETTO:-0600
TZNAME:CST
DTSTART:20221106T070000
END:STANDARD
END:VTIMEZONE
BEGIN:VEVENT
DTSTART;TZID=America/Chicago:20220425T181500
DTEND;TZID=America/Chicago:20220425T201500
DTSTAMP:20260421T155412
CREATED:20220112T174209Z
LAST-MODIFIED:20220112T174209Z
UID:10001568-1650910500-1650917700@ynschoirs.org
SUMMARY:Bella Cantare Rehearsal
DESCRIPTION:Bella Cantare Rehearsal\nFaith Lutheran Church 6:15-8:15pm
URL:https://ynschoirs.org/calendar/bella-cantare-rehearsal-2/2022-04-25/
LOCATION:Faith Lutheran Church\, 3000 Liberty Street\, Aurora\, IL\, 60502
CATEGORIES:Bella Cantare,Parents
END:VEVENT
BEGIN:VEVENT
DTSTART;TZID=America/Chicago:20220425T181500
DTEND;TZID=America/Chicago:20220425T200000
DTSTAMP:20260421T155412
CREATED:20220112T174345Z
LAST-MODIFIED:20220112T174345Z
UID:10001582-1650910500-1650916800@ynschoirs.org
SUMMARY:Canto Vivo Rehearsal
DESCRIPTION:Canto Vivo Rehearsal\nFaith Lutheran Church 6:15-8:00pm
URL:https://ynschoirs.org/calendar/canto-vivo-rehearsal-2/2022-04-25/
LOCATION:Faith Lutheran Church\, 3000 Liberty Street\, Aurora\, IL\, 60502
CATEGORIES:Canto Vivo,Parents
END:VEVENT
BEGIN:VEVENT
DTSTART;TZID=America/Chicago:20220425T164500
DTEND;TZID=America/Chicago:20220425T174500
DTSTAMP:20260421T155412
CREATED:20220112T174546Z
LAST-MODIFIED:20220307T154347Z
UID:10001597-1650905100-1650908700@ynschoirs.org
SUMMARY:Dolce Showcase Performance
DESCRIPTION:Dolce Showcase Performance\nAlden of Waterford 4:45pm arrival\, 5:00pm performance
URL:https://ynschoirs.org/calendar/dolce-rehearsal-4-2022-04-25/
LOCATION:ServBank\, 3201 Orchard Road\, Oswego\, IL\, 60543
CATEGORIES:Dolce,Parents
END:VEVENT
BEGIN:VEVENT
DTSTART;VALUE=DATE:20220424
DTEND;VALUE=DATE:20220425
DTSTAMP:20260421T155412
CREATED:20220208T162047Z
LAST-MODIFIED:20220208T162047Z
UID:10001682-1650758400-1650844799@ynschoirs.org
SUMMARY:Spring Concert
DESCRIPTION:Spring Concert\nBrillante\, Ragazzi\, Cantabile\, Bella Voce\, Bella Cantare and Canto Vivo \nAfternoon and Evening Times – TBD
URL:https://ynschoirs.org/calendar/spring-concert/
LOCATION:Wentz Concert Hall\, 171 E Chicago Avenue\, Naperville\, IL\, 60540
CATEGORIES:Bella Cantare,Bella Voce,Brillante,Cantabile,Canto Vivo,Parents,Ragazzi
END:VEVENT
BEGIN:VEVENT
DTSTART;VALUE=DATE:20220423
DTEND;VALUE=DATE:20220424
DTSTAMP:20260421T155412
CREATED:20220208T161226Z
LAST-MODIFIED:20220208T161226Z
UID:10001681-1650672000-1650758399@ynschoirs.org
SUMMARY:Mandatory Rehearsal
DESCRIPTION:Mandatory Rehearsal\nBrillante\, Ragazzi\, Cantabile\, Bella Voce\, Bella Cantare\, and Canto Vivo \nWentz Concert Hall – Morning and early afternoon times\, TBD
URL:https://ynschoirs.org/calendar/mandatory-rehearsal/
LOCATION:Wentz Concert Hall\, 171 E Chicago Avenue\, Naperville\, IL\, 60540
CATEGORIES:Bella Cantare,Bella Voce,Brillante,Cantabile,Canto Vivo,Parents,Ragazzi
END:VEVENT
BEGIN:VEVENT
DTSTART;TZID=America/Chicago:20220421T164500
DTEND;TZID=America/Chicago:20220421T180000
DTSTAMP:20260421T155412
CREATED:20220112T174030Z
LAST-MODIFIED:20220201T154555Z
UID:10001553-1650559500-1650564000@ynschoirs.org
SUMMARY:Aria Rehearsal
DESCRIPTION:Aria Rehearsal\nCommunity Concert Center 4:45pm-6:00pm
URL:https://ynschoirs.org/calendar/aria-rehearsal-3/2022-04-21/
LOCATION:Community Concert Center\, 55 Concert Lane\, Naperville\, IL\, 60540
CATEGORIES:Aria,Parents
END:VEVENT
BEGIN:VEVENT
DTSTART;TZID=America/Chicago:20220421T163000
DTEND;TZID=America/Chicago:20220421T180000
DTSTAMP:20260421T155412
CREATED:20220112T173752Z
LAST-MODIFIED:20220201T154828Z
UID:10001538-1650558600-1650564000@ynschoirs.org
SUMMARY:Brillante Rehearsal
DESCRIPTION:Brillante Rehearsal\nCommunity Concert Center 4:30-6:00pm
URL:https://ynschoirs.org/calendar/brillante-rehearsal-3/2022-04-21/
LOCATION:Community Concert Center\, 55 Concert Lane\, Naperville\, IL\, 60540
CATEGORIES:Brillante,Parents
END:VEVENT
BEGIN:VEVENT
DTSTART;TZID=America/Chicago:20220420T164500
DTEND;TZID=America/Chicago:20220420T174500
DTSTAMP:20260421T155412
CREATED:20220112T180139Z
LAST-MODIFIED:20220201T154919Z
UID:10001669-1650473100-1650476700@ynschoirs.org
SUMMARY:Primo Rehearsal
DESCRIPTION:Primo Rehearsal\nCommunity Concert Center 4:45pm-5:45pm
URL:https://ynschoirs.org/calendar/primo-rehearsal-4/2022-04-20/
LOCATION:Community Concert Center\, 55 Concert Lane\, Naperville\, IL\, 60540
CATEGORIES:Parents,Primo
END:VEVENT
BEGIN:VEVENT
DTSTART;TZID=America/Chicago:20220419T184500
DTEND;TZID=America/Chicago:20220419T201500
DTSTAMP:20260421T155412
CREATED:20220112T180008Z
LAST-MODIFIED:20220201T155008Z
UID:10001653-1650393900-1650399300@ynschoirs.org
SUMMARY:Cantabile Rehearsal
DESCRIPTION:Cantabile Rehearsal\nCommunity Concert Center 6:45-8:15pm
URL:https://ynschoirs.org/calendar/cantabile-rehearsal-3/2022-04-19/
LOCATION:Community Concert Center\, 55 Concert Lane\, Naperville\, IL\, 60540
CATEGORIES:Cantabile,Parents
END:VEVENT
BEGIN:VEVENT
DTSTART;TZID=America/Chicago:20220419T181500
DTEND;TZID=America/Chicago:20220419T201500
DTSTAMP:20260421T155412
CREATED:20220112T175812Z
LAST-MODIFIED:20220112T175812Z
UID:10001637-1650392100-1650399300@ynschoirs.org
SUMMARY:Bella Voce Rehearsal
DESCRIPTION:Bella Voce Rehearsal\nFaith Lutheran Church 6:15pm-8:15pm
URL:https://ynschoirs.org/calendar/bella-voce-rehearsal-3/2022-04-19/
LOCATION:Faith Lutheran Church\, 3000 Liberty Street\, Aurora\, IL\, 60502
CATEGORIES:Bella Voce,Parents
END:VEVENT
BEGIN:VEVENT
DTSTART;TZID=America/Chicago:20220419T164500
DTEND;TZID=America/Chicago:20220419T181500
DTSTAMP:20260421T155412
CREATED:20220112T175644Z
LAST-MODIFIED:20220201T155220Z
UID:10001624-1650386700-1650392100@ynschoirs.org
SUMMARY:Ragazzi Rehearsal
DESCRIPTION:Ragazzi Rehearsal\nCommunity Concert Center 4:45-6:15pm \n 
URL:https://ynschoirs.org/calendar/ragazzi-rehearsal-3/2022-04-19/
LOCATION:Community Concert Center\, 55 Concert Lane\, Naperville\, IL\, 60540
CATEGORIES:Parents,Ragazzi
END:VEVENT
BEGIN:VEVENT
DTSTART;TZID=America/Chicago:20220419T164500
DTEND;TZID=America/Chicago:20220419T173000
DTSTAMP:20260421T155412
CREATED:20220112T175054Z
LAST-MODIFIED:20220208T174729Z
UID:10001598-1650386700-1650389400@ynschoirs.org
SUMMARY:Brio Showcase Performance
DESCRIPTION:Brio Showcase Performance\nMartin Avenue 4:45pm-5:30pm \n4:45pm arrival\, 5:15pm perform\, 5:30 dismissal
URL:https://ynschoirs.org/calendar/brio-rehearsal-3-2022-04-05/
LOCATION:Martin Avenue\, 310 W. Martin Avenue\, Naperville\, IL\, 60540
CATEGORIES:Brio,Parents
END:VEVENT
BEGIN:VEVENT
DTSTART;TZID=America/Chicago:20220418T181500
DTEND;TZID=America/Chicago:20220418T201500
DTSTAMP:20260421T155412
CREATED:20220112T174209Z
LAST-MODIFIED:20220112T174209Z
UID:10001567-1650305700-1650312900@ynschoirs.org
SUMMARY:Bella Cantare Rehearsal
DESCRIPTION:Bella Cantare Rehearsal\nFaith Lutheran Church 6:15-8:15pm
URL:https://ynschoirs.org/calendar/bella-cantare-rehearsal-2/2022-04-18/
LOCATION:Faith Lutheran Church\, 3000 Liberty Street\, Aurora\, IL\, 60502
CATEGORIES:Bella Cantare,Parents
END:VEVENT
BEGIN:VEVENT
DTSTART;TZID=America/Chicago:20220418T181500
DTEND;TZID=America/Chicago:20220418T200000
DTSTAMP:20260421T155412
CREATED:20220112T174345Z
LAST-MODIFIED:20220112T174345Z
UID:10001581-1650305700-1650312000@ynschoirs.org
SUMMARY:Canto Vivo Rehearsal
DESCRIPTION:Canto Vivo Rehearsal\nFaith Lutheran Church 6:15-8:00pm
URL:https://ynschoirs.org/calendar/canto-vivo-rehearsal-2/2022-04-18/
LOCATION:Faith Lutheran Church\, 3000 Liberty Street\, Aurora\, IL\, 60502
CATEGORIES:Canto Vivo,Parents
END:VEVENT
BEGIN:VEVENT
DTSTART;TZID=America/Chicago:20220418T164500
DTEND;TZID=America/Chicago:20220418T174500
DTSTAMP:20260421T155412
CREATED:20220112T174546Z
LAST-MODIFIED:20220112T174546Z
UID:10001590-1650300300-1650303900@ynschoirs.org
SUMMARY:Dolce Rehearsal
DESCRIPTION:Dolce Rehearsal\nAllied First Bank 4:45-5:45pm
URL:https://ynschoirs.org/calendar/dolce-rehearsal-4/2022-04-18/
LOCATION:ServBank\, 3201 Orchard Road\, Oswego\, IL\, 60543
CATEGORIES:Dolce,Parents
END:VEVENT
BEGIN:VEVENT
DTSTART;TZID=America/Chicago:20220414T164500
DTEND;TZID=America/Chicago:20220414T180000
DTSTAMP:20260421T155412
CREATED:20220112T174030Z
LAST-MODIFIED:20220201T154555Z
UID:10001552-1649954700-1649959200@ynschoirs.org
SUMMARY:Aria Rehearsal
DESCRIPTION:Aria Rehearsal\nCommunity Concert Center 4:45pm-6:00pm
URL:https://ynschoirs.org/calendar/aria-rehearsal-3/2022-04-14/
LOCATION:Community Concert Center\, 55 Concert Lane\, Naperville\, IL\, 60540
CATEGORIES:Aria,Parents
END:VEVENT
BEGIN:VEVENT
DTSTART;TZID=America/Chicago:20220414T163000
DTEND;TZID=America/Chicago:20220414T180000
DTSTAMP:20260421T155412
CREATED:20220112T173752Z
LAST-MODIFIED:20220201T154828Z
UID:10001537-1649953800-1649959200@ynschoirs.org
SUMMARY:Brillante Rehearsal
DESCRIPTION:Brillante Rehearsal\nCommunity Concert Center 4:30-6:00pm
URL:https://ynschoirs.org/calendar/brillante-rehearsal-3/2022-04-14/
LOCATION:Community Concert Center\, 55 Concert Lane\, Naperville\, IL\, 60540
CATEGORIES:Brillante,Parents
END:VEVENT
BEGIN:VEVENT
DTSTART;TZID=America/Chicago:20220413T164500
DTEND;TZID=America/Chicago:20220413T173000
DTSTAMP:20260421T155412
CREATED:20220112T180139Z
LAST-MODIFIED:20220208T160608Z
UID:10001672-1649868300-1649871000@ynschoirs.org
SUMMARY:Primo Showcase Performance
DESCRIPTION:Primo Showcase Performance\nMartin Avenue 4:45pm-5:30pm
URL:https://ynschoirs.org/calendar/primo-rehearsal-4-2022-04-13/
LOCATION:Martin Avenue\, 310 W. Martin Avenue\, Naperville\, IL\, 60540
CATEGORIES:Parents,Primo
END:VEVENT
BEGIN:VEVENT
DTSTART;TZID=America/Chicago:20220412T184500
DTEND;TZID=America/Chicago:20220412T201500
DTSTAMP:20260421T155412
CREATED:20220112T180008Z
LAST-MODIFIED:20220201T155008Z
UID:10001652-1649789100-1649794500@ynschoirs.org
SUMMARY:Cantabile Rehearsal
DESCRIPTION:Cantabile Rehearsal\nCommunity Concert Center 6:45-8:15pm
URL:https://ynschoirs.org/calendar/cantabile-rehearsal-3/2022-04-12/
LOCATION:Community Concert Center\, 55 Concert Lane\, Naperville\, IL\, 60540
CATEGORIES:Cantabile,Parents
END:VEVENT
BEGIN:VEVENT
DTSTART;TZID=America/Chicago:20220412T181500
DTEND;TZID=America/Chicago:20220412T201500
DTSTAMP:20260421T155412
CREATED:20220112T175812Z
LAST-MODIFIED:20220112T175812Z
UID:10001636-1649787300-1649794500@ynschoirs.org
SUMMARY:Bella Voce Rehearsal
DESCRIPTION:Bella Voce Rehearsal\nFaith Lutheran Church 6:15pm-8:15pm
URL:https://ynschoirs.org/calendar/bella-voce-rehearsal-3/2022-04-12/
LOCATION:Faith Lutheran Church\, 3000 Liberty Street\, Aurora\, IL\, 60502
CATEGORIES:Bella Voce,Parents
END:VEVENT
BEGIN:VEVENT
DTSTART;TZID=America/Chicago:20220412T164500
DTEND;TZID=America/Chicago:20220412T181500
DTSTAMP:20260421T155412
CREATED:20220112T175644Z
LAST-MODIFIED:20220201T155220Z
UID:10001623-1649781900-1649787300@ynschoirs.org
SUMMARY:Ragazzi Rehearsal
DESCRIPTION:Ragazzi Rehearsal\nCommunity Concert Center 4:45-6:15pm \n 
URL:https://ynschoirs.org/calendar/ragazzi-rehearsal-3/2022-04-12/
LOCATION:Community Concert Center\, 55 Concert Lane\, Naperville\, IL\, 60540
CATEGORIES:Parents,Ragazzi
END:VEVENT
BEGIN:VEVENT
DTSTART;TZID=America/Chicago:20220412T163000
DTEND;TZID=America/Chicago:20220412T174500
DTSTAMP:20260421T155412
CREATED:20220112T175054Z
LAST-MODIFIED:20220201T155310Z
UID:10001609-1649781000-1649785500@ynschoirs.org
SUMMARY:Brio Rehearsal
DESCRIPTION:Brio Rehearsal\nCommunity Concert Center 4:30-5:45pm
URL:https://ynschoirs.org/calendar/brio-rehearsal-3/2022-04-12/
LOCATION:Community Concert Center\, 55 Concert Lane\, Naperville\, IL\, 60540
CATEGORIES:Brio,Parents
END:VEVENT
BEGIN:VEVENT
DTSTART;TZID=America/Chicago:20220411T181500
DTEND;TZID=America/Chicago:20220411T201500
DTSTAMP:20260421T155412
CREATED:20220112T174209Z
LAST-MODIFIED:20220112T174209Z
UID:10001566-1649700900-1649708100@ynschoirs.org
SUMMARY:Bella Cantare Rehearsal
DESCRIPTION:Bella Cantare Rehearsal\nFaith Lutheran Church 6:15-8:15pm
URL:https://ynschoirs.org/calendar/bella-cantare-rehearsal-2/2022-04-11/
LOCATION:Faith Lutheran Church\, 3000 Liberty Street\, Aurora\, IL\, 60502
CATEGORIES:Bella Cantare,Parents
END:VEVENT
BEGIN:VEVENT
DTSTART;TZID=America/Chicago:20220411T181500
DTEND;TZID=America/Chicago:20220411T200000
DTSTAMP:20260421T155412
CREATED:20220112T174345Z
LAST-MODIFIED:20220112T174345Z
UID:10001580-1649700900-1649707200@ynschoirs.org
SUMMARY:Canto Vivo Rehearsal
DESCRIPTION:Canto Vivo Rehearsal\nFaith Lutheran Church 6:15-8:00pm
URL:https://ynschoirs.org/calendar/canto-vivo-rehearsal-2/2022-04-11/
LOCATION:Faith Lutheran Church\, 3000 Liberty Street\, Aurora\, IL\, 60502
CATEGORIES:Canto Vivo,Parents
END:VEVENT
BEGIN:VEVENT
DTSTART;TZID=America/Chicago:20220411T164500
DTEND;TZID=America/Chicago:20220411T180000
DTSTAMP:20260421T155412
CREATED:20220112T174546Z
LAST-MODIFIED:20220321T165955Z
UID:10001596-1649695500-1649700000@ynschoirs.org
SUMMARY:Dolce Rehearsal
DESCRIPTION:Dolce Rehearsal – Share Day\nAllied First Bank 4:45-6:00pm
URL:https://ynschoirs.org/calendar/dolce-rehearsal-4-2022-04-11/
LOCATION:ServBank\, 3201 Orchard Road\, Oswego\, IL\, 60543
CATEGORIES:Dolce,Parents
END:VEVENT
BEGIN:VEVENT
DTSTART;TZID=America/Chicago:20220409T130000
DTEND;TZID=America/Chicago:20220409T141500
DTSTAMP:20260421T155412
CREATED:20220208T160957Z
LAST-MODIFIED:20220307T154727Z
UID:10001680-1649509200-1649513700@ynschoirs.org
SUMMARY:Monarch Landing Showcase Performance
DESCRIPTION:Monarch Landing Showcase Performance\nBrillante and Cantabile \nBrillante – Arrive at 1:00pm\, Perform at 1:30pm; Cantabile – Arrive at 1:15pm\, Perform after Brillante and finished by 2:15pm
URL:https://ynschoirs.org/calendar/monarch-landing-showcase-performance/
LOCATION:Monarch Landing\, 2255 Monarch Drive\, Naperville\, IL\, 60563
CATEGORIES:Brillante,Cantabile,Parents
END:VEVENT
BEGIN:VEVENT
DTSTART;TZID=America/Chicago:20220408T180000
DTEND;TZID=America/Chicago:20220408T203000
DTSTAMP:20260421T155412
CREATED:20220208T154451Z
LAST-MODIFIED:20220208T154451Z
UID:10001679-1649440800-1649449800@ynschoirs.org
SUMMARY:Boys Power Sing
DESCRIPTION:Boys Power Sing\nBrio\, Ragazzi and Canto Vivo – Neuqua Valley High School \nApproximately 6pm-8:30pm
URL:https://ynschoirs.org/calendar/boys-power-sing/
LOCATION:Neuqua Valley High School\, 2360 95th Street\, Naperville\, IL\, 60564
CATEGORIES:Brio,Canto Vivo,Parents,Ragazzi
END:VEVENT
BEGIN:VEVENT
DTSTART;TZID=America/Chicago:20220407T164500
DTEND;TZID=America/Chicago:20220407T180000
DTSTAMP:20260421T155412
CREATED:20220112T174030Z
LAST-MODIFIED:20220201T154555Z
UID:10001551-1649349900-1649354400@ynschoirs.org
SUMMARY:Aria Rehearsal
DESCRIPTION:Aria Rehearsal\nCommunity Concert Center 4:45pm-6:00pm
URL:https://ynschoirs.org/calendar/aria-rehearsal-3/2022-04-07/
LOCATION:Community Concert Center\, 55 Concert Lane\, Naperville\, IL\, 60540
CATEGORIES:Aria,Parents
END:VEVENT
BEGIN:VEVENT
DTSTART;TZID=America/Chicago:20220407T163000
DTEND;TZID=America/Chicago:20220407T180000
DTSTAMP:20260421T155412
CREATED:20220112T173752Z
LAST-MODIFIED:20220201T154828Z
UID:10001536-1649349000-1649354400@ynschoirs.org
SUMMARY:Brillante Rehearsal
DESCRIPTION:Brillante Rehearsal\nCommunity Concert Center 4:30-6:00pm
URL:https://ynschoirs.org/calendar/brillante-rehearsal-3/2022-04-07/
LOCATION:Community Concert Center\, 55 Concert Lane\, Naperville\, IL\, 60540
CATEGORIES:Brillante,Parents
END:VEVENT
BEGIN:VEVENT
DTSTART;TZID=America/Chicago:20220406T164500
DTEND;TZID=America/Chicago:20220406T174500
DTSTAMP:20260421T155412
CREATED:20220112T180139Z
LAST-MODIFIED:20220201T154919Z
UID:10001668-1649263500-1649267100@ynschoirs.org
SUMMARY:Primo Rehearsal
DESCRIPTION:Primo Rehearsal\nCommunity Concert Center 4:45pm-5:45pm
URL:https://ynschoirs.org/calendar/primo-rehearsal-4/2022-04-06/
LOCATION:Community Concert Center\, 55 Concert Lane\, Naperville\, IL\, 60540
CATEGORIES:Parents,Primo
END:VEVENT
END:VCALENDAR