BEGIN:VCALENDAR
VERSION:2.0
PRODID:-//Young Naperville Singers - ECPv6.8.0//NONSGML v1.0//EN
CALSCALE:GREGORIAN
METHOD:PUBLISH
X-WR-CALNAME:Young Naperville Singers
X-ORIGINAL-URL:https://ynschoirs.org
X-WR-CALDESC:Events for Young Naperville Singers
REFRESH-INTERVAL;VALUE=DURATION:PT1H
X-Robots-Tag:noindex
X-PUBLISHED-TTL:PT1H
BEGIN:VTIMEZONE
TZID:America/Chicago
BEGIN:DAYLIGHT
TZOFFSETFROM:-0600
TZOFFSETTO:-0500
TZNAME:CDT
DTSTART:20220313T080000
END:DAYLIGHT
BEGIN:STANDARD
TZOFFSETFROM:-0500
TZOFFSETTO:-0600
TZNAME:CST
DTSTART:20221106T070000
END:STANDARD
END:VTIMEZONE
BEGIN:VEVENT
DTSTART;TZID=America/Chicago:20220208T184500
DTEND;TZID=America/Chicago:20220208T201500
DTSTAMP:20260421T183333
CREATED:20220112T180008Z
LAST-MODIFIED:20220201T155008Z
UID:10001646-1644345900-1644351300@ynschoirs.org
SUMMARY:Cantabile Rehearsal
DESCRIPTION:Cantabile Rehearsal\nCommunity Concert Center 6:45-8:15pm
URL:https://ynschoirs.org/calendar/cantabile-rehearsal-3/2022-02-08/
LOCATION:Community Concert Center\, 55 Concert Lane\, Naperville\, IL\, 60540
CATEGORIES:Cantabile,Parents
END:VEVENT
BEGIN:VEVENT
DTSTART;TZID=America/Chicago:20220208T181500
DTEND;TZID=America/Chicago:20220208T201500
DTSTAMP:20260421T183333
CREATED:20220112T175812Z
LAST-MODIFIED:20220112T175812Z
UID:10001631-1644344100-1644351300@ynschoirs.org
SUMMARY:Bella Voce Rehearsal
DESCRIPTION:Bella Voce Rehearsal\nFaith Lutheran Church 6:15pm-8:15pm
URL:https://ynschoirs.org/calendar/bella-voce-rehearsal-3/2022-02-08/
LOCATION:Faith Lutheran Church\, 3000 Liberty Street\, Aurora\, IL\, 60502
CATEGORIES:Bella Voce,Parents
END:VEVENT
BEGIN:VEVENT
DTSTART;TZID=America/Chicago:20220208T164500
DTEND;TZID=America/Chicago:20220208T181500
DTSTAMP:20260421T183333
CREATED:20220112T175644Z
LAST-MODIFIED:20220201T155220Z
UID:10001616-1644338700-1644344100@ynschoirs.org
SUMMARY:Ragazzi Rehearsal
DESCRIPTION:Ragazzi Rehearsal\nCommunity Concert Center 4:45-6:15pm \n 
URL:https://ynschoirs.org/calendar/ragazzi-rehearsal-3/2022-02-08/
LOCATION:Community Concert Center\, 55 Concert Lane\, Naperville\, IL\, 60540
CATEGORIES:Parents,Ragazzi
END:VEVENT
BEGIN:VEVENT
DTSTART;TZID=America/Chicago:20220208T163000
DTEND;TZID=America/Chicago:20220208T174500
DTSTAMP:20260421T183333
CREATED:20220112T175054Z
LAST-MODIFIED:20220201T155310Z
UID:10001602-1644337800-1644342300@ynschoirs.org
SUMMARY:Brio Rehearsal
DESCRIPTION:Brio Rehearsal\nCommunity Concert Center 4:30-5:45pm
URL:https://ynschoirs.org/calendar/brio-rehearsal-3/2022-02-08/
LOCATION:Community Concert Center\, 55 Concert Lane\, Naperville\, IL\, 60540
CATEGORIES:Brio,Parents
END:VEVENT
BEGIN:VEVENT
DTSTART;TZID=America/Chicago:20220207T181500
DTEND;TZID=America/Chicago:20220207T201500
DTSTAMP:20260421T183333
CREATED:20220112T174209Z
LAST-MODIFIED:20220112T174209Z
UID:10001558-1644257700-1644264900@ynschoirs.org
SUMMARY:Bella Cantare Rehearsal
DESCRIPTION:Bella Cantare Rehearsal\nFaith Lutheran Church 6:15-8:15pm
URL:https://ynschoirs.org/calendar/bella-cantare-rehearsal-2/2022-02-07/
LOCATION:Faith Lutheran Church\, 3000 Liberty Street\, Aurora\, IL\, 60502
CATEGORIES:Bella Cantare,Parents
END:VEVENT
BEGIN:VEVENT
DTSTART;TZID=America/Chicago:20220207T181500
DTEND;TZID=America/Chicago:20220207T200000
DTSTAMP:20260421T183333
CREATED:20220112T174345Z
LAST-MODIFIED:20220112T174345Z
UID:10001572-1644257700-1644264000@ynschoirs.org
SUMMARY:Canto Vivo Rehearsal
DESCRIPTION:Canto Vivo Rehearsal\nFaith Lutheran Church 6:15-8:00pm
URL:https://ynschoirs.org/calendar/canto-vivo-rehearsal-2/2022-02-07/
LOCATION:Faith Lutheran Church\, 3000 Liberty Street\, Aurora\, IL\, 60502
CATEGORIES:Canto Vivo,Parents
END:VEVENT
BEGIN:VEVENT
DTSTART;TZID=America/Chicago:20220207T164500
DTEND;TZID=America/Chicago:20220207T174500
DTSTAMP:20260421T183333
CREATED:20220112T174546Z
LAST-MODIFIED:20220112T174546Z
UID:10001586-1644252300-1644255900@ynschoirs.org
SUMMARY:Dolce Rehearsal
DESCRIPTION:Dolce Rehearsal\nAllied First Bank 4:45-5:45pm
URL:https://ynschoirs.org/calendar/dolce-rehearsal-4/2022-02-07/
LOCATION:ServBank\, 3201 Orchard Road\, Oswego\, IL\, 60543
CATEGORIES:Dolce,Parents
END:VEVENT
BEGIN:VEVENT
DTSTART;TZID=America/Chicago:20220203T164500
DTEND;TZID=America/Chicago:20220203T180000
DTSTAMP:20260421T183333
CREATED:20220112T174030Z
LAST-MODIFIED:20220201T154555Z
UID:10001543-1643906700-1643911200@ynschoirs.org
SUMMARY:Aria Rehearsal
DESCRIPTION:Aria Rehearsal\nCommunity Concert Center 4:45pm-6:00pm
URL:https://ynschoirs.org/calendar/aria-rehearsal-3/2022-02-03/
LOCATION:Community Concert Center\, 55 Concert Lane\, Naperville\, IL\, 60540
CATEGORIES:Aria,Parents
END:VEVENT
BEGIN:VEVENT
DTSTART;TZID=America/Chicago:20220203T163000
DTEND;TZID=America/Chicago:20220203T180000
DTSTAMP:20260421T183333
CREATED:20220112T173752Z
LAST-MODIFIED:20220201T154828Z
UID:10001528-1643905800-1643911200@ynschoirs.org
SUMMARY:Brillante Rehearsal
DESCRIPTION:Brillante Rehearsal\nCommunity Concert Center 4:30-6:00pm
URL:https://ynschoirs.org/calendar/brillante-rehearsal-3/2022-02-03/
LOCATION:Community Concert Center\, 55 Concert Lane\, Naperville\, IL\, 60540
CATEGORIES:Brillante,Parents
END:VEVENT
BEGIN:VEVENT
DTSTART;TZID=America/Chicago:20220202T164500
DTEND;TZID=America/Chicago:20220202T174500
DTSTAMP:20260421T183333
CREATED:20220112T180139Z
LAST-MODIFIED:20220201T154919Z
UID:10001660-1643820300-1643823900@ynschoirs.org
SUMMARY:Primo Rehearsal
DESCRIPTION:Primo Rehearsal\nCommunity Concert Center 4:45pm-5:45pm
URL:https://ynschoirs.org/calendar/primo-rehearsal-4/2022-02-02/
LOCATION:Community Concert Center\, 55 Concert Lane\, Naperville\, IL\, 60540
CATEGORIES:Parents,Primo
END:VEVENT
BEGIN:VEVENT
DTSTART;TZID=America/Chicago:20220201T184500
DTEND;TZID=America/Chicago:20220201T201500
DTSTAMP:20260421T183333
CREATED:20220112T180008Z
LAST-MODIFIED:20220201T155008Z
UID:10001645-1643741100-1643746500@ynschoirs.org
SUMMARY:Cantabile Rehearsal
DESCRIPTION:Cantabile Rehearsal\nCommunity Concert Center 6:45-8:15pm
URL:https://ynschoirs.org/calendar/cantabile-rehearsal-3/2022-02-01/
LOCATION:Community Concert Center\, 55 Concert Lane\, Naperville\, IL\, 60540
CATEGORIES:Cantabile,Parents
END:VEVENT
BEGIN:VEVENT
DTSTART;TZID=America/Chicago:20220201T181500
DTEND;TZID=America/Chicago:20220201T201500
DTSTAMP:20260421T183333
CREATED:20220112T175812Z
LAST-MODIFIED:20220112T175812Z
UID:10001630-1643739300-1643746500@ynschoirs.org
SUMMARY:Bella Voce Rehearsal
DESCRIPTION:Bella Voce Rehearsal\nFaith Lutheran Church 6:15pm-8:15pm
URL:https://ynschoirs.org/calendar/bella-voce-rehearsal-3/2022-02-01/
LOCATION:Faith Lutheran Church\, 3000 Liberty Street\, Aurora\, IL\, 60502
CATEGORIES:Bella Voce,Parents
END:VEVENT
BEGIN:VEVENT
DTSTART;TZID=America/Chicago:20220201T164500
DTEND;TZID=America/Chicago:20220201T181500
DTSTAMP:20260421T183333
CREATED:20220112T175644Z
LAST-MODIFIED:20220201T155220Z
UID:10001615-1643733900-1643739300@ynschoirs.org
SUMMARY:Ragazzi Rehearsal
DESCRIPTION:Ragazzi Rehearsal\nCommunity Concert Center 4:45-6:15pm \n 
URL:https://ynschoirs.org/calendar/ragazzi-rehearsal-3/2022-02-01/
LOCATION:Community Concert Center\, 55 Concert Lane\, Naperville\, IL\, 60540
CATEGORIES:Parents,Ragazzi
END:VEVENT
BEGIN:VEVENT
DTSTART;TZID=America/Chicago:20220201T163000
DTEND;TZID=America/Chicago:20220201T174500
DTSTAMP:20260421T183333
CREATED:20220112T175054Z
LAST-MODIFIED:20220201T155310Z
UID:10001601-1643733000-1643737500@ynschoirs.org
SUMMARY:Brio Rehearsal
DESCRIPTION:Brio Rehearsal\nCommunity Concert Center 4:30-5:45pm
URL:https://ynschoirs.org/calendar/brio-rehearsal-3/2022-02-01/
LOCATION:Community Concert Center\, 55 Concert Lane\, Naperville\, IL\, 60540
CATEGORIES:Brio,Parents
END:VEVENT
BEGIN:VEVENT
DTSTART;TZID=America/Chicago:20220131T181500
DTEND;TZID=America/Chicago:20220131T201500
DTSTAMP:20260421T183333
CREATED:20220112T174209Z
LAST-MODIFIED:20220112T174209Z
UID:10001557-1643652900-1643660100@ynschoirs.org
SUMMARY:Bella Cantare Rehearsal
DESCRIPTION:Bella Cantare Rehearsal\nFaith Lutheran Church 6:15-8:15pm
URL:https://ynschoirs.org/calendar/bella-cantare-rehearsal-2/2022-01-31/
LOCATION:Faith Lutheran Church\, 3000 Liberty Street\, Aurora\, IL\, 60502
CATEGORIES:Bella Cantare,Parents
END:VEVENT
BEGIN:VEVENT
DTSTART;TZID=America/Chicago:20220131T181500
DTEND;TZID=America/Chicago:20220131T200000
DTSTAMP:20260421T183333
CREATED:20220112T174345Z
LAST-MODIFIED:20220112T174345Z
UID:10001571-1643652900-1643659200@ynschoirs.org
SUMMARY:Canto Vivo Rehearsal
DESCRIPTION:Canto Vivo Rehearsal\nFaith Lutheran Church 6:15-8:00pm
URL:https://ynschoirs.org/calendar/canto-vivo-rehearsal-2/2022-01-31/
LOCATION:Faith Lutheran Church\, 3000 Liberty Street\, Aurora\, IL\, 60502
CATEGORIES:Canto Vivo,Parents
END:VEVENT
BEGIN:VEVENT
DTSTART;TZID=America/Chicago:20220131T164500
DTEND;TZID=America/Chicago:20220131T174500
DTSTAMP:20260421T183333
CREATED:20220112T174546Z
LAST-MODIFIED:20220112T174546Z
UID:10001585-1643647500-1643651100@ynschoirs.org
SUMMARY:Dolce Rehearsal
DESCRIPTION:Dolce Rehearsal\nAllied First Bank 4:45-5:45pm
URL:https://ynschoirs.org/calendar/dolce-rehearsal-4/2022-01-31/
LOCATION:ServBank\, 3201 Orchard Road\, Oswego\, IL\, 60543
CATEGORIES:Dolce,Parents
END:VEVENT
BEGIN:VEVENT
DTSTART;TZID=America/Chicago:20220127T164500
DTEND;TZID=America/Chicago:20220127T180000
DTSTAMP:20260421T183333
CREATED:20220112T174030Z
LAST-MODIFIED:20220201T154555Z
UID:10001542-1643301900-1643306400@ynschoirs.org
SUMMARY:Aria Rehearsal
DESCRIPTION:Aria Rehearsal\nCommunity Concert Center 4:45pm-6:00pm
URL:https://ynschoirs.org/calendar/aria-rehearsal-3/2022-01-27/
LOCATION:Community Concert Center\, 55 Concert Lane\, Naperville\, IL\, 60540
CATEGORIES:Aria,Parents
END:VEVENT
BEGIN:VEVENT
DTSTART;TZID=America/Chicago:20220127T163000
DTEND;TZID=America/Chicago:20220127T180000
DTSTAMP:20260421T183333
CREATED:20220112T173752Z
LAST-MODIFIED:20220201T154828Z
UID:10001527-1643301000-1643306400@ynschoirs.org
SUMMARY:Brillante Rehearsal
DESCRIPTION:Brillante Rehearsal\nCommunity Concert Center 4:30-6:00pm
URL:https://ynschoirs.org/calendar/brillante-rehearsal-3/2022-01-27/
LOCATION:Community Concert Center\, 55 Concert Lane\, Naperville\, IL\, 60540
CATEGORIES:Brillante,Parents
END:VEVENT
BEGIN:VEVENT
DTSTART;TZID=America/Chicago:20220126T164500
DTEND;TZID=America/Chicago:20220126T174500
DTSTAMP:20260421T183333
CREATED:20220112T180139Z
LAST-MODIFIED:20220201T154919Z
UID:10001659-1643215500-1643219100@ynschoirs.org
SUMMARY:Primo Rehearsal
DESCRIPTION:Primo Rehearsal\nCommunity Concert Center 4:45pm-5:45pm
URL:https://ynschoirs.org/calendar/primo-rehearsal-4/2022-01-26/
LOCATION:Community Concert Center\, 55 Concert Lane\, Naperville\, IL\, 60540
CATEGORIES:Parents,Primo
END:VEVENT
BEGIN:VEVENT
DTSTART;TZID=America/Chicago:20220125T184500
DTEND;TZID=America/Chicago:20220125T201500
DTSTAMP:20260421T183333
CREATED:20220112T180008Z
LAST-MODIFIED:20220201T155008Z
UID:10001644-1643136300-1643141700@ynschoirs.org
SUMMARY:Cantabile Rehearsal
DESCRIPTION:Cantabile Rehearsal\nCommunity Concert Center 6:45-8:15pm
URL:https://ynschoirs.org/calendar/cantabile-rehearsal-3/2022-01-25/
LOCATION:Community Concert Center\, 55 Concert Lane\, Naperville\, IL\, 60540
CATEGORIES:Cantabile,Parents
END:VEVENT
BEGIN:VEVENT
DTSTART;TZID=America/Chicago:20220125T181500
DTEND;TZID=America/Chicago:20220125T201500
DTSTAMP:20260421T183333
CREATED:20220112T175812Z
LAST-MODIFIED:20220112T175812Z
UID:10001629-1643134500-1643141700@ynschoirs.org
SUMMARY:Bella Voce Rehearsal
DESCRIPTION:Bella Voce Rehearsal\nFaith Lutheran Church 6:15pm-8:15pm
URL:https://ynschoirs.org/calendar/bella-voce-rehearsal-3/2022-01-25/
LOCATION:Faith Lutheran Church\, 3000 Liberty Street\, Aurora\, IL\, 60502
CATEGORIES:Bella Voce,Parents
END:VEVENT
BEGIN:VEVENT
DTSTART;TZID=America/Chicago:20220125T164500
DTEND;TZID=America/Chicago:20220125T181500
DTSTAMP:20260421T183333
CREATED:20220112T175644Z
LAST-MODIFIED:20220201T155220Z
UID:10001614-1643129100-1643134500@ynschoirs.org
SUMMARY:Ragazzi Rehearsal
DESCRIPTION:Ragazzi Rehearsal\nCommunity Concert Center 4:45-6:15pm \n 
URL:https://ynschoirs.org/calendar/ragazzi-rehearsal-3/2022-01-25/
LOCATION:Community Concert Center\, 55 Concert Lane\, Naperville\, IL\, 60540
CATEGORIES:Parents,Ragazzi
END:VEVENT
BEGIN:VEVENT
DTSTART;TZID=America/Chicago:20220125T163000
DTEND;TZID=America/Chicago:20220125T174500
DTSTAMP:20260421T183333
CREATED:20220112T175054Z
LAST-MODIFIED:20220201T155310Z
UID:10001600-1643128200-1643132700@ynschoirs.org
SUMMARY:Brio Rehearsal
DESCRIPTION:Brio Rehearsal\nCommunity Concert Center 4:30-5:45pm
URL:https://ynschoirs.org/calendar/brio-rehearsal-3/2022-01-25/
LOCATION:Community Concert Center\, 55 Concert Lane\, Naperville\, IL\, 60540
CATEGORIES:Brio,Parents
END:VEVENT
BEGIN:VEVENT
DTSTART;TZID=America/Chicago:20220124T181500
DTEND;TZID=America/Chicago:20220124T201500
DTSTAMP:20260421T183333
CREATED:20220112T174209Z
LAST-MODIFIED:20220112T174209Z
UID:10001556-1643048100-1643055300@ynschoirs.org
SUMMARY:Bella Cantare Rehearsal
DESCRIPTION:Bella Cantare Rehearsal\nFaith Lutheran Church 6:15-8:15pm
URL:https://ynschoirs.org/calendar/bella-cantare-rehearsal-2/2022-01-24/
LOCATION:Faith Lutheran Church\, 3000 Liberty Street\, Aurora\, IL\, 60502
CATEGORIES:Bella Cantare,Parents
END:VEVENT
BEGIN:VEVENT
DTSTART;TZID=America/Chicago:20220124T181500
DTEND;TZID=America/Chicago:20220124T200000
DTSTAMP:20260421T183333
CREATED:20220112T174345Z
LAST-MODIFIED:20220112T174345Z
UID:10001570-1643048100-1643054400@ynschoirs.org
SUMMARY:Canto Vivo Rehearsal
DESCRIPTION:Canto Vivo Rehearsal\nFaith Lutheran Church 6:15-8:00pm
URL:https://ynschoirs.org/calendar/canto-vivo-rehearsal-2/2022-01-24/
LOCATION:Faith Lutheran Church\, 3000 Liberty Street\, Aurora\, IL\, 60502
CATEGORIES:Canto Vivo,Parents
END:VEVENT
BEGIN:VEVENT
DTSTART;TZID=America/Chicago:20220124T164500
DTEND;TZID=America/Chicago:20220124T174500
DTSTAMP:20260421T183333
CREATED:20220112T174546Z
LAST-MODIFIED:20220112T174546Z
UID:10001584-1643042700-1643046300@ynschoirs.org
SUMMARY:Dolce Rehearsal
DESCRIPTION:Dolce Rehearsal\nAllied First Bank 4:45-5:45pm
URL:https://ynschoirs.org/calendar/dolce-rehearsal-4/2022-01-24/
LOCATION:ServBank\, 3201 Orchard Road\, Oswego\, IL\, 60543
CATEGORIES:Dolce,Parents
END:VEVENT
BEGIN:VEVENT
DTSTART;TZID=America/Chicago:20220120T164500
DTEND;TZID=America/Chicago:20220120T180000
DTSTAMP:20260421T183333
CREATED:20220112T174030Z
LAST-MODIFIED:20220201T154555Z
UID:10001541-1642697100-1642701600@ynschoirs.org
SUMMARY:Aria Rehearsal
DESCRIPTION:Aria Rehearsal\nCommunity Concert Center 4:45pm-6:00pm
URL:https://ynschoirs.org/calendar/aria-rehearsal-3/2022-01-20/
LOCATION:Community Concert Center\, 55 Concert Lane\, Naperville\, IL\, 60540
CATEGORIES:Aria,Parents
END:VEVENT
BEGIN:VEVENT
DTSTART;TZID=America/Chicago:20220120T163000
DTEND;TZID=America/Chicago:20220120T180000
DTSTAMP:20260421T183333
CREATED:20220112T173752Z
LAST-MODIFIED:20220201T154828Z
UID:10001526-1642696200-1642701600@ynschoirs.org
SUMMARY:Brillante Rehearsal
DESCRIPTION:Brillante Rehearsal\nCommunity Concert Center 4:30-6:00pm
URL:https://ynschoirs.org/calendar/brillante-rehearsal-3/2022-01-20/
LOCATION:Community Concert Center\, 55 Concert Lane\, Naperville\, IL\, 60540
CATEGORIES:Brillante,Parents
END:VEVENT
BEGIN:VEVENT
DTSTART;TZID=America/Chicago:20220119T164500
DTEND;TZID=America/Chicago:20220119T174500
DTSTAMP:20260421T183333
CREATED:20220112T180139Z
LAST-MODIFIED:20220201T154919Z
UID:10001658-1642610700-1642614300@ynschoirs.org
SUMMARY:Primo Rehearsal
DESCRIPTION:Primo Rehearsal\nCommunity Concert Center 4:45pm-5:45pm
URL:https://ynschoirs.org/calendar/primo-rehearsal-4/2022-01-19/
LOCATION:Community Concert Center\, 55 Concert Lane\, Naperville\, IL\, 60540
CATEGORIES:Parents,Primo
END:VEVENT
END:VCALENDAR