BEGIN:VCALENDAR
VERSION:2.0
PRODID:-//Young Naperville Singers - ECPv6.8.0//NONSGML v1.0//EN
CALSCALE:GREGORIAN
METHOD:PUBLISH
X-WR-CALNAME:Young Naperville Singers
X-ORIGINAL-URL:https://ynschoirs.org
X-WR-CALDESC:Events for Young Naperville Singers
REFRESH-INTERVAL;VALUE=DURATION:PT1H
X-Robots-Tag:noindex
X-PUBLISHED-TTL:PT1H
BEGIN:VTIMEZONE
TZID:America/Chicago
BEGIN:DAYLIGHT
TZOFFSETFROM:-0600
TZOFFSETTO:-0500
TZNAME:CDT
DTSTART:20210314T080000
END:DAYLIGHT
BEGIN:STANDARD
TZOFFSETFROM:-0500
TZOFFSETTO:-0600
TZNAME:CST
DTSTART:20211107T070000
END:STANDARD
END:VTIMEZONE
BEGIN:VEVENT
DTSTART;TZID=America/Chicago:20211202T163000
DTEND;TZID=America/Chicago:20211202T180000
DTSTAMP:20260422T205233
CREATED:20210831T212624Z
LAST-MODIFIED:20210831T212752Z
UID:10001410-1638462600-1638468000@ynschoirs.org
SUMMARY:Brillante Rehearsal
DESCRIPTION:Brillante Rehearsal\n4:30pm-6:00pm Faith Lutheran Church
URL:https://ynschoirs.org/calendar/brillante-rehearsal-2/2021-12-02/
LOCATION:Faith Lutheran Church\, 3000 Liberty Street\, Aurora\, IL\, 60502
CATEGORIES:Brillante,Parents
END:VEVENT
BEGIN:VEVENT
DTSTART;TZID=America/Chicago:20211201T164500
DTEND;TZID=America/Chicago:20211201T174500
DTSTAMP:20260422T205233
CREATED:20210831T221023Z
LAST-MODIFIED:20210831T221023Z
UID:10001442-1638377100-1638380700@ynschoirs.org
SUMMARY:Primo Rehearsal
DESCRIPTION:Primo Rehearsal\n4:45pm-5:45pm Community Concert Center
URL:https://ynschoirs.org/calendar/primo-rehearsal-2/
LOCATION:Community Concert Center\, 55 Concert Lane\, Naperville\, IL\, 60540
CATEGORIES:Parents,Primo
END:VEVENT
BEGIN:VEVENT
DTSTART;TZID=America/Chicago:20211130T184500
DTEND;TZID=America/Chicago:20211130T201500
DTSTAMP:20260422T205233
CREATED:20210902T184906Z
LAST-MODIFIED:20210902T184906Z
UID:10001243-1638297900-1638303300@ynschoirs.org
SUMMARY:Cantabile Rehearsal
DESCRIPTION:Cantabile Rehearsal\n6:45pm-8:15pm Community Concert Center
URL:https://ynschoirs.org/calendar/cantabile-rehearsal-2/2021-11-30/
LOCATION:Community Concert Center\, 55 Concert Lane\, Naperville\, IL\, 60540
CATEGORIES:Cantabile,Parents
END:VEVENT
BEGIN:VEVENT
DTSTART;TZID=America/Chicago:20211130T181500
DTEND;TZID=America/Chicago:20211130T201500
DTSTAMP:20260422T205233
CREATED:20210902T185751Z
LAST-MODIFIED:20210902T185751Z
UID:10001261-1638296100-1638303300@ynschoirs.org
SUMMARY:Bella Voce Rehearsal
DESCRIPTION:Bella Voce Rehearsal\n6:15pm-8:15pm Faith Lutheran Church
URL:https://ynschoirs.org/calendar/bella-voce-rehearsal-2/2021-11-30/
LOCATION:Faith Lutheran Church\, 3000 Liberty Street\, Aurora\, IL\, 60502
CATEGORIES:Bella Voce,Parents
END:VEVENT
BEGIN:VEVENT
DTSTART;TZID=America/Chicago:20211130T164500
DTEND;TZID=America/Chicago:20211130T181500
DTSTAMP:20260422T205233
CREATED:20210831T224858Z
LAST-MODIFIED:20210831T224858Z
UID:10001224-1638290700-1638296100@ynschoirs.org
SUMMARY:Ragazzi Rehearsal
DESCRIPTION:Ragazzi Rehearsal\n4:45pm-6:15pm Community Concert Center
URL:https://ynschoirs.org/calendar/ragazzi-rehearsal-2/2021-11-30/
LOCATION:Community Concert Center\, 55 Concert Lane\, Naperville\, IL\, 60540
CATEGORIES:Parents,Ragazzi
END:VEVENT
BEGIN:VEVENT
DTSTART;TZID=America/Chicago:20211130T163000
DTEND;TZID=America/Chicago:20211130T174500
DTSTAMP:20260422T205233
CREATED:20210831T223940Z
LAST-MODIFIED:20210831T223940Z
UID:10001204-1638289800-1638294300@ynschoirs.org
SUMMARY:Brio Rehearsal
DESCRIPTION:Brio Rehearsal\n4:30pm-5:45pm Faith Lutheran Church
URL:https://ynschoirs.org/calendar/brio-rehearsal-2/2021-11-30/
LOCATION:Faith Lutheran Church\, 3000 Liberty Street\, Aurora\, IL\, 60502
CATEGORIES:Brio,Parents
END:VEVENT
BEGIN:VEVENT
DTSTART;TZID=America/Chicago:20211129T181500
DTEND;TZID=America/Chicago:20211129T201500
DTSTAMP:20260422T205233
CREATED:20210902T192421Z
LAST-MODIFIED:20210902T192421Z
UID:10001498-1638209700-1638216900@ynschoirs.org
SUMMARY:Canto Vivo Rehearsal
DESCRIPTION:Canto Vivo Rehearsal\n6:15pm-8:00pm Faith Lutheran Church
URL:https://ynschoirs.org/calendar/canto-vivo-rehearsal/2021-11-29/
LOCATION:Faith Lutheran Church\, 3000 Liberty Street\, Aurora\, IL\, 60502
CATEGORIES:Canto Vivo,Parents
END:VEVENT
BEGIN:VEVENT
DTSTART;TZID=America/Chicago:20211129T181500
DTEND;TZID=America/Chicago:20211129T201500
DTSTAMP:20260422T205233
CREATED:20210902T192108Z
LAST-MODIFIED:20210902T192108Z
UID:10001484-1638209700-1638216900@ynschoirs.org
SUMMARY:Bella Cantare Rehearsal
DESCRIPTION:Bella Cantare Rehearsal\n6:15pm-8:15pm Faith Lutheran Church
URL:https://ynschoirs.org/calendar/bella-cantare-rehearsal/2021-11-29/
LOCATION:Faith Lutheran Church\, 3000 Liberty Street\, Aurora\, IL\, 60502
CATEGORIES:Bella Cantare,Parents
END:VEVENT
BEGIN:VEVENT
DTSTART;TZID=America/Chicago:20211129T164500
DTEND;TZID=America/Chicago:20211129T174500
DTSTAMP:20260422T205233
CREATED:20210902T190958Z
LAST-MODIFIED:20210902T192746Z
UID:10001467-1638204300-1638207900@ynschoirs.org
SUMMARY:Dolce Rehearsal
DESCRIPTION:Dolce Rehearsal\n4:45pm-5:45pm Allied First Bank\, Oswego
URL:https://ynschoirs.org/calendar/dolce-rehearsal-2/2021-11-29/
LOCATION:ServBank\, 3201 Orchard Road\, Oswego\, IL\, 60543
CATEGORIES:Dolce,Parents
END:VEVENT
BEGIN:VEVENT
DTSTART;VALUE=DATE:20211125
DTEND;VALUE=DATE:20211126
DTSTAMP:20260422T205233
CREATED:20210831T214810Z
LAST-MODIFIED:20210902T202048Z
UID:10001425-1637798400-1637884799@ynschoirs.org
SUMMARY:Aria - No Rehearsal
DESCRIPTION:Aria – No Rehearsal\nThanksgiving
URL:https://ynschoirs.org/calendar/aria-no-rehearsal-3/
LOCATION:IL
CATEGORIES:Aria,Parents
END:VEVENT
BEGIN:VEVENT
DTSTART;VALUE=DATE:20211125
DTEND;VALUE=DATE:20211126
DTSTAMP:20260422T205233
CREATED:20210831T212352Z
LAST-MODIFIED:20210902T202122Z
UID:10001398-1637798400-1637884799@ynschoirs.org
SUMMARY:Brillante - No Rehearsal
DESCRIPTION:Brillante – No Rehearsal\nThanksgiving
URL:https://ynschoirs.org/calendar/brillante-no-rehearsal-3/
LOCATION:IL
CATEGORIES:Brillante,Parents
END:VEVENT
BEGIN:VEVENT
DTSTART;VALUE=DATE:20211124
DTEND;VALUE=DATE:20211125
DTSTAMP:20260422T205233
CREATED:20210831T220631Z
LAST-MODIFIED:20210902T202229Z
UID:10001441-1637712000-1637798399@ynschoirs.org
SUMMARY:Primo - No Rehearsal
DESCRIPTION:Primo – No Rehearsal\nThanksgiving
URL:https://ynschoirs.org/calendar/primo-no-rehearsal-3/
LOCATION:IL
CATEGORIES:Parents,Primo
END:VEVENT
BEGIN:VEVENT
DTSTART;VALUE=DATE:20211123
DTEND;VALUE=DATE:20211124
DTSTAMP:20260422T205233
CREATED:20210902T185838Z
LAST-MODIFIED:20210902T202328Z
UID:10001457-1637625600-1637711999@ynschoirs.org
SUMMARY:Bella Voce-No Rehearsal
DESCRIPTION:Bella Voce-No Rehearsal \nThanksgiving
URL:https://ynschoirs.org/calendar/bella-voce-no-rehearsal-3/
LOCATION:IL
CATEGORIES:Bella Voce,Parents
END:VEVENT
BEGIN:VEVENT
DTSTART;VALUE=DATE:20211123
DTEND;VALUE=DATE:20211124
DTSTAMP:20260422T205233
CREATED:20210902T185024Z
LAST-MODIFIED:20210902T202246Z
UID:10001247-1637625600-1637711999@ynschoirs.org
SUMMARY:Cantabile - No Rehearsal
DESCRIPTION:Cantabile – No Rehearsal\nThanksgiving
URL:https://ynschoirs.org/calendar/cantabile-no-rehearsal-4/
LOCATION:IL
CATEGORIES:Cantabile,Parents
END:VEVENT
BEGIN:VEVENT
DTSTART;VALUE=DATE:20211123
DTEND;VALUE=DATE:20211124
DTSTAMP:20260422T205233
CREATED:20210831T224944Z
LAST-MODIFIED:20210902T202351Z
UID:10001228-1637625600-1637711999@ynschoirs.org
SUMMARY:Ragazzi - No Rehearsal
DESCRIPTION:Ragazzi – No Rehearsal\nThanksgiving
URL:https://ynschoirs.org/calendar/ragazzi-no-rehearsal-3/
LOCATION:IL
CATEGORIES:Parents,Ragazzi
END:VEVENT
BEGIN:VEVENT
DTSTART;VALUE=DATE:20211123
DTEND;VALUE=DATE:20211124
DTSTAMP:20260422T205233
CREATED:20210831T224034Z
LAST-MODIFIED:20210902T202408Z
UID:10001209-1637625600-1637711999@ynschoirs.org
SUMMARY:Brio - No Rehearsal
DESCRIPTION:Brio – No Rehearsal\nThanksgiving
URL:https://ynschoirs.org/calendar/brio-no-rehearsal-4/
LOCATION:IL
CATEGORIES:Brio,Parents
END:VEVENT
BEGIN:VEVENT
DTSTART;TZID=America/Chicago:20211122T181500
DTEND;TZID=America/Chicago:20211122T201500
DTSTAMP:20260422T205233
CREATED:20210902T192421Z
LAST-MODIFIED:20210902T192421Z
UID:10001497-1637604900-1637612100@ynschoirs.org
SUMMARY:Canto Vivo Rehearsal
DESCRIPTION:Canto Vivo Rehearsal\n6:15pm-8:00pm Faith Lutheran Church
URL:https://ynschoirs.org/calendar/canto-vivo-rehearsal/2021-11-22/
LOCATION:Faith Lutheran Church\, 3000 Liberty Street\, Aurora\, IL\, 60502
CATEGORIES:Canto Vivo,Parents
END:VEVENT
BEGIN:VEVENT
DTSTART;TZID=America/Chicago:20211122T181500
DTEND;TZID=America/Chicago:20211122T201500
DTSTAMP:20260422T205233
CREATED:20210902T192108Z
LAST-MODIFIED:20210902T192108Z
UID:10001483-1637604900-1637612100@ynschoirs.org
SUMMARY:Bella Cantare Rehearsal
DESCRIPTION:Bella Cantare Rehearsal\n6:15pm-8:15pm Faith Lutheran Church
URL:https://ynschoirs.org/calendar/bella-cantare-rehearsal/2021-11-22/
LOCATION:Faith Lutheran Church\, 3000 Liberty Street\, Aurora\, IL\, 60502
CATEGORIES:Bella Cantare,Parents
END:VEVENT
BEGIN:VEVENT
DTSTART;TZID=America/Chicago:20211122T164500
DTEND;TZID=America/Chicago:20211122T174500
DTSTAMP:20260422T205233
CREATED:20210902T191708Z
LAST-MODIFIED:20210902T191708Z
UID:10001472-1637599500-1637603100@ynschoirs.org
SUMMARY:Dolce Rehearsal
DESCRIPTION:Dolce Rehearsal\n4:45-5:45pm Allied First Bank
URL:https://ynschoirs.org/calendar/dolce-rehearsal-3/
LOCATION:ServBank\, 3201 Orchard Road\, Oswego\, IL\, 60543
CATEGORIES:Dolce,Parents
END:VEVENT
BEGIN:VEVENT
DTSTART;TZID=America/Chicago:20211118T164500
DTEND;TZID=America/Chicago:20211118T180000
DTSTAMP:20260422T205233
CREATED:20210831T214431Z
LAST-MODIFIED:20210831T214431Z
UID:10001424-1637253900-1637258400@ynschoirs.org
SUMMARY:Aria Rehearsal
DESCRIPTION:Aria Rehearsal\n4:45pm-6:00pm Community Concert Center
URL:https://ynschoirs.org/calendar/aria-rehearsal/2021-11-18/
LOCATION:Community Concert Center\, 55 Concert Lane\, Naperville\, IL\, 60540
CATEGORIES:Aria,Parents
END:VEVENT
BEGIN:VEVENT
DTSTART;TZID=America/Chicago:20211118T163000
DTEND;TZID=America/Chicago:20211118T180000
DTSTAMP:20260422T205233
CREATED:20210831T212123Z
LAST-MODIFIED:20210831T212123Z
UID:10001381-1637253000-1637258400@ynschoirs.org
SUMMARY:Brillante Rehearsal
DESCRIPTION:Brillante Rehearsal\n4:30pm-6:00pm Faith Lutheran Church \n 
URL:https://ynschoirs.org/calendar/brillante-rehearsal/2021-11-18/
LOCATION:Faith Lutheran Church\, 3000 Liberty Street\, Aurora\, IL\, 60502
CATEGORIES:Brillante,Parents
END:VEVENT
BEGIN:VEVENT
DTSTART;TZID=America/Chicago:20211117T164500
DTEND;TZID=America/Chicago:20211117T174500
DTSTAMP:20260422T205234
CREATED:20210831T215821Z
LAST-MODIFIED:20210831T215821Z
UID:10001440-1637167500-1637171100@ynschoirs.org
SUMMARY:Primo Rehearsal
DESCRIPTION:Primo Rehearsal\n4:45pm-5:45pm Community Concert Center
URL:https://ynschoirs.org/calendar/primo-rehearsal/2021-11-17/
LOCATION:Community Concert Center\, 55 Concert Lane\, Naperville\, IL\, 60540
CATEGORIES:Parents,Primo
END:VEVENT
BEGIN:VEVENT
DTSTART;TZID=America/Chicago:20211116T184500
DTEND;TZID=America/Chicago:20211116T201500
DTSTAMP:20260422T205234
CREATED:20210902T160618Z
LAST-MODIFIED:20210902T160618Z
UID:10001240-1637088300-1637093700@ynschoirs.org
SUMMARY:Cantabile Rehearsal
DESCRIPTION:Cantabile Rehearsal\n6:45pm-8:15pm Community Concert Center
URL:https://ynschoirs.org/calendar/cantabile-rehearsal/2021-11-16/
LOCATION:Community Concert Center\, 55 Concert Lane\, Naperville\, IL\, 60540
CATEGORIES:Cantabile,Parents
END:VEVENT
BEGIN:VEVENT
DTSTART;TZID=America/Chicago:20211116T181500
DTEND;TZID=America/Chicago:20211116T201500
DTSTAMP:20260422T205234
CREATED:20210902T185637Z
LAST-MODIFIED:20210902T185637Z
UID:10001259-1637086500-1637093700@ynschoirs.org
SUMMARY:Bella Voce Rehearsal
DESCRIPTION:Bella Voce Rehearsal\n6:15pm-8:15pm Faith Lutheran Church
URL:https://ynschoirs.org/calendar/bella-voce-rehearsal/2021-11-16/
LOCATION:Faith Lutheran Church\, 3000 Liberty Street\, Aurora\, IL\, 60502
CATEGORIES:Bella Voce,Parents
END:VEVENT
BEGIN:VEVENT
DTSTART;TZID=America/Chicago:20211116T164500
DTEND;TZID=America/Chicago:20211116T181500
DTSTAMP:20260422T205234
CREATED:20210831T224727Z
LAST-MODIFIED:20210831T224727Z
UID:10001222-1637081100-1637086500@ynschoirs.org
SUMMARY:Ragazzi Rehearsal
DESCRIPTION:Ragazzi Rehearsal\n4:45pm-6:15pm Community Concert Center
URL:https://ynschoirs.org/calendar/ragazzi-rehearsal/2021-11-16/
LOCATION:Community Concert Center\, 55 Concert Lane\, Naperville\, IL\, 60540
CATEGORIES:Parents,Ragazzi
END:VEVENT
BEGIN:VEVENT
DTSTART;TZID=America/Chicago:20211116T163000
DTEND;TZID=America/Chicago:20211116T174500
DTSTAMP:20260422T205234
CREATED:20210831T223447Z
LAST-MODIFIED:20210831T223447Z
UID:10001456-1637080200-1637084700@ynschoirs.org
SUMMARY:Brio Rehearsal
DESCRIPTION:Brio Rehearsal\n4:30pm-5:45pm Faith Lutheran Church
URL:https://ynschoirs.org/calendar/brio-rehearsal/2021-11-16/
LOCATION:Faith Lutheran Church\, 3000 Liberty Street\, Aurora\, IL\, 60502
CATEGORIES:Brio,Parents
END:VEVENT
BEGIN:VEVENT
DTSTART;TZID=America/Chicago:20211115T181500
DTEND;TZID=America/Chicago:20211115T201500
DTSTAMP:20260422T205234
CREATED:20210902T192421Z
LAST-MODIFIED:20210902T192421Z
UID:10001496-1637000100-1637007300@ynschoirs.org
SUMMARY:Canto Vivo Rehearsal
DESCRIPTION:Canto Vivo Rehearsal\n6:15pm-8:00pm Faith Lutheran Church
URL:https://ynschoirs.org/calendar/canto-vivo-rehearsal/2021-11-15/
LOCATION:Faith Lutheran Church\, 3000 Liberty Street\, Aurora\, IL\, 60502
CATEGORIES:Canto Vivo,Parents
END:VEVENT
BEGIN:VEVENT
DTSTART;TZID=America/Chicago:20211115T181500
DTEND;TZID=America/Chicago:20211115T201500
DTSTAMP:20260422T205234
CREATED:20210902T192108Z
LAST-MODIFIED:20210902T192108Z
UID:10001482-1637000100-1637007300@ynschoirs.org
SUMMARY:Bella Cantare Rehearsal
DESCRIPTION:Bella Cantare Rehearsal\n6:15pm-8:15pm Faith Lutheran Church
URL:https://ynschoirs.org/calendar/bella-cantare-rehearsal/2021-11-15/
LOCATION:Faith Lutheran Church\, 3000 Liberty Street\, Aurora\, IL\, 60502
CATEGORIES:Bella Cantare,Parents
END:VEVENT
BEGIN:VEVENT
DTSTART;TZID=America/Chicago:20211115T164500
DTEND;TZID=America/Chicago:20211115T174500
DTSTAMP:20260422T205234
CREATED:20210902T190618Z
LAST-MODIFIED:20210902T191124Z
UID:10001466-1636994700-1636998300@ynschoirs.org
SUMMARY:Dolce Rehearsal
DESCRIPTION:Dolce Rehearsal\n4:45pm-5:45pm Allied First Bank\, Oswego
URL:https://ynschoirs.org/calendar/4182/2021-11-15/
LOCATION:ServBank\, 3201 Orchard Road\, Oswego\, IL\, 60543
CATEGORIES:Dolce,Parents
END:VEVENT
BEGIN:VEVENT
DTSTART;TZID=America/Chicago:20211113T090000
DTEND;TZID=America/Chicago:20211113T110000
DTSTAMP:20260422T205234
CREATED:20210907T153903Z
LAST-MODIFIED:20210907T153903Z
UID:10001518-1636794000-1636801200@ynschoirs.org
SUMMARY:Butter Braid Pick Up
DESCRIPTION:Butter Braid Pick Up\n9:00-11:00am at the Community Concert Center \n*All Butter Braids MUST be picked up during this time because they are frozen.  Any Butter Braids not picked up will be donated to a local church as we do not have freezer space to store the Butter Braids. \n 
URL:https://ynschoirs.org/calendar/butter-braid-pick-up/
LOCATION:Community Concert Center\, 55 Concert Lane\, Naperville\, IL\, 60540
CATEGORIES:Aria,Bella Cantare,Bella Voce,Brillante,Brio,Cantabile,Canto Vivo,Dolce,Parents,Primo,Ragazzi
END:VEVENT
END:VCALENDAR