BEGIN:VCALENDAR
VERSION:2.0
PRODID:-//Young Naperville Singers - ECPv6.8.0//NONSGML v1.0//EN
CALSCALE:GREGORIAN
METHOD:PUBLISH
X-WR-CALNAME:Young Naperville Singers
X-ORIGINAL-URL:https://ynschoirs.org
X-WR-CALDESC:Events for Young Naperville Singers
REFRESH-INTERVAL;VALUE=DURATION:PT1H
X-Robots-Tag:noindex
X-PUBLISHED-TTL:PT1H
BEGIN:VTIMEZONE
TZID:America/Chicago
BEGIN:DAYLIGHT
TZOFFSETFROM:-0600
TZOFFSETTO:-0500
TZNAME:CDT
DTSTART:20210314T080000
END:DAYLIGHT
BEGIN:STANDARD
TZOFFSETFROM:-0500
TZOFFSETTO:-0600
TZNAME:CST
DTSTART:20211107T070000
END:STANDARD
END:VTIMEZONE
BEGIN:VEVENT
DTSTART;TZID=America/Chicago:20211014T164500
DTEND;TZID=America/Chicago:20211014T180000
DTSTAMP:20260422T215604
CREATED:20210831T214431Z
LAST-MODIFIED:20210831T214431Z
UID:10001419-1634229900-1634234400@ynschoirs.org
SUMMARY:Aria Rehearsal
DESCRIPTION:Aria Rehearsal\n4:45pm-6:00pm Community Concert Center
URL:https://ynschoirs.org/calendar/aria-rehearsal/2021-10-14/
LOCATION:Community Concert Center\, 55 Concert Lane\, Naperville\, IL\, 60540
CATEGORIES:Aria,Parents
END:VEVENT
BEGIN:VEVENT
DTSTART;TZID=America/Chicago:20211014T163000
DTEND;TZID=America/Chicago:20211014T180000
DTSTAMP:20260422T215604
CREATED:20210831T212123Z
LAST-MODIFIED:20210831T212123Z
UID:10001376-1634229000-1634234400@ynschoirs.org
SUMMARY:Brillante Rehearsal
DESCRIPTION:Brillante Rehearsal\n4:30pm-6:00pm Faith Lutheran Church \n 
URL:https://ynschoirs.org/calendar/brillante-rehearsal/2021-10-14/
LOCATION:Faith Lutheran Church\, 3000 Liberty Street\, Aurora\, IL\, 60502
CATEGORIES:Brillante,Parents
END:VEVENT
BEGIN:VEVENT
DTSTART;TZID=America/Chicago:20211013T164500
DTEND;TZID=America/Chicago:20211013T174500
DTSTAMP:20260422T215604
CREATED:20210831T215821Z
LAST-MODIFIED:20210831T215821Z
UID:10001435-1634143500-1634147100@ynschoirs.org
SUMMARY:Primo Rehearsal
DESCRIPTION:Primo Rehearsal\n4:45pm-5:45pm Community Concert Center
URL:https://ynschoirs.org/calendar/primo-rehearsal/2021-10-13/
LOCATION:Community Concert Center\, 55 Concert Lane\, Naperville\, IL\, 60540
CATEGORIES:Parents,Primo
END:VEVENT
BEGIN:VEVENT
DTSTART;TZID=America/Chicago:20211012T184500
DTEND;TZID=America/Chicago:20211012T201500
DTSTAMP:20260422T215604
CREATED:20210902T160618Z
LAST-MODIFIED:20210902T160618Z
UID:10001235-1634064300-1634069700@ynschoirs.org
SUMMARY:Cantabile Rehearsal
DESCRIPTION:Cantabile Rehearsal\n6:45pm-8:15pm Community Concert Center
URL:https://ynschoirs.org/calendar/cantabile-rehearsal/2021-10-12/
LOCATION:Community Concert Center\, 55 Concert Lane\, Naperville\, IL\, 60540
CATEGORIES:Cantabile,Parents
END:VEVENT
BEGIN:VEVENT
DTSTART;TZID=America/Chicago:20211012T181500
DTEND;TZID=America/Chicago:20211012T201500
DTSTAMP:20260422T215604
CREATED:20210902T185637Z
LAST-MODIFIED:20210902T185637Z
UID:10001254-1634062500-1634069700@ynschoirs.org
SUMMARY:Bella Voce Rehearsal
DESCRIPTION:Bella Voce Rehearsal\n6:15pm-8:15pm Faith Lutheran Church
URL:https://ynschoirs.org/calendar/bella-voce-rehearsal/2021-10-12/
LOCATION:Faith Lutheran Church\, 3000 Liberty Street\, Aurora\, IL\, 60502
CATEGORIES:Bella Voce,Parents
END:VEVENT
BEGIN:VEVENT
DTSTART;TZID=America/Chicago:20211012T164500
DTEND;TZID=America/Chicago:20211012T181500
DTSTAMP:20260422T215604
CREATED:20210831T224727Z
LAST-MODIFIED:20210831T224727Z
UID:10001217-1634057100-1634062500@ynschoirs.org
SUMMARY:Ragazzi Rehearsal
DESCRIPTION:Ragazzi Rehearsal\n4:45pm-6:15pm Community Concert Center
URL:https://ynschoirs.org/calendar/ragazzi-rehearsal/2021-10-12/
LOCATION:Community Concert Center\, 55 Concert Lane\, Naperville\, IL\, 60540
CATEGORIES:Parents,Ragazzi
END:VEVENT
BEGIN:VEVENT
DTSTART;TZID=America/Chicago:20211012T163000
DTEND;TZID=America/Chicago:20211012T174500
DTSTAMP:20260422T215604
CREATED:20210831T223447Z
LAST-MODIFIED:20210831T223447Z
UID:10001451-1634056200-1634060700@ynschoirs.org
SUMMARY:Brio Rehearsal
DESCRIPTION:Brio Rehearsal\n4:30pm-5:45pm Faith Lutheran Church
URL:https://ynschoirs.org/calendar/brio-rehearsal/2021-10-12/
LOCATION:Faith Lutheran Church\, 3000 Liberty Street\, Aurora\, IL\, 60502
CATEGORIES:Brio,Parents
END:VEVENT
BEGIN:VEVENT
DTSTART;TZID=America/Chicago:20211011T181500
DTEND;TZID=America/Chicago:20211011T201500
DTSTAMP:20260422T215604
CREATED:20210902T192421Z
LAST-MODIFIED:20210902T192421Z
UID:10001491-1633976100-1633983300@ynschoirs.org
SUMMARY:Canto Vivo Rehearsal
DESCRIPTION:Canto Vivo Rehearsal\n6:15pm-8:00pm Faith Lutheran Church
URL:https://ynschoirs.org/calendar/canto-vivo-rehearsal/2021-10-11/
LOCATION:Faith Lutheran Church\, 3000 Liberty Street\, Aurora\, IL\, 60502
CATEGORIES:Canto Vivo,Parents
END:VEVENT
BEGIN:VEVENT
DTSTART;TZID=America/Chicago:20211011T181500
DTEND;TZID=America/Chicago:20211011T201500
DTSTAMP:20260422T215604
CREATED:20210902T192108Z
LAST-MODIFIED:20210902T192108Z
UID:10001477-1633976100-1633983300@ynschoirs.org
SUMMARY:Bella Cantare Rehearsal
DESCRIPTION:Bella Cantare Rehearsal\n6:15pm-8:15pm Faith Lutheran Church
URL:https://ynschoirs.org/calendar/bella-cantare-rehearsal/2021-10-11/
LOCATION:Faith Lutheran Church\, 3000 Liberty Street\, Aurora\, IL\, 60502
CATEGORIES:Bella Cantare,Parents
END:VEVENT
BEGIN:VEVENT
DTSTART;VALUE=DATE:20211011
DTEND;VALUE=DATE:20211012
DTSTAMP:20260422T215604
CREATED:20210902T191541Z
LAST-MODIFIED:20210902T191541Z
UID:10001471-1633910400-1633996799@ynschoirs.org
SUMMARY:Dolce - No Rehearsal
DESCRIPTION:Dolce – No Rehearsal\nColumbus Day
URL:https://ynschoirs.org/calendar/dolce-no-rehearsal-6/
LOCATION:IL
CATEGORIES:Dolce,Parents
END:VEVENT
BEGIN:VEVENT
DTSTART;TZID=America/Chicago:20211007T164500
DTEND;TZID=America/Chicago:20211007T180000
DTSTAMP:20260422T215604
CREATED:20210831T214431Z
LAST-MODIFIED:20210831T214431Z
UID:10001418-1633625100-1633629600@ynschoirs.org
SUMMARY:Aria Rehearsal
DESCRIPTION:Aria Rehearsal\n4:45pm-6:00pm Community Concert Center
URL:https://ynschoirs.org/calendar/aria-rehearsal/2021-10-07/
LOCATION:Community Concert Center\, 55 Concert Lane\, Naperville\, IL\, 60540
CATEGORIES:Aria,Parents
END:VEVENT
BEGIN:VEVENT
DTSTART;TZID=America/Chicago:20211007T163000
DTEND;TZID=America/Chicago:20211007T180000
DTSTAMP:20260422T215604
CREATED:20210831T212123Z
LAST-MODIFIED:20210831T212123Z
UID:10001375-1633624200-1633629600@ynschoirs.org
SUMMARY:Brillante Rehearsal
DESCRIPTION:Brillante Rehearsal\n4:30pm-6:00pm Faith Lutheran Church \n 
URL:https://ynschoirs.org/calendar/brillante-rehearsal/2021-10-07/
LOCATION:Faith Lutheran Church\, 3000 Liberty Street\, Aurora\, IL\, 60502
CATEGORIES:Brillante,Parents
END:VEVENT
BEGIN:VEVENT
DTSTART;TZID=America/Chicago:20211006T164500
DTEND;TZID=America/Chicago:20211006T174500
DTSTAMP:20260422T215604
CREATED:20210831T215821Z
LAST-MODIFIED:20210831T215821Z
UID:10001434-1633538700-1633542300@ynschoirs.org
SUMMARY:Primo Rehearsal
DESCRIPTION:Primo Rehearsal\n4:45pm-5:45pm Community Concert Center
URL:https://ynschoirs.org/calendar/primo-rehearsal/2021-10-06/
LOCATION:Community Concert Center\, 55 Concert Lane\, Naperville\, IL\, 60540
CATEGORIES:Parents,Primo
END:VEVENT
BEGIN:VEVENT
DTSTART;TZID=America/Chicago:20211005T184500
DTEND;TZID=America/Chicago:20211005T201500
DTSTAMP:20260422T215604
CREATED:20210902T160618Z
LAST-MODIFIED:20210902T160618Z
UID:10001234-1633459500-1633464900@ynschoirs.org
SUMMARY:Cantabile Rehearsal
DESCRIPTION:Cantabile Rehearsal\n6:45pm-8:15pm Community Concert Center
URL:https://ynschoirs.org/calendar/cantabile-rehearsal/2021-10-05/
LOCATION:Community Concert Center\, 55 Concert Lane\, Naperville\, IL\, 60540
CATEGORIES:Cantabile,Parents
END:VEVENT
BEGIN:VEVENT
DTSTART;TZID=America/Chicago:20211005T181500
DTEND;TZID=America/Chicago:20211005T201500
DTSTAMP:20260422T215604
CREATED:20210902T185637Z
LAST-MODIFIED:20210902T185637Z
UID:10001253-1633457700-1633464900@ynschoirs.org
SUMMARY:Bella Voce Rehearsal
DESCRIPTION:Bella Voce Rehearsal\n6:15pm-8:15pm Faith Lutheran Church
URL:https://ynschoirs.org/calendar/bella-voce-rehearsal/2021-10-05/
LOCATION:Faith Lutheran Church\, 3000 Liberty Street\, Aurora\, IL\, 60502
CATEGORIES:Bella Voce,Parents
END:VEVENT
BEGIN:VEVENT
DTSTART;TZID=America/Chicago:20211005T164500
DTEND;TZID=America/Chicago:20211005T181500
DTSTAMP:20260422T215604
CREATED:20210831T224727Z
LAST-MODIFIED:20210831T224727Z
UID:10001216-1633452300-1633457700@ynschoirs.org
SUMMARY:Ragazzi Rehearsal
DESCRIPTION:Ragazzi Rehearsal\n4:45pm-6:15pm Community Concert Center
URL:https://ynschoirs.org/calendar/ragazzi-rehearsal/2021-10-05/
LOCATION:Community Concert Center\, 55 Concert Lane\, Naperville\, IL\, 60540
CATEGORIES:Parents,Ragazzi
END:VEVENT
BEGIN:VEVENT
DTSTART;TZID=America/Chicago:20211005T163000
DTEND;TZID=America/Chicago:20211005T174500
DTSTAMP:20260422T215604
CREATED:20210831T223447Z
LAST-MODIFIED:20210831T223447Z
UID:10001450-1633451400-1633455900@ynschoirs.org
SUMMARY:Brio Rehearsal
DESCRIPTION:Brio Rehearsal\n4:30pm-5:45pm Faith Lutheran Church
URL:https://ynschoirs.org/calendar/brio-rehearsal/2021-10-05/
LOCATION:Faith Lutheran Church\, 3000 Liberty Street\, Aurora\, IL\, 60502
CATEGORIES:Brio,Parents
END:VEVENT
BEGIN:VEVENT
DTSTART;TZID=America/Chicago:20211004T181500
DTEND;TZID=America/Chicago:20211004T201500
DTSTAMP:20260422T215604
CREATED:20210902T192421Z
LAST-MODIFIED:20210902T192421Z
UID:10001490-1633371300-1633378500@ynschoirs.org
SUMMARY:Canto Vivo Rehearsal
DESCRIPTION:Canto Vivo Rehearsal\n6:15pm-8:00pm Faith Lutheran Church
URL:https://ynschoirs.org/calendar/canto-vivo-rehearsal/2021-10-04/
LOCATION:Faith Lutheran Church\, 3000 Liberty Street\, Aurora\, IL\, 60502
CATEGORIES:Canto Vivo,Parents
END:VEVENT
BEGIN:VEVENT
DTSTART;TZID=America/Chicago:20211004T181500
DTEND;TZID=America/Chicago:20211004T201500
DTSTAMP:20260422T215604
CREATED:20210902T192108Z
LAST-MODIFIED:20210902T192108Z
UID:10001476-1633371300-1633378500@ynschoirs.org
SUMMARY:Bella Cantare Rehearsal
DESCRIPTION:Bella Cantare Rehearsal\n6:15pm-8:15pm Faith Lutheran Church
URL:https://ynschoirs.org/calendar/bella-cantare-rehearsal/2021-10-04/
LOCATION:Faith Lutheran Church\, 3000 Liberty Street\, Aurora\, IL\, 60502
CATEGORIES:Bella Cantare,Parents
END:VEVENT
BEGIN:VEVENT
DTSTART;TZID=America/Chicago:20211004T164500
DTEND;TZID=America/Chicago:20211004T174500
DTSTAMP:20260422T215604
CREATED:20210902T190400Z
LAST-MODIFIED:20210902T193617Z
UID:10001461-1633365900-1633369500@ynschoirs.org
SUMMARY:Dolce Rehearsal
DESCRIPTION:Dolce Rehearsal\n4:45pm-5:45pm Allied First Bank\, Oswego
URL:https://ynschoirs.org/calendar/dolce-rehearsal/2021-10-04/
LOCATION:ServBank\, 3201 Orchard Road\, Oswego\, IL\, 60543
CATEGORIES:Dolce,Parents
END:VEVENT
BEGIN:VEVENT
DTSTART;TZID=America/Chicago:20210930T164500
DTEND;TZID=America/Chicago:20210930T180000
DTSTAMP:20260422T215604
CREATED:20210831T214431Z
LAST-MODIFIED:20210831T214431Z
UID:10001417-1633020300-1633024800@ynschoirs.org
SUMMARY:Aria Rehearsal
DESCRIPTION:Aria Rehearsal\n4:45pm-6:00pm Community Concert Center
URL:https://ynschoirs.org/calendar/aria-rehearsal/2021-09-30/
LOCATION:Community Concert Center\, 55 Concert Lane\, Naperville\, IL\, 60540
CATEGORIES:Aria,Parents
END:VEVENT
BEGIN:VEVENT
DTSTART;TZID=America/Chicago:20210930T163000
DTEND;TZID=America/Chicago:20210930T180000
DTSTAMP:20260422T215604
CREATED:20210831T212123Z
LAST-MODIFIED:20210831T212123Z
UID:10001374-1633019400-1633024800@ynschoirs.org
SUMMARY:Brillante Rehearsal
DESCRIPTION:Brillante Rehearsal\n4:30pm-6:00pm Faith Lutheran Church \n 
URL:https://ynschoirs.org/calendar/brillante-rehearsal/2021-09-30/
LOCATION:Faith Lutheran Church\, 3000 Liberty Street\, Aurora\, IL\, 60502
CATEGORIES:Brillante,Parents
END:VEVENT
BEGIN:VEVENT
DTSTART;TZID=America/Chicago:20210929T164500
DTEND;TZID=America/Chicago:20210929T174500
DTSTAMP:20260422T215604
CREATED:20210831T215821Z
LAST-MODIFIED:20210831T215821Z
UID:10001433-1632933900-1632937500@ynschoirs.org
SUMMARY:Primo Rehearsal
DESCRIPTION:Primo Rehearsal\n4:45pm-5:45pm Community Concert Center
URL:https://ynschoirs.org/calendar/primo-rehearsal/2021-09-29/
LOCATION:Community Concert Center\, 55 Concert Lane\, Naperville\, IL\, 60540
CATEGORIES:Parents,Primo
END:VEVENT
BEGIN:VEVENT
DTSTART;TZID=America/Chicago:20210928T184500
DTEND;TZID=America/Chicago:20210928T201500
DTSTAMP:20260422T215604
CREATED:20210902T160618Z
LAST-MODIFIED:20210902T160618Z
UID:10001233-1632854700-1632860100@ynschoirs.org
SUMMARY:Cantabile Rehearsal
DESCRIPTION:Cantabile Rehearsal\n6:45pm-8:15pm Community Concert Center
URL:https://ynschoirs.org/calendar/cantabile-rehearsal/2021-09-28/
LOCATION:Community Concert Center\, 55 Concert Lane\, Naperville\, IL\, 60540
CATEGORIES:Cantabile,Parents
END:VEVENT
BEGIN:VEVENT
DTSTART;TZID=America/Chicago:20210928T181500
DTEND;TZID=America/Chicago:20210928T201500
DTSTAMP:20260422T215604
CREATED:20210902T185637Z
LAST-MODIFIED:20210902T185637Z
UID:10001252-1632852900-1632860100@ynschoirs.org
SUMMARY:Bella Voce Rehearsal
DESCRIPTION:Bella Voce Rehearsal\n6:15pm-8:15pm Faith Lutheran Church
URL:https://ynschoirs.org/calendar/bella-voce-rehearsal/2021-09-28/
LOCATION:Faith Lutheran Church\, 3000 Liberty Street\, Aurora\, IL\, 60502
CATEGORIES:Bella Voce,Parents
END:VEVENT
BEGIN:VEVENT
DTSTART;TZID=America/Chicago:20210928T164500
DTEND;TZID=America/Chicago:20210928T181500
DTSTAMP:20260422T215604
CREATED:20210831T224727Z
LAST-MODIFIED:20210831T224727Z
UID:10001215-1632847500-1632852900@ynschoirs.org
SUMMARY:Ragazzi Rehearsal
DESCRIPTION:Ragazzi Rehearsal\n4:45pm-6:15pm Community Concert Center
URL:https://ynschoirs.org/calendar/ragazzi-rehearsal/2021-09-28/
LOCATION:Community Concert Center\, 55 Concert Lane\, Naperville\, IL\, 60540
CATEGORIES:Parents,Ragazzi
END:VEVENT
BEGIN:VEVENT
DTSTART;TZID=America/Chicago:20210928T163000
DTEND;TZID=America/Chicago:20210928T174500
DTSTAMP:20260422T215604
CREATED:20210831T223447Z
LAST-MODIFIED:20210831T223447Z
UID:10001449-1632846600-1632851100@ynschoirs.org
SUMMARY:Brio Rehearsal
DESCRIPTION:Brio Rehearsal\n4:30pm-5:45pm Faith Lutheran Church
URL:https://ynschoirs.org/calendar/brio-rehearsal/2021-09-28/
LOCATION:Faith Lutheran Church\, 3000 Liberty Street\, Aurora\, IL\, 60502
CATEGORIES:Brio,Parents
END:VEVENT
BEGIN:VEVENT
DTSTART;TZID=America/Chicago:20210927T181500
DTEND;TZID=America/Chicago:20210927T201500
DTSTAMP:20260422T215604
CREATED:20210902T192421Z
LAST-MODIFIED:20210902T192421Z
UID:10001489-1632766500-1632773700@ynschoirs.org
SUMMARY:Canto Vivo Rehearsal
DESCRIPTION:Canto Vivo Rehearsal\n6:15pm-8:00pm Faith Lutheran Church
URL:https://ynschoirs.org/calendar/canto-vivo-rehearsal/2021-09-27/
LOCATION:Faith Lutheran Church\, 3000 Liberty Street\, Aurora\, IL\, 60502
CATEGORIES:Canto Vivo,Parents
END:VEVENT
BEGIN:VEVENT
DTSTART;TZID=America/Chicago:20210927T181500
DTEND;TZID=America/Chicago:20210927T201500
DTSTAMP:20260422T215604
CREATED:20210902T192108Z
LAST-MODIFIED:20210902T192108Z
UID:10001475-1632766500-1632773700@ynschoirs.org
SUMMARY:Bella Cantare Rehearsal
DESCRIPTION:Bella Cantare Rehearsal\n6:15pm-8:15pm Faith Lutheran Church
URL:https://ynschoirs.org/calendar/bella-cantare-rehearsal/2021-09-27/
LOCATION:Faith Lutheran Church\, 3000 Liberty Street\, Aurora\, IL\, 60502
CATEGORIES:Bella Cantare,Parents
END:VEVENT
BEGIN:VEVENT
DTSTART;TZID=America/Chicago:20210927T164500
DTEND;TZID=America/Chicago:20210927T174500
DTSTAMP:20260422T215604
CREATED:20210902T190400Z
LAST-MODIFIED:20210902T193617Z
UID:10001460-1632761100-1632764700@ynschoirs.org
SUMMARY:Dolce Rehearsal
DESCRIPTION:Dolce Rehearsal\n4:45pm-5:45pm Allied First Bank\, Oswego
URL:https://ynschoirs.org/calendar/dolce-rehearsal/2021-09-27/
LOCATION:ServBank\, 3201 Orchard Road\, Oswego\, IL\, 60543
CATEGORIES:Dolce,Parents
END:VEVENT
END:VCALENDAR