BEGIN:VCALENDAR
VERSION:2.0
PRODID:-//Young Naperville Singers - ECPv6.8.0//NONSGML v1.0//EN
CALSCALE:GREGORIAN
METHOD:PUBLISH
X-WR-CALNAME:Young Naperville Singers
X-ORIGINAL-URL:https://ynschoirs.org
X-WR-CALDESC:Events for Young Naperville Singers
REFRESH-INTERVAL;VALUE=DURATION:PT1H
X-Robots-Tag:noindex
X-PUBLISHED-TTL:PT1H
BEGIN:VTIMEZONE
TZID:America/Chicago
BEGIN:DAYLIGHT
TZOFFSETFROM:-0600
TZOFFSETTO:-0500
TZNAME:CDT
DTSTART:20210314T080000
END:DAYLIGHT
BEGIN:STANDARD
TZOFFSETFROM:-0500
TZOFFSETTO:-0600
TZNAME:CST
DTSTART:20211107T070000
END:STANDARD
END:VTIMEZONE
BEGIN:VEVENT
DTSTART;TZID=America/Chicago:20211109T163000
DTEND;TZID=America/Chicago:20211109T174500
DTSTAMP:20260422T180232
CREATED:20210831T223447Z
LAST-MODIFIED:20210831T223447Z
UID:10001455-1636475400-1636479900@ynschoirs.org
SUMMARY:Brio Rehearsal
DESCRIPTION:Brio Rehearsal\n4:30pm-5:45pm Faith Lutheran Church
URL:https://ynschoirs.org/calendar/brio-rehearsal/2021-11-09/
LOCATION:Faith Lutheran Church\, 3000 Liberty Street\, Aurora\, IL\, 60502
CATEGORIES:Brio,Parents
END:VEVENT
BEGIN:VEVENT
DTSTART;TZID=America/Chicago:20211108T181500
DTEND;TZID=America/Chicago:20211108T201500
DTSTAMP:20260422T180232
CREATED:20210902T192421Z
LAST-MODIFIED:20210902T192421Z
UID:10001495-1636395300-1636402500@ynschoirs.org
SUMMARY:Canto Vivo Rehearsal
DESCRIPTION:Canto Vivo Rehearsal\n6:15pm-8:00pm Faith Lutheran Church
URL:https://ynschoirs.org/calendar/canto-vivo-rehearsal/2021-11-08/
LOCATION:Faith Lutheran Church\, 3000 Liberty Street\, Aurora\, IL\, 60502
CATEGORIES:Canto Vivo,Parents
END:VEVENT
BEGIN:VEVENT
DTSTART;TZID=America/Chicago:20211108T181500
DTEND;TZID=America/Chicago:20211108T201500
DTSTAMP:20260422T180232
CREATED:20210902T192108Z
LAST-MODIFIED:20210902T192108Z
UID:10001481-1636395300-1636402500@ynschoirs.org
SUMMARY:Bella Cantare Rehearsal
DESCRIPTION:Bella Cantare Rehearsal\n6:15pm-8:15pm Faith Lutheran Church
URL:https://ynschoirs.org/calendar/bella-cantare-rehearsal/2021-11-08/
LOCATION:Faith Lutheran Church\, 3000 Liberty Street\, Aurora\, IL\, 60502
CATEGORIES:Bella Cantare,Parents
END:VEVENT
BEGIN:VEVENT
DTSTART;TZID=America/Chicago:20211108T164500
DTEND;TZID=America/Chicago:20211108T174500
DTSTAMP:20260422T180232
CREATED:20210902T190618Z
LAST-MODIFIED:20210902T191124Z
UID:10001465-1636389900-1636393500@ynschoirs.org
SUMMARY:Dolce Rehearsal
DESCRIPTION:Dolce Rehearsal\n4:45pm-5:45pm Allied First Bank\, Oswego
URL:https://ynschoirs.org/calendar/4182/2021-11-08/
LOCATION:ServBank\, 3201 Orchard Road\, Oswego\, IL\, 60543
CATEGORIES:Dolce,Parents
END:VEVENT
BEGIN:VEVENT
DTSTART;TZID=America/Chicago:20211104T164500
DTEND;TZID=America/Chicago:20211104T180000
DTSTAMP:20260422T180233
CREATED:20210831T214431Z
LAST-MODIFIED:20210831T214431Z
UID:10001422-1636044300-1636048800@ynschoirs.org
SUMMARY:Aria Rehearsal
DESCRIPTION:Aria Rehearsal\n4:45pm-6:00pm Community Concert Center
URL:https://ynschoirs.org/calendar/aria-rehearsal/2021-11-04/
LOCATION:Community Concert Center\, 55 Concert Lane\, Naperville\, IL\, 60540
CATEGORIES:Aria,Parents
END:VEVENT
BEGIN:VEVENT
DTSTART;TZID=America/Chicago:20211104T163000
DTEND;TZID=America/Chicago:20211104T180000
DTSTAMP:20260422T180233
CREATED:20210831T212123Z
LAST-MODIFIED:20210831T212123Z
UID:10001379-1636043400-1636048800@ynschoirs.org
SUMMARY:Brillante Rehearsal
DESCRIPTION:Brillante Rehearsal\n4:30pm-6:00pm Faith Lutheran Church \n 
URL:https://ynschoirs.org/calendar/brillante-rehearsal/2021-11-04/
LOCATION:Faith Lutheran Church\, 3000 Liberty Street\, Aurora\, IL\, 60502
CATEGORIES:Brillante,Parents
END:VEVENT
BEGIN:VEVENT
DTSTART;TZID=America/Chicago:20211103T164500
DTEND;TZID=America/Chicago:20211103T174500
DTSTAMP:20260422T180233
CREATED:20210831T215821Z
LAST-MODIFIED:20210831T215821Z
UID:10001438-1635957900-1635961500@ynschoirs.org
SUMMARY:Primo Rehearsal
DESCRIPTION:Primo Rehearsal\n4:45pm-5:45pm Community Concert Center
URL:https://ynschoirs.org/calendar/primo-rehearsal/2021-11-03/
LOCATION:Community Concert Center\, 55 Concert Lane\, Naperville\, IL\, 60540
CATEGORIES:Parents,Primo
END:VEVENT
BEGIN:VEVENT
DTSTART;VALUE=DATE:20211103
DTEND;VALUE=DATE:20211104
DTSTAMP:20260422T180233
CREATED:20210907T153627Z
LAST-MODIFIED:20210907T153627Z
UID:10001517-1635897600-1635983999@ynschoirs.org
SUMMARY:Butter Braid Fundraiser Ends
DESCRIPTION:Butter Braid Fundraiser Ends\nAll Butter Braid orders should be turned in no later than today\, 11/3.  You can turn in the orders online\, at your singer’s rehearsal or at the office.
URL:https://ynschoirs.org/calendar/butter-braid-fundraiser-ends/
LOCATION:IL
CATEGORIES:Aria,Bella Cantare,Bella Voce,Brillante,Brio,Cantabile,Canto Vivo,Dolce,Parents,Primo,Ragazzi
END:VEVENT
BEGIN:VEVENT
DTSTART;TZID=America/Chicago:20211102T184500
DTEND;TZID=America/Chicago:20211102T201500
DTSTAMP:20260422T180233
CREATED:20210902T160618Z
LAST-MODIFIED:20210902T160618Z
UID:10001238-1635878700-1635884100@ynschoirs.org
SUMMARY:Cantabile Rehearsal
DESCRIPTION:Cantabile Rehearsal\n6:45pm-8:15pm Community Concert Center
URL:https://ynschoirs.org/calendar/cantabile-rehearsal/2021-11-02/
LOCATION:Community Concert Center\, 55 Concert Lane\, Naperville\, IL\, 60540
CATEGORIES:Cantabile,Parents
END:VEVENT
BEGIN:VEVENT
DTSTART;TZID=America/Chicago:20211102T181500
DTEND;TZID=America/Chicago:20211102T201500
DTSTAMP:20260422T180233
CREATED:20210902T185637Z
LAST-MODIFIED:20210902T185637Z
UID:10001257-1635876900-1635884100@ynschoirs.org
SUMMARY:Bella Voce Rehearsal
DESCRIPTION:Bella Voce Rehearsal\n6:15pm-8:15pm Faith Lutheran Church
URL:https://ynschoirs.org/calendar/bella-voce-rehearsal/2021-11-02/
LOCATION:Faith Lutheran Church\, 3000 Liberty Street\, Aurora\, IL\, 60502
CATEGORIES:Bella Voce,Parents
END:VEVENT
BEGIN:VEVENT
DTSTART;TZID=America/Chicago:20211102T164500
DTEND;TZID=America/Chicago:20211102T181500
DTSTAMP:20260422T180233
CREATED:20210831T224727Z
LAST-MODIFIED:20210831T224727Z
UID:10001220-1635871500-1635876900@ynschoirs.org
SUMMARY:Ragazzi Rehearsal
DESCRIPTION:Ragazzi Rehearsal\n4:45pm-6:15pm Community Concert Center
URL:https://ynschoirs.org/calendar/ragazzi-rehearsal/2021-11-02/
LOCATION:Community Concert Center\, 55 Concert Lane\, Naperville\, IL\, 60540
CATEGORIES:Parents,Ragazzi
END:VEVENT
BEGIN:VEVENT
DTSTART;TZID=America/Chicago:20211102T163000
DTEND;TZID=America/Chicago:20211102T174500
DTSTAMP:20260422T180233
CREATED:20210831T223447Z
LAST-MODIFIED:20210831T223447Z
UID:10001454-1635870600-1635875100@ynschoirs.org
SUMMARY:Brio Rehearsal
DESCRIPTION:Brio Rehearsal\n4:30pm-5:45pm Faith Lutheran Church
URL:https://ynschoirs.org/calendar/brio-rehearsal/2021-11-02/
LOCATION:Faith Lutheran Church\, 3000 Liberty Street\, Aurora\, IL\, 60502
CATEGORIES:Brio,Parents
END:VEVENT
BEGIN:VEVENT
DTSTART;TZID=America/Chicago:20211101T181500
DTEND;TZID=America/Chicago:20211101T201500
DTSTAMP:20260422T180233
CREATED:20210902T192421Z
LAST-MODIFIED:20210902T192421Z
UID:10001494-1635790500-1635797700@ynschoirs.org
SUMMARY:Canto Vivo Rehearsal
DESCRIPTION:Canto Vivo Rehearsal\n6:15pm-8:00pm Faith Lutheran Church
URL:https://ynschoirs.org/calendar/canto-vivo-rehearsal/2021-11-01/
LOCATION:Faith Lutheran Church\, 3000 Liberty Street\, Aurora\, IL\, 60502
CATEGORIES:Canto Vivo,Parents
END:VEVENT
BEGIN:VEVENT
DTSTART;TZID=America/Chicago:20211101T181500
DTEND;TZID=America/Chicago:20211101T201500
DTSTAMP:20260422T180233
CREATED:20210902T192108Z
LAST-MODIFIED:20210902T192108Z
UID:10001480-1635790500-1635797700@ynschoirs.org
SUMMARY:Bella Cantare Rehearsal
DESCRIPTION:Bella Cantare Rehearsal\n6:15pm-8:15pm Faith Lutheran Church
URL:https://ynschoirs.org/calendar/bella-cantare-rehearsal/2021-11-01/
LOCATION:Faith Lutheran Church\, 3000 Liberty Street\, Aurora\, IL\, 60502
CATEGORIES:Bella Cantare,Parents
END:VEVENT
BEGIN:VEVENT
DTSTART;TZID=America/Chicago:20211101T164500
DTEND;TZID=America/Chicago:20211101T174500
DTSTAMP:20260422T180233
CREATED:20210902T190618Z
LAST-MODIFIED:20210902T191124Z
UID:10001464-1635785100-1635788700@ynschoirs.org
SUMMARY:Dolce Rehearsal
DESCRIPTION:Dolce Rehearsal\n4:45pm-5:45pm Allied First Bank\, Oswego
URL:https://ynschoirs.org/calendar/4182/2021-11-01/
LOCATION:ServBank\, 3201 Orchard Road\, Oswego\, IL\, 60543
CATEGORIES:Dolce,Parents
END:VEVENT
BEGIN:VEVENT
DTSTART;TZID=America/Chicago:20211028T164500
DTEND;TZID=America/Chicago:20211028T180000
DTSTAMP:20260422T180233
CREATED:20210831T214431Z
LAST-MODIFIED:20210831T214431Z
UID:10001421-1635439500-1635444000@ynschoirs.org
SUMMARY:Aria Rehearsal
DESCRIPTION:Aria Rehearsal\n4:45pm-6:00pm Community Concert Center
URL:https://ynschoirs.org/calendar/aria-rehearsal/2021-10-28/
LOCATION:Community Concert Center\, 55 Concert Lane\, Naperville\, IL\, 60540
CATEGORIES:Aria,Parents
END:VEVENT
BEGIN:VEVENT
DTSTART;TZID=America/Chicago:20211028T163000
DTEND;TZID=America/Chicago:20211028T180000
DTSTAMP:20260422T180233
CREATED:20210831T212123Z
LAST-MODIFIED:20210831T212123Z
UID:10001378-1635438600-1635444000@ynschoirs.org
SUMMARY:Brillante Rehearsal
DESCRIPTION:Brillante Rehearsal\n4:30pm-6:00pm Faith Lutheran Church \n 
URL:https://ynschoirs.org/calendar/brillante-rehearsal/2021-10-28/
LOCATION:Faith Lutheran Church\, 3000 Liberty Street\, Aurora\, IL\, 60502
CATEGORIES:Brillante,Parents
END:VEVENT
BEGIN:VEVENT
DTSTART;TZID=America/Chicago:20211027T164500
DTEND;TZID=America/Chicago:20211027T174500
DTSTAMP:20260422T180233
CREATED:20210831T215821Z
LAST-MODIFIED:20210831T215821Z
UID:10001437-1635353100-1635356700@ynschoirs.org
SUMMARY:Primo Rehearsal
DESCRIPTION:Primo Rehearsal\n4:45pm-5:45pm Community Concert Center
URL:https://ynschoirs.org/calendar/primo-rehearsal/2021-10-27/
LOCATION:Community Concert Center\, 55 Concert Lane\, Naperville\, IL\, 60540
CATEGORIES:Parents,Primo
END:VEVENT
BEGIN:VEVENT
DTSTART;TZID=America/Chicago:20211026T184500
DTEND;TZID=America/Chicago:20211026T201500
DTSTAMP:20260422T180233
CREATED:20210902T160618Z
LAST-MODIFIED:20210902T160618Z
UID:10001237-1635273900-1635279300@ynschoirs.org
SUMMARY:Cantabile Rehearsal
DESCRIPTION:Cantabile Rehearsal\n6:45pm-8:15pm Community Concert Center
URL:https://ynschoirs.org/calendar/cantabile-rehearsal/2021-10-26/
LOCATION:Community Concert Center\, 55 Concert Lane\, Naperville\, IL\, 60540
CATEGORIES:Cantabile,Parents
END:VEVENT
BEGIN:VEVENT
DTSTART;TZID=America/Chicago:20211026T181500
DTEND;TZID=America/Chicago:20211026T201500
DTSTAMP:20260422T180233
CREATED:20210902T185637Z
LAST-MODIFIED:20210902T185637Z
UID:10001256-1635272100-1635279300@ynschoirs.org
SUMMARY:Bella Voce Rehearsal
DESCRIPTION:Bella Voce Rehearsal\n6:15pm-8:15pm Faith Lutheran Church
URL:https://ynschoirs.org/calendar/bella-voce-rehearsal/2021-10-26/
LOCATION:Faith Lutheran Church\, 3000 Liberty Street\, Aurora\, IL\, 60502
CATEGORIES:Bella Voce,Parents
END:VEVENT
BEGIN:VEVENT
DTSTART;TZID=America/Chicago:20211026T164500
DTEND;TZID=America/Chicago:20211026T181500
DTSTAMP:20260422T180233
CREATED:20210831T224727Z
LAST-MODIFIED:20210831T224727Z
UID:10001219-1635266700-1635272100@ynschoirs.org
SUMMARY:Ragazzi Rehearsal
DESCRIPTION:Ragazzi Rehearsal\n4:45pm-6:15pm Community Concert Center
URL:https://ynschoirs.org/calendar/ragazzi-rehearsal/2021-10-26/
LOCATION:Community Concert Center\, 55 Concert Lane\, Naperville\, IL\, 60540
CATEGORIES:Parents,Ragazzi
END:VEVENT
BEGIN:VEVENT
DTSTART;TZID=America/Chicago:20211026T163000
DTEND;TZID=America/Chicago:20211026T174500
DTSTAMP:20260422T180233
CREATED:20210831T223447Z
LAST-MODIFIED:20210831T223447Z
UID:10001453-1635265800-1635270300@ynschoirs.org
SUMMARY:Brio Rehearsal
DESCRIPTION:Brio Rehearsal\n4:30pm-5:45pm Faith Lutheran Church
URL:https://ynschoirs.org/calendar/brio-rehearsal/2021-10-26/
LOCATION:Faith Lutheran Church\, 3000 Liberty Street\, Aurora\, IL\, 60502
CATEGORIES:Brio,Parents
END:VEVENT
BEGIN:VEVENT
DTSTART;TZID=America/Chicago:20211025T181500
DTEND;TZID=America/Chicago:20211025T201500
DTSTAMP:20260422T180233
CREATED:20210902T192421Z
LAST-MODIFIED:20210902T192421Z
UID:10001493-1635185700-1635192900@ynschoirs.org
SUMMARY:Canto Vivo Rehearsal
DESCRIPTION:Canto Vivo Rehearsal\n6:15pm-8:00pm Faith Lutheran Church
URL:https://ynschoirs.org/calendar/canto-vivo-rehearsal/2021-10-25/
LOCATION:Faith Lutheran Church\, 3000 Liberty Street\, Aurora\, IL\, 60502
CATEGORIES:Canto Vivo,Parents
END:VEVENT
BEGIN:VEVENT
DTSTART;TZID=America/Chicago:20211025T181500
DTEND;TZID=America/Chicago:20211025T201500
DTSTAMP:20260422T180233
CREATED:20210902T192108Z
LAST-MODIFIED:20210902T192108Z
UID:10001479-1635185700-1635192900@ynschoirs.org
SUMMARY:Bella Cantare Rehearsal
DESCRIPTION:Bella Cantare Rehearsal\n6:15pm-8:15pm Faith Lutheran Church
URL:https://ynschoirs.org/calendar/bella-cantare-rehearsal/2021-10-25/
LOCATION:Faith Lutheran Church\, 3000 Liberty Street\, Aurora\, IL\, 60502
CATEGORIES:Bella Cantare,Parents
END:VEVENT
BEGIN:VEVENT
DTSTART;TZID=America/Chicago:20211025T164500
DTEND;TZID=America/Chicago:20211025T174500
DTSTAMP:20260422T180233
CREATED:20210902T190618Z
LAST-MODIFIED:20210902T191124Z
UID:10001463-1635180300-1635183900@ynschoirs.org
SUMMARY:Dolce Rehearsal
DESCRIPTION:Dolce Rehearsal\n4:45pm-5:45pm Allied First Bank\, Oswego
URL:https://ynschoirs.org/calendar/4182/2021-10-25/
LOCATION:ServBank\, 3201 Orchard Road\, Oswego\, IL\, 60543
CATEGORIES:Dolce,Parents
END:VEVENT
BEGIN:VEVENT
DTSTART;TZID=America/Chicago:20211023T124500
DTEND;TZID=America/Chicago:20211023T140000
DTSTAMP:20260422T180233
CREATED:20211006T162633Z
LAST-MODIFIED:20211006T162633Z
UID:10001278-1634993100-1634997600@ynschoirs.org
SUMMARY:Brio Fall Fest
DESCRIPTION:Brio Fall Fest\nCommunity Concert Center \n\nCall Time: 1:15pm\nStage Time: 1:30pm\nFun Time: 12:45pm
URL:https://ynschoirs.org/calendar/brio-fall-fest/
LOCATION:Community Concert Center\, 55 Concert Lane\, Naperville\, IL\, 60540
CATEGORIES:Brio,Parents
END:VEVENT
BEGIN:VEVENT
DTSTART;TZID=America/Chicago:20211023T124500
DTEND;TZID=America/Chicago:20211023T134500
DTSTAMP:20260422T180233
CREATED:20211006T162521Z
LAST-MODIFIED:20211006T162521Z
UID:10001276-1634993100-1634996700@ynschoirs.org
SUMMARY:Dolce Fall Fest
DESCRIPTION:Dolce Fall Fest\nCommunity Concert Center \n\nCall Time: 12:45pm\nStage Time: 1:00pm\nFun Time: 1:30pm
URL:https://ynschoirs.org/calendar/dolce-fall-fest/
LOCATION:Community Concert Center\, 55 Concert Lane\, Naperville\, IL\, 60540
CATEGORIES:Dolce,Parents
END:VEVENT
BEGIN:VEVENT
DTSTART;TZID=America/Chicago:20211023T121500
DTEND;TZID=America/Chicago:20211023T131500
DTSTAMP:20260422T180233
CREATED:20211006T162359Z
LAST-MODIFIED:20211006T162359Z
UID:10001274-1634991300-1634994900@ynschoirs.org
SUMMARY:Aria Fall Fest
DESCRIPTION:Aria Fall Fest\nCommunity Concert Center \n\nCall Time: 12:15pm\nStage Time: 12:30pm\nFun Time: 1:00pm
URL:https://ynschoirs.org/calendar/aria-fall-fest/
LOCATION:Community Concert Center\, 55 Concert Lane\, Naperville\, IL\, 60540
CATEGORIES:Aria,Parents
END:VEVENT
BEGIN:VEVENT
DTSTART;TZID=America/Chicago:20211023T114500
DTEND;TZID=America/Chicago:20211023T124500
DTSTAMP:20260422T180233
CREATED:20211006T162241Z
LAST-MODIFIED:20211006T162241Z
UID:10001272-1634989500-1634993100@ynschoirs.org
SUMMARY:Ragazzi Fall Fest
DESCRIPTION:Ragazzi Fall Fest\nCommunity Concert Center \n\nCall Time: 11:45am\nStage Time: 12:00pm\nFun Time: 12:30pm
URL:https://ynschoirs.org/calendar/ragazzi-fall-fest/
LOCATION:Community Concert Center\, 55 Concert Lane\, Naperville\, IL\, 60540
CATEGORIES:Parents,Ragazzi
END:VEVENT
BEGIN:VEVENT
DTSTART;TZID=America/Chicago:20211023T111500
DTEND;TZID=America/Chicago:20211023T121500
DTSTAMP:20260422T180233
CREATED:20211006T162131Z
LAST-MODIFIED:20211006T162131Z
UID:10001270-1634987700-1634991300@ynschoirs.org
SUMMARY:Primo Fall Fest
DESCRIPTION:Primo Fall Fest\nCommunity Concert Center \n\nCall Time: 11:15am\nStage Time: 11:30am\nFun Time: 12:00pm
URL:https://ynschoirs.org/calendar/primo-fall-fest/
LOCATION:Community Concert Center\, 55 Concert Lane\, Naperville\, IL\, 60540
CATEGORIES:Parents,Primo
END:VEVENT
END:VCALENDAR