BEGIN:VCALENDAR
VERSION:2.0
PRODID:-//Young Naperville Singers - ECPv6.8.0//NONSGML v1.0//EN
CALSCALE:GREGORIAN
METHOD:PUBLISH
X-WR-CALNAME:Young Naperville Singers
X-ORIGINAL-URL:https://ynschoirs.org
X-WR-CALDESC:Events for Young Naperville Singers
REFRESH-INTERVAL;VALUE=DURATION:PT1H
X-Robots-Tag:noindex
X-PUBLISHED-TTL:PT1H
BEGIN:VTIMEZONE
TZID:America/Chicago
BEGIN:DAYLIGHT
TZOFFSETFROM:-0600
TZOFFSETTO:-0500
TZNAME:CDT
DTSTART:20210314T080000
END:DAYLIGHT
BEGIN:STANDARD
TZOFFSETFROM:-0500
TZOFFSETTO:-0600
TZNAME:CST
DTSTART:20211107T070000
END:STANDARD
END:VTIMEZONE
BEGIN:VEVENT
DTSTART;TZID=America/Chicago:20210907T184500
DTEND;TZID=America/Chicago:20210907T201500
DTSTAMP:20260422T205353
CREATED:20210902T160618Z
LAST-MODIFIED:20210902T160618Z
UID:10001230-1631040300-1631045700@ynschoirs.org
SUMMARY:Cantabile Rehearsal
DESCRIPTION:Cantabile Rehearsal\n6:45pm-8:15pm Community Concert Center
URL:https://ynschoirs.org/calendar/cantabile-rehearsal/2021-09-07/
LOCATION:Community Concert Center\, 55 Concert Lane\, Naperville\, IL\, 60540
CATEGORIES:Cantabile,Parents
END:VEVENT
BEGIN:VEVENT
DTSTART;TZID=America/Chicago:20210907T181500
DTEND;TZID=America/Chicago:20210907T201500
DTSTAMP:20260422T205353
CREATED:20210902T185637Z
LAST-MODIFIED:20210902T185637Z
UID:10001249-1631038500-1631045700@ynschoirs.org
SUMMARY:Bella Voce Rehearsal
DESCRIPTION:Bella Voce Rehearsal\n6:15pm-8:15pm Faith Lutheran Church
URL:https://ynschoirs.org/calendar/bella-voce-rehearsal/2021-09-07/
LOCATION:Faith Lutheran Church\, 3000 Liberty Street\, Aurora\, IL\, 60502
CATEGORIES:Bella Voce,Parents
END:VEVENT
BEGIN:VEVENT
DTSTART;TZID=America/Chicago:20210907T164500
DTEND;TZID=America/Chicago:20210907T181500
DTSTAMP:20260422T205353
CREATED:20210831T224727Z
LAST-MODIFIED:20210831T224727Z
UID:10001212-1631033100-1631038500@ynschoirs.org
SUMMARY:Ragazzi Rehearsal
DESCRIPTION:Ragazzi Rehearsal\n4:45pm-6:15pm Community Concert Center
URL:https://ynschoirs.org/calendar/ragazzi-rehearsal/2021-09-07/
LOCATION:Community Concert Center\, 55 Concert Lane\, Naperville\, IL\, 60540
CATEGORIES:Parents,Ragazzi
END:VEVENT
BEGIN:VEVENT
DTSTART;TZID=America/Chicago:20210907T163000
DTEND;TZID=America/Chicago:20210907T174500
DTSTAMP:20260422T205353
CREATED:20210831T223447Z
LAST-MODIFIED:20210831T223447Z
UID:10001446-1631032200-1631036700@ynschoirs.org
SUMMARY:Brio Rehearsal
DESCRIPTION:Brio Rehearsal\n4:30pm-5:45pm Faith Lutheran Church
URL:https://ynschoirs.org/calendar/brio-rehearsal/2021-09-07/
LOCATION:Faith Lutheran Church\, 3000 Liberty Street\, Aurora\, IL\, 60502
CATEGORIES:Brio,Parents
END:VEVENT
BEGIN:VEVENT
DTSTART;VALUE=DATE:20210906
DTEND;VALUE=DATE:20210907
DTSTAMP:20260422T205353
CREATED:20210902T191442Z
LAST-MODIFIED:20210902T191442Z
UID:10001470-1630886400-1630972799@ynschoirs.org
SUMMARY:Dolce\, BC\, CV - No Rehearsal
DESCRIPTION:Dolce\, Bella Cantare\, & Canto Vivo – No Rehearsal\nLabor Day
URL:https://ynschoirs.org/calendar/dolce-bc-cv-no-rehearsal/
LOCATION:IL
CATEGORIES:Bella Cantare,Canto Vivo,Dolce,Parents
END:VEVENT
BEGIN:VEVENT
DTSTART;TZID=America/Chicago:20210902T164500
DTEND;TZID=America/Chicago:20210902T180000
DTSTAMP:20260422T205353
CREATED:20210831T214431Z
LAST-MODIFIED:20210831T214431Z
UID:10001413-1630601100-1630605600@ynschoirs.org
SUMMARY:Aria Rehearsal
DESCRIPTION:Aria Rehearsal\n4:45pm-6:00pm Community Concert Center
URL:https://ynschoirs.org/calendar/aria-rehearsal/2021-09-02/
LOCATION:Community Concert Center\, 55 Concert Lane\, Naperville\, IL\, 60540
CATEGORIES:Aria,Parents
END:VEVENT
BEGIN:VEVENT
DTSTART;TZID=America/Chicago:20210902T163000
DTEND;TZID=America/Chicago:20210902T180000
DTSTAMP:20260422T205353
CREATED:20210831T212123Z
LAST-MODIFIED:20210831T212123Z
UID:10001370-1630600200-1630605600@ynschoirs.org
SUMMARY:Brillante Rehearsal
DESCRIPTION:Brillante Rehearsal\n4:30pm-6:00pm Faith Lutheran Church \n 
URL:https://ynschoirs.org/calendar/brillante-rehearsal/2021-09-02/
LOCATION:Faith Lutheran Church\, 3000 Liberty Street\, Aurora\, IL\, 60502
CATEGORIES:Brillante,Parents
END:VEVENT
BEGIN:VEVENT
DTSTART;TZID=America/Chicago:20210901T164500
DTEND;TZID=America/Chicago:20210901T174500
DTSTAMP:20260422T205353
CREATED:20210831T215821Z
LAST-MODIFIED:20210831T215821Z
UID:10001429-1630514700-1630518300@ynschoirs.org
SUMMARY:Primo Rehearsal
DESCRIPTION:Primo Rehearsal\n4:45pm-5:45pm Community Concert Center
URL:https://ynschoirs.org/calendar/primo-rehearsal/2021-09-01/
LOCATION:Community Concert Center\, 55 Concert Lane\, Naperville\, IL\, 60540
CATEGORIES:Parents,Primo
END:VEVENT
BEGIN:VEVENT
DTSTART;TZID=America/Chicago:20210831T164500
DTEND;TZID=America/Chicago:20210831T181500
DTSTAMP:20260422T205353
CREATED:20210831T224727Z
LAST-MODIFIED:20210831T224727Z
UID:10001211-1630428300-1630433700@ynschoirs.org
SUMMARY:Ragazzi Rehearsal
DESCRIPTION:Ragazzi Rehearsal\n4:45pm-6:15pm Community Concert Center
URL:https://ynschoirs.org/calendar/ragazzi-rehearsal/2021-08-31/
LOCATION:Community Concert Center\, 55 Concert Lane\, Naperville\, IL\, 60540
CATEGORIES:Parents,Ragazzi
END:VEVENT
BEGIN:VEVENT
DTSTART;TZID=America/Chicago:20210831T163000
DTEND;TZID=America/Chicago:20210831T174500
DTSTAMP:20260422T205353
CREATED:20210831T223447Z
LAST-MODIFIED:20210831T223447Z
UID:10001445-1630427400-1630431900@ynschoirs.org
SUMMARY:Brio Rehearsal
DESCRIPTION:Brio Rehearsal\n4:30pm-5:45pm Faith Lutheran Church
URL:https://ynschoirs.org/calendar/brio-rehearsal/2021-08-31/
LOCATION:Faith Lutheran Church\, 3000 Liberty Street\, Aurora\, IL\, 60502
CATEGORIES:Brio,Parents
END:VEVENT
BEGIN:VEVENT
DTSTART;TZID=America/Chicago:20210506T163000
DTEND;TZID=America/Chicago:20210506T180000
DTSTAMP:20260422T205353
CREATED:20210323T182035Z
LAST-MODIFIED:20210323T182035Z
UID:10001316-1620318600-1620324000@ynschoirs.org
SUMMARY:Brillante - Virtual Rehearsal
DESCRIPTION:Brillante – Virtual Rehearsal\nZoom Evaluations
URL:https://ynschoirs.org/calendar/brillante-virtual-rehearsal-6/
LOCATION:Zoom
CATEGORIES:Brillante,Parents
END:VEVENT
BEGIN:VEVENT
DTSTART;TZID=America/Chicago:20210506T163000
DTEND;TZID=America/Chicago:20210506T174500
DTSTAMP:20260422T205353
CREATED:20210323T173332Z
LAST-MODIFIED:20210323T173332Z
UID:10001296-1620318600-1620323100@ynschoirs.org
SUMMARY:Aria - Virtual Rehearsal
DESCRIPTION:Aria – Virtual Rehearsal\nZoom Evaluations
URL:https://ynschoirs.org/calendar/aria-virtual-rehearsal-5/
LOCATION:Zoom
CATEGORIES:Aria,Parents
END:VEVENT
BEGIN:VEVENT
DTSTART;TZID=America/Chicago:20210505T164500
DTEND;TZID=America/Chicago:20210505T174500
DTSTAMP:20260422T205353
CREATED:20210323T171712Z
LAST-MODIFIED:20210323T171712Z
UID:10001288-1620233100-1620236700@ynschoirs.org
SUMMARY:Primo - Virtual Rehearsal
DESCRIPTION:Primo – Virtual Rehearsal\nZoom Evaluations
URL:https://ynschoirs.org/calendar/primo-virtual-rehearsal-4/
LOCATION:Zoom
CATEGORIES:Parents,Primo
END:VEVENT
BEGIN:VEVENT
DTSTART;TZID=America/Chicago:20210504T183000
DTEND;TZID=America/Chicago:20210504T200000
DTSTAMP:20260422T205353
CREATED:20210323T184137Z
LAST-MODIFIED:20210323T184137Z
UID:10001325-1620153000-1620158400@ynschoirs.org
SUMMARY:Cantabile - Virtual Rehearsal
DESCRIPTION:Cantabile – Virtual Rehearsal\nZoom Evaluations
URL:https://ynschoirs.org/calendar/cantabile-virtual-rehearsal-8/
LOCATION:Zoom
CATEGORIES:Cantabile,Parents
END:VEVENT
BEGIN:VEVENT
DTSTART;TZID=America/Chicago:20210504T183000
DTEND;TZID=America/Chicago:20210504T200000
DTSTAMP:20260422T205353
CREATED:20210323T180216Z
LAST-MODIFIED:20210323T180216Z
UID:10001302-1620153000-1620158400@ynschoirs.org
SUMMARY:CV - Virtual Rehearsal
DESCRIPTION:Canto Vivo – Virtual Rehearsal\nZoom Evaluations
URL:https://ynschoirs.org/calendar/cv-virtual-rehearsal-5/
LOCATION:Zoom
CATEGORIES:Canto Vivo,Parents
END:VEVENT
BEGIN:VEVENT
DTSTART;TZID=America/Chicago:20210504T164500
DTEND;TZID=America/Chicago:20210504T180000
DTSTAMP:20260422T205353
CREATED:20210323T180446Z
LAST-MODIFIED:20210323T180446Z
UID:10001303-1620146700-1620151200@ynschoirs.org
SUMMARY:Ragazzi - Virtual Rehearsal
DESCRIPTION:Ragazzi – Virtual Rehearsal\nZoom Evaluations
URL:https://ynschoirs.org/calendar/ragazzi-virtual-rehearsal-8/
LOCATION:Zoom
CATEGORIES:Parents,Ragazzi
END:VEVENT
BEGIN:VEVENT
DTSTART;TZID=America/Chicago:20210504T163000
DTEND;TZID=America/Chicago:20210504T174500
DTSTAMP:20260422T205353
CREATED:20210323T175051Z
LAST-MODIFIED:20210323T175051Z
UID:10001301-1620145800-1620150300@ynschoirs.org
SUMMARY:Brio - Virtual Rehearsal
DESCRIPTION:Brio – Virtual Rehearsal\nZoom Evaluations
URL:https://ynschoirs.org/calendar/brio-virtual-rehearsal-5/
LOCATION:Zoom
CATEGORIES:Brio,Parents
END:VEVENT
BEGIN:VEVENT
DTSTART;TZID=America/Chicago:20210504T080000
DTEND;TZID=America/Chicago:20210504T170000
DTSTAMP:20260422T205353
CREATED:20210323T185451Z
LAST-MODIFIED:20210323T185451Z
UID:10001354-1620115200-1620147600@ynschoirs.org
SUMMARY:BV - Virtual Rehearsal
DESCRIPTION:Bella Voce – Virtual Rehearsal\nZoom Evaluations
URL:https://ynschoirs.org/calendar/bv-virtual-rehearsal-7/
LOCATION:Zoom
CATEGORIES:Bella Voce,Parents
END:VEVENT
BEGIN:VEVENT
DTSTART;TZID=America/Chicago:20210503T181500
DTEND;TZID=America/Chicago:20210503T191500
DTSTAMP:20260422T205353
CREATED:20210323T184837Z
LAST-MODIFIED:20210323T184837Z
UID:10001332-1620065700-1620069300@ynschoirs.org
SUMMARY:BC - Virtual Rehearsal
DESCRIPTION:BC- Virtual Rehearsal\nZoom
URL:https://ynschoirs.org/calendar/bc-virtual-rehearsal-4/
LOCATION:Zoom
CATEGORIES:Bella Cantare,Parents
END:VEVENT
BEGIN:VEVENT
DTSTART;TZID=America/Chicago:20210503T164500
DTEND;TZID=America/Chicago:20210503T174500
DTSTAMP:20260422T205353
CREATED:20210323T182650Z
LAST-MODIFIED:20210323T182650Z
UID:10001320-1620060300-1620063900@ynschoirs.org
SUMMARY:Dolce - In-Person Rehearsal
DESCRIPTION:Dolce – In-Person Rehearsal\nAllied First Bank
URL:https://ynschoirs.org/calendar/dolce-in-person-rehearsal-3/2021-05-03/
LOCATION:ServBank\, 3201 Orchard Road\, Oswego\, IL\, 60543
CATEGORIES:Dolce,Parents
END:VEVENT
BEGIN:VEVENT
DTSTART;TZID=America/Chicago:20210429T170000
DTEND;TZID=America/Chicago:20210429T183000
DTSTAMP:20260422T205353
CREATED:20210323T181852Z
LAST-MODIFIED:20210323T181852Z
UID:10001314-1619715600-1619721000@ynschoirs.org
SUMMARY:Brillante - In-Person Rehearsal
DESCRIPTION:Brillante – In-Person Rehearsal\nFaith Lutheran Church \nGroup One: 5:00-6:00pm  Group Two: 5:30-6:30pm \nCombined Schedule:  5:00-5:30 Group One; 5:30-6:00 Combined; 6:00-6:30 Group Two
URL:https://ynschoirs.org/calendar/brillante-in-person-rehearsal-4/2021-04-29/
LOCATION:Faith Lutheran Church\, 3000 Liberty Street\, Aurora\, IL\, 60502
CATEGORIES:Brillante,Parents
END:VEVENT
BEGIN:VEVENT
DTSTART;TZID=America/Chicago:20210429T163000
DTEND;TZID=America/Chicago:20210429T171500
DTSTAMP:20260422T205353
CREATED:20210323T172509Z
LAST-MODIFIED:20210323T172509Z
UID:10001293-1619713800-1619716500@ynschoirs.org
SUMMARY:Aria - In-Person Rehearsal
DESCRIPTION:Aria – In-Person Rehearsal\nCommunity Concert Center
URL:https://ynschoirs.org/calendar/aria-in-person-rehearsal-3/
LOCATION:Community Concert Center\, 55 Concert Lane\, Naperville\, IL\, 60540
CATEGORIES:Aria,Parents
END:VEVENT
BEGIN:VEVENT
DTSTART;TZID=America/Chicago:20210428T164500
DTEND;TZID=America/Chicago:20210428T173000
DTSTAMP:20260422T205353
CREATED:20210323T172106Z
LAST-MODIFIED:20210323T172106Z
UID:10001291-1619628300-1619631000@ynschoirs.org
SUMMARY:Primo - In-Person Rehearsal
DESCRIPTION:Primo – In-Person Rehearsal\nCommunity Concert Center
URL:https://ynschoirs.org/calendar/primo-in-person-rehearsal/2021-04-28/
LOCATION:Community Concert Center\, 55 Concert Lane\, Naperville\, IL\, 60540
CATEGORIES:Parents,Primo
END:VEVENT
BEGIN:VEVENT
DTSTART;TZID=America/Chicago:20210427T183000
DTEND;TZID=America/Chicago:20210427T194500
DTSTAMP:20260422T205353
CREATED:20210323T181306Z
LAST-MODIFIED:20210323T181306Z
UID:10001311-1619548200-1619552700@ynschoirs.org
SUMMARY:CV - In-Person Rehearsal
DESCRIPTION:Canto Vivo – In-Person Rehearsal\nFaith Lutheran Church
URL:https://ynschoirs.org/calendar/cv-in-person-rehearsal/2021-04-27/
LOCATION:Faith Lutheran Church\, 3000 Liberty Street\, Aurora\, IL\, 60502
CATEGORIES:Canto Vivo,Parents
END:VEVENT
BEGIN:VEVENT
DTSTART;TZID=America/Chicago:20210427T181500
DTEND;TZID=America/Chicago:20210427T201500
DTSTAMP:20260422T205353
CREATED:20210323T185206Z
LAST-MODIFIED:20210323T185206Z
UID:10001336-1619547300-1619554500@ynschoirs.org
SUMMARY:BV - In-Person Rehearsal
DESCRIPTION:Bella Voce – In-Person Rehearsal\nCalvary Church \nGroup One: 6:15-7:30pm  Group Two: 7:00-8:15pm \nCombined Rehearsal: Group One 6:15-7:00; Combined 7:00-7:30pm; Group Two 7:30-8:15pm
URL:https://ynschoirs.org/calendar/bv-in-person-rehearsal-4/
LOCATION:Calvary Church\, 9S200 Illinois Route 59\, Naperville\, IL\, 60564
CATEGORIES:Bella Voce,Parents
END:VEVENT
BEGIN:VEVENT
DTSTART;TZID=America/Chicago:20210427T173000
DTEND;TZID=America/Chicago:20210427T193000
DTSTAMP:20260422T205353
CREATED:20210323T184046Z
LAST-MODIFIED:20210323T184046Z
UID:10001324-1619544600-1619551800@ynschoirs.org
SUMMARY:Cantabile - In-Person Rehearsal
DESCRIPTION:Cantabile – In-Person Rehearsal\nRiverwalk Grand Pavilion Group One: 5:30-6:45pm  Group Two: 6:15-7:30pm \nCombined Rehearsal: Group One 5:30-6:15; Combined 6:15-6:45pm; Group Two 6:45-7:30pm
URL:https://ynschoirs.org/calendar/cantabile-in-person-rehearsal-7/
LOCATION:Riverwalk Grand Pavilion\, 912 Honaray Sindt Memorial Court\, Naperville\, IL
CATEGORIES:Cantabile,Parents
END:VEVENT
BEGIN:VEVENT
DTSTART;TZID=America/Chicago:20210427T164500
DTEND;TZID=America/Chicago:20210427T180000
DTSTAMP:20260422T205353
CREATED:20210323T180655Z
LAST-MODIFIED:20210323T180705Z
UID:10001307-1619541900-1619546400@ynschoirs.org
SUMMARY:Ragazzi - In-Person Rehearsal
DESCRIPTION:Ragazzi – In-Person Rehearsal\nFaith Lutheran Church
URL:https://ynschoirs.org/calendar/3865/2021-04-27/
LOCATION:Faith Lutheran Church\, 3000 Liberty Street\, Aurora\, IL\, 60502
CATEGORIES:Parents,Ragazzi
END:VEVENT
BEGIN:VEVENT
DTSTART;TZID=America/Chicago:20210427T163000
DTEND;TZID=America/Chicago:20210427T174500
DTSTAMP:20260422T205353
CREATED:20210323T174928Z
LAST-MODIFIED:20210323T174928Z
UID:10001300-1619541000-1619545500@ynschoirs.org
SUMMARY:Brio - Virtual Rehearsal
DESCRIPTION:Brio – Virtual Rehearsal\nZoom
URL:https://ynschoirs.org/calendar/brio-virtual-rehearsal-4/
LOCATION:Zoom
CATEGORIES:Brio,Parents
END:VEVENT
BEGIN:VEVENT
DTSTART;TZID=America/Chicago:20210426T181500
DTEND;TZID=America/Chicago:20210426T201500
DTSTAMP:20260422T205353
CREATED:20210323T184741Z
LAST-MODIFIED:20210323T184741Z
UID:10001329-1619460900-1619468100@ynschoirs.org
SUMMARY:BC- In-Person Rehearsal
DESCRIPTION:Bella Cantare – In-Person Rehearsal\nCalvary Church \nGroup One: 6:15-7:30pm  Group Two: 7:00-8:15pm \nCombined Rehearsal: Group One 6:15-7:00; Combined 7:00-7:30pm; Group Two 7:30-8:15pm
URL:https://ynschoirs.org/calendar/bc-in-person-rehearsal-2/2021-04-26/
LOCATION:Calvary Church\, 9S200 Illinois Route 59\, Naperville\, IL\, 60564
CATEGORIES:Bella Cantare,Parents
END:VEVENT
BEGIN:VEVENT
DTSTART;TZID=America/Chicago:20210426T164500
DTEND;TZID=America/Chicago:20210426T174500
DTSTAMP:20260422T205353
CREATED:20210323T182650Z
LAST-MODIFIED:20210323T182650Z
UID:10001319-1619455500-1619459100@ynschoirs.org
SUMMARY:Dolce - In-Person Rehearsal
DESCRIPTION:Dolce – In-Person Rehearsal\nAllied First Bank
URL:https://ynschoirs.org/calendar/dolce-in-person-rehearsal-3/2021-04-26/
LOCATION:ServBank\, 3201 Orchard Road\, Oswego\, IL\, 60543
CATEGORIES:Dolce,Parents
END:VEVENT
END:VCALENDAR