BEGIN:VCALENDAR
VERSION:2.0
PRODID:-//Young Naperville Singers - ECPv6.8.0//NONSGML v1.0//EN
CALSCALE:GREGORIAN
METHOD:PUBLISH
X-ORIGINAL-URL:https://ynschoirs.org
X-WR-CALDESC:Events for Young Naperville Singers
REFRESH-INTERVAL;VALUE=DURATION:PT1H
X-Robots-Tag:noindex
X-PUBLISHED-TTL:PT1H
BEGIN:VTIMEZONE
TZID:America/Chicago
BEGIN:DAYLIGHT
TZOFFSETFROM:-0600
TZOFFSETTO:-0500
TZNAME:CDT
DTSTART:20230312T080000
END:DAYLIGHT
BEGIN:STANDARD
TZOFFSETFROM:-0500
TZOFFSETTO:-0600
TZNAME:CST
DTSTART:20231105T070000
END:STANDARD
END:VTIMEZONE
BEGIN:VEVENT
DTSTART;TZID=America/Chicago:20230605T181500
DTEND;TZID=America/Chicago:20230605T201500
DTSTAMP:20260422T193234
CREATED:20230404T191525Z
LAST-MODIFIED:20230404T192550Z
UID:10002001-1685988900-1685996100@ynschoirs.org
SUMMARY:BC Tour Rehearsal
DESCRIPTION:Bella Cantare Tour Rehearsal
URL:https://ynschoirs.org/calendar/tour-rehearsal/2023-06-05/
LOCATION:Our Saviour’s Lutheran Church\, 815 S. Washington Street\, Naperville\, IL\, 60540
CATEGORIES:Bella Cantare,Parents
END:VEVENT
BEGIN:VEVENT
DTSTART;TZID=America/Chicago:20230605T181500
DTEND;TZID=America/Chicago:20230605T201500
DTSTAMP:20260422T193234
CREATED:20230404T191947Z
LAST-MODIFIED:20230404T192408Z
UID:10002007-1685988900-1685996100@ynschoirs.org
SUMMARY:BV Tour Rehearsal
DESCRIPTION:Bella Voce Tour Rehearsal
URL:https://ynschoirs.org/calendar/tour-rehearsal-4/2023-06-05/
LOCATION:Our Saviour’s Lutheran Church\, 815 S. Washington Street\, Naperville\, IL\, 60540
CATEGORIES:Bella Voce,Parents
END:VEVENT
BEGIN:VEVENT
DTSTART;TZID=America/Chicago:20230605T181500
DTEND;TZID=America/Chicago:20230605T201500
DTSTAMP:20260422T193234
CREATED:20230404T192201Z
LAST-MODIFIED:20230404T192507Z
UID:10002010-1685988900-1685996100@ynschoirs.org
SUMMARY:CV Tour Rehearsal
DESCRIPTION:Canto Vivo Tour Rehearsal
URL:https://ynschoirs.org/calendar/tour-rehearsal-5/2023-06-05/
LOCATION:Our Saviour’s Lutheran Church\, 815 S. Washington Street\, Naperville\, IL\, 60540
CATEGORIES:Canto Vivo,Parents
END:VEVENT
BEGIN:VEVENT
DTSTART;TZID=America/Chicago:20230605T200000
DTEND;TZID=America/Chicago:20230605T200000
DTSTAMP:20260422T193234
CREATED:20230404T192700Z
LAST-MODIFIED:20230404T192700Z
UID:10002012-1685995200-1685995200@ynschoirs.org
SUMMARY:Summer Tour Parent Meeting
DESCRIPTION:All parents of singers should attend this meeting at 8pm at Our Saviour’s Lutheran Church in the Sanctuary.
URL:https://ynschoirs.org/calendar/summer-tour-parent-meeting/
LOCATION:Our Saviour’s Lutheran Church\, 815 S. Washington Street\, Naperville\, IL\, 60540
CATEGORIES:Bella Cantare,Bella Voce,Canto Vivo,Parents
END:VEVENT
BEGIN:VEVENT
DTSTART;TZID=America/Chicago:20230612T181500
DTEND;TZID=America/Chicago:20230612T201500
DTSTAMP:20260422T193234
CREATED:20230404T191525Z
LAST-MODIFIED:20230404T192550Z
UID:10002002-1686593700-1686600900@ynschoirs.org
SUMMARY:BC Tour Rehearsal
DESCRIPTION:Bella Cantare Tour Rehearsal
URL:https://ynschoirs.org/calendar/tour-rehearsal/2023-06-12/
LOCATION:Our Saviour’s Lutheran Church\, 815 S. Washington Street\, Naperville\, IL\, 60540
CATEGORIES:Bella Cantare,Parents
END:VEVENT
BEGIN:VEVENT
DTSTART;TZID=America/Chicago:20230612T181500
DTEND;TZID=America/Chicago:20230612T201500
DTSTAMP:20260422T193234
CREATED:20230404T191947Z
LAST-MODIFIED:20230404T192408Z
UID:10002008-1686593700-1686600900@ynschoirs.org
SUMMARY:BV Tour Rehearsal
DESCRIPTION:Bella Voce Tour Rehearsal
URL:https://ynschoirs.org/calendar/tour-rehearsal-4/2023-06-12/
LOCATION:Our Saviour’s Lutheran Church\, 815 S. Washington Street\, Naperville\, IL\, 60540
CATEGORIES:Bella Voce,Parents
END:VEVENT
BEGIN:VEVENT
DTSTART;TZID=America/Chicago:20230612T181500
DTEND;TZID=America/Chicago:20230612T201500
DTSTAMP:20260422T193234
CREATED:20230404T192201Z
LAST-MODIFIED:20230404T192507Z
UID:10002011-1686593700-1686600900@ynschoirs.org
SUMMARY:CV Tour Rehearsal
DESCRIPTION:Canto Vivo Tour Rehearsal
URL:https://ynschoirs.org/calendar/tour-rehearsal-5/2023-06-12/
LOCATION:Our Saviour’s Lutheran Church\, 815 S. Washington Street\, Naperville\, IL\, 60540
CATEGORIES:Canto Vivo,Parents
END:VEVENT
END:VCALENDAR