BEGIN:VCALENDAR
VERSION:2.0
PRODID:-//Young Naperville Singers - ECPv6.8.0//NONSGML v1.0//EN
CALSCALE:GREGORIAN
METHOD:PUBLISH
X-ORIGINAL-URL:https://ynschoirs.org
X-WR-CALDESC:Events for Young Naperville Singers
REFRESH-INTERVAL;VALUE=DURATION:PT1H
X-Robots-Tag:noindex
X-PUBLISHED-TTL:PT1H
BEGIN:VTIMEZONE
TZID:America/Chicago
BEGIN:DAYLIGHT
TZOFFSETFROM:-0600
TZOFFSETTO:-0500
TZNAME:CDT
DTSTART:20200308T080000
END:DAYLIGHT
BEGIN:STANDARD
TZOFFSETFROM:-0500
TZOFFSETTO:-0600
TZNAME:CST
DTSTART:20201101T070000
END:STANDARD
END:VTIMEZONE
BEGIN:VEVENT
DTSTART;TZID=America/Chicago:20201105T163000
DTEND;TZID=America/Chicago:20201105T182000
DTSTAMP:20260421T200234
CREATED:20201102T173919Z
LAST-MODIFIED:20201102T173919Z
UID:10001155-1604593800-1604600400@ynschoirs.org
SUMMARY:Brillante - Live Rehearsal
DESCRIPTION:Brillante – Live Rehearsal\n95th Street Community Plaza \nGroup 1- 4:30-5:15pm    Group 2 – 5:35-6:20pm
URL:https://ynschoirs.org/calendar/brillante-live-rehearsal-5/
LOCATION:95th Street Community Plaza\, 3109 Cedar Glade Drive\, Naperville\, IL\, 60564
CATEGORIES:Brillante,Parents
END:VEVENT
END:VCALENDAR