BEGIN:VCALENDAR
VERSION:2.0
PRODID:-//Young Naperville Singers - ECPv6.8.0//NONSGML v1.0//EN
CALSCALE:GREGORIAN
METHOD:PUBLISH
X-ORIGINAL-URL:https://ynschoirs.org
X-WR-CALDESC:Events for Young Naperville Singers
REFRESH-INTERVAL;VALUE=DURATION:PT1H
X-Robots-Tag:noindex
X-PUBLISHED-TTL:PT1H
BEGIN:VTIMEZONE
TZID:America/Chicago
BEGIN:DAYLIGHT
TZOFFSETFROM:-0600
TZOFFSETTO:-0500
TZNAME:CDT
DTSTART:20230312T080000
END:DAYLIGHT
BEGIN:STANDARD
TZOFFSETFROM:-0500
TZOFFSETTO:-0600
TZNAME:CST
DTSTART:20231105T070000
END:STANDARD
BEGIN:DAYLIGHT
TZOFFSETFROM:-0600
TZOFFSETTO:-0500
TZNAME:CDT
DTSTART:20240310T080000
END:DAYLIGHT
BEGIN:STANDARD
TZOFFSETFROM:-0500
TZOFFSETTO:-0600
TZNAME:CST
DTSTART:20241103T070000
END:STANDARD
BEGIN:DAYLIGHT
TZOFFSETFROM:-0600
TZOFFSETTO:-0500
TZNAME:CDT
DTSTART:20250309T080000
END:DAYLIGHT
BEGIN:STANDARD
TZOFFSETFROM:-0500
TZOFFSETTO:-0600
TZNAME:CST
DTSTART:20251102T070000
END:STANDARD
END:VTIMEZONE
BEGIN:VEVENT
DTSTART;TZID=America/Chicago:20250127T164500
DTEND;TZID=America/Chicago:20250127T174500
DTSTAMP:20260421T044555
CREATED:20250127T205327Z
LAST-MODIFIED:20250127T205349Z
UID:10002944-1737996300-1737999900@ynschoirs.org
SUMMARY:Dolce Rehearsal
DESCRIPTION:
URL:https://ynschoirs.org/calendar/dolce-rehearsal-9/2025-01-27/
LOCATION:ServBank\, 3201 Orchard Road\, Oswego\, IL\, 60543
CATEGORIES:Dolce,Parents
END:VEVENT
BEGIN:VEVENT
DTSTART;TZID=America/Chicago:20250113T164500
DTEND;TZID=America/Chicago:20250113T174500
DTSTAMP:20260421T044555
CREATED:20250127T205327Z
LAST-MODIFIED:20250127T205349Z
UID:10002943-1736786700-1736790300@ynschoirs.org
SUMMARY:Dolce Rehearsal
DESCRIPTION:
URL:https://ynschoirs.org/calendar/dolce-rehearsal-9/2025-01-13/
LOCATION:ServBank\, 3201 Orchard Road\, Oswego\, IL\, 60543
CATEGORIES:Dolce,Parents
END:VEVENT
BEGIN:VEVENT
DTSTART;TZID=America/Chicago:20240429T164500
DTEND;TZID=America/Chicago:20240429T174500
DTSTAMP:20260421T044555
CREATED:20240105T174502Z
LAST-MODIFIED:20240105T180807Z
UID:10002307-1714409100-1714412700@ynschoirs.org
SUMMARY:Dolce Rehearsal
DESCRIPTION:
URL:https://ynschoirs.org/calendar/bella-cantare-rehearsal-7-2-2/2024-04-29/
LOCATION:ServBank\, 3201 Orchard Road\, Oswego\, IL\, 60543
CATEGORIES:Dolce,Parents
END:VEVENT
BEGIN:VEVENT
DTSTART;TZID=America/Chicago:20240422T164500
DTEND;TZID=America/Chicago:20240422T174500
DTSTAMP:20260421T044555
CREATED:20240105T174502Z
LAST-MODIFIED:20240105T180807Z
UID:10002306-1713804300-1713807900@ynschoirs.org
SUMMARY:Dolce Rehearsal
DESCRIPTION:
URL:https://ynschoirs.org/calendar/bella-cantare-rehearsal-7-2-2/2024-04-22/
LOCATION:ServBank\, 3201 Orchard Road\, Oswego\, IL\, 60543
CATEGORIES:Dolce,Parents
END:VEVENT
BEGIN:VEVENT
DTSTART;TZID=America/Chicago:20240415T164500
DTEND;TZID=America/Chicago:20240415T174500
DTSTAMP:20260421T044555
CREATED:20240105T174502Z
LAST-MODIFIED:20240105T180807Z
UID:10002305-1713199500-1713203100@ynschoirs.org
SUMMARY:Dolce Rehearsal
DESCRIPTION:
URL:https://ynschoirs.org/calendar/bella-cantare-rehearsal-7-2-2/2024-04-15/
LOCATION:ServBank\, 3201 Orchard Road\, Oswego\, IL\, 60543
CATEGORIES:Dolce,Parents
END:VEVENT
BEGIN:VEVENT
DTSTART;TZID=America/Chicago:20240408T164500
DTEND;TZID=America/Chicago:20240408T174500
DTSTAMP:20260421T044555
CREATED:20240105T174502Z
LAST-MODIFIED:20240105T180807Z
UID:10002304-1712594700-1712598300@ynschoirs.org
SUMMARY:Dolce Rehearsal
DESCRIPTION:
URL:https://ynschoirs.org/calendar/bella-cantare-rehearsal-7-2-2/2024-04-08/
LOCATION:ServBank\, 3201 Orchard Road\, Oswego\, IL\, 60543
CATEGORIES:Dolce,Parents
END:VEVENT
BEGIN:VEVENT
DTSTART;TZID=America/Chicago:20240401T164500
DTEND;TZID=America/Chicago:20240401T174500
DTSTAMP:20260421T044555
CREATED:20240105T174502Z
LAST-MODIFIED:20240105T180807Z
UID:10002303-1711989900-1711993500@ynschoirs.org
SUMMARY:Dolce Rehearsal
DESCRIPTION:
URL:https://ynschoirs.org/calendar/bella-cantare-rehearsal-7-2-2/2024-04-01/
LOCATION:ServBank\, 3201 Orchard Road\, Oswego\, IL\, 60543
CATEGORIES:Dolce,Parents
END:VEVENT
BEGIN:VEVENT
DTSTART;TZID=America/Chicago:20240318T164500
DTEND;TZID=America/Chicago:20240318T174500
DTSTAMP:20260421T044555
CREATED:20240105T174502Z
LAST-MODIFIED:20240105T180807Z
UID:10002302-1710780300-1710783900@ynschoirs.org
SUMMARY:Dolce Rehearsal
DESCRIPTION:
URL:https://ynschoirs.org/calendar/bella-cantare-rehearsal-7-2-2/2024-03-18/
LOCATION:ServBank\, 3201 Orchard Road\, Oswego\, IL\, 60543
CATEGORIES:Dolce,Parents
END:VEVENT
BEGIN:VEVENT
DTSTART;TZID=America/Chicago:20240311T164500
DTEND;TZID=America/Chicago:20240311T174500
DTSTAMP:20260421T044555
CREATED:20240105T174502Z
LAST-MODIFIED:20240105T180807Z
UID:10002301-1710175500-1710179100@ynschoirs.org
SUMMARY:Dolce Rehearsal
DESCRIPTION:
URL:https://ynschoirs.org/calendar/bella-cantare-rehearsal-7-2-2/2024-03-11/
LOCATION:ServBank\, 3201 Orchard Road\, Oswego\, IL\, 60543
CATEGORIES:Dolce,Parents
END:VEVENT
BEGIN:VEVENT
DTSTART;TZID=America/Chicago:20240304T164500
DTEND;TZID=America/Chicago:20240304T174500
DTSTAMP:20260421T044555
CREATED:20240105T174502Z
LAST-MODIFIED:20240105T180807Z
UID:10002300-1709570700-1709574300@ynschoirs.org
SUMMARY:Dolce Rehearsal
DESCRIPTION:
URL:https://ynschoirs.org/calendar/bella-cantare-rehearsal-7-2-2/2024-03-04/
LOCATION:ServBank\, 3201 Orchard Road\, Oswego\, IL\, 60543
CATEGORIES:Dolce,Parents
END:VEVENT
BEGIN:VEVENT
DTSTART;TZID=America/Chicago:20240226T164500
DTEND;TZID=America/Chicago:20240226T174500
DTSTAMP:20260421T044556
CREATED:20240105T174502Z
LAST-MODIFIED:20240105T180807Z
UID:10002299-1708965900-1708969500@ynschoirs.org
SUMMARY:Dolce Rehearsal
DESCRIPTION:
URL:https://ynschoirs.org/calendar/bella-cantare-rehearsal-7-2-2/2024-02-26/
LOCATION:ServBank\, 3201 Orchard Road\, Oswego\, IL\, 60543
CATEGORIES:Dolce,Parents
END:VEVENT
BEGIN:VEVENT
DTSTART;TZID=America/Chicago:20240212T164500
DTEND;TZID=America/Chicago:20240212T174500
DTSTAMP:20260421T044556
CREATED:20240105T174502Z
LAST-MODIFIED:20240105T180807Z
UID:10002298-1707756300-1707759900@ynschoirs.org
SUMMARY:Dolce Rehearsal
DESCRIPTION:
URL:https://ynschoirs.org/calendar/bella-cantare-rehearsal-7-2-2/2024-02-12/
LOCATION:ServBank\, 3201 Orchard Road\, Oswego\, IL\, 60543
CATEGORIES:Dolce,Parents
END:VEVENT
BEGIN:VEVENT
DTSTART;TZID=America/Chicago:20240205T164500
DTEND;TZID=America/Chicago:20240205T174500
DTSTAMP:20260421T044556
CREATED:20240105T174502Z
LAST-MODIFIED:20240105T180807Z
UID:10002297-1707151500-1707155100@ynschoirs.org
SUMMARY:Dolce Rehearsal
DESCRIPTION:
URL:https://ynschoirs.org/calendar/bella-cantare-rehearsal-7-2-2/2024-02-05/
LOCATION:ServBank\, 3201 Orchard Road\, Oswego\, IL\, 60543
CATEGORIES:Dolce,Parents
END:VEVENT
BEGIN:VEVENT
DTSTART;TZID=America/Chicago:20240129T164500
DTEND;TZID=America/Chicago:20240129T174500
DTSTAMP:20260421T044556
CREATED:20240105T174502Z
LAST-MODIFIED:20240105T180807Z
UID:10002296-1706546700-1706550300@ynschoirs.org
SUMMARY:Dolce Rehearsal
DESCRIPTION:
URL:https://ynschoirs.org/calendar/bella-cantare-rehearsal-7-2-2/2024-01-29/
LOCATION:ServBank\, 3201 Orchard Road\, Oswego\, IL\, 60543
CATEGORIES:Dolce,Parents
END:VEVENT
BEGIN:VEVENT
DTSTART;TZID=America/Chicago:20240122T164500
DTEND;TZID=America/Chicago:20240122T174500
DTSTAMP:20260421T044556
CREATED:20240105T174502Z
LAST-MODIFIED:20240105T180807Z
UID:10002295-1705941900-1705945500@ynschoirs.org
SUMMARY:Dolce Rehearsal
DESCRIPTION:
URL:https://ynschoirs.org/calendar/bella-cantare-rehearsal-7-2-2/2024-01-22/
LOCATION:ServBank\, 3201 Orchard Road\, Oswego\, IL\, 60543
CATEGORIES:Dolce,Parents
END:VEVENT
BEGIN:VEVENT
DTSTART;TZID=America/Chicago:20240108T164500
DTEND;TZID=America/Chicago:20240108T174500
DTSTAMP:20260421T044556
CREATED:20240105T174502Z
LAST-MODIFIED:20240105T180807Z
UID:10002294-1704732300-1704735900@ynschoirs.org
SUMMARY:Dolce Rehearsal
DESCRIPTION:
URL:https://ynschoirs.org/calendar/bella-cantare-rehearsal-7-2-2/2024-01-08/
LOCATION:ServBank\, 3201 Orchard Road\, Oswego\, IL\, 60543
CATEGORIES:Dolce,Parents
END:VEVENT
BEGIN:VEVENT
DTSTART;TZID=America/Chicago:20231218T164500
DTEND;TZID=America/Chicago:20231218T174500
DTSTAMP:20260421T044556
CREATED:20230918T152845Z
LAST-MODIFIED:20230918T152845Z
UID:10002064-1702917900-1702921500@ynschoirs.org
SUMMARY:Dolce Rehearsal
DESCRIPTION:
URL:https://ynschoirs.org/calendar/dolce-rehearsal-8/2023-12-18/
LOCATION:ServBank\, 3201 Orchard Road\, Oswego\, IL\, 60543
CATEGORIES:Dolce,Parents
END:VEVENT
BEGIN:VEVENT
DTSTART;TZID=America/Chicago:20231211T164500
DTEND;TZID=America/Chicago:20231211T174500
DTSTAMP:20260421T044556
CREATED:20230918T152845Z
LAST-MODIFIED:20230918T152845Z
UID:10002063-1702313100-1702316700@ynschoirs.org
SUMMARY:Dolce Rehearsal
DESCRIPTION:
URL:https://ynschoirs.org/calendar/dolce-rehearsal-8/2023-12-11/
LOCATION:ServBank\, 3201 Orchard Road\, Oswego\, IL\, 60543
CATEGORIES:Dolce,Parents
END:VEVENT
BEGIN:VEVENT
DTSTART;TZID=America/Chicago:20231204T164500
DTEND;TZID=America/Chicago:20231204T174500
DTSTAMP:20260421T044556
CREATED:20230918T152845Z
LAST-MODIFIED:20230918T152845Z
UID:10002062-1701708300-1701711900@ynschoirs.org
SUMMARY:Dolce Rehearsal
DESCRIPTION:
URL:https://ynschoirs.org/calendar/dolce-rehearsal-8/2023-12-04/
LOCATION:ServBank\, 3201 Orchard Road\, Oswego\, IL\, 60543
CATEGORIES:Dolce,Parents
END:VEVENT
BEGIN:VEVENT
DTSTART;TZID=America/Chicago:20231127T164500
DTEND;TZID=America/Chicago:20231127T180000
DTSTAMP:20260421T044556
CREATED:20230918T152737Z
LAST-MODIFIED:20230918T152737Z
UID:10002061-1701103500-1701108000@ynschoirs.org
SUMMARY:Dolce Rehearsal - Extended Time
DESCRIPTION:Rehearsal will go until 6pm tonight.
URL:https://ynschoirs.org/calendar/dolce-rehearsal-extended-time/2023-11-27/
LOCATION:ServBank\, 3201 Orchard Road\, Oswego\, IL\, 60543
CATEGORIES:Dolce,Parents
END:VEVENT
BEGIN:VEVENT
DTSTART;TZID=America/Chicago:20231120T164500
DTEND;TZID=America/Chicago:20231120T180000
DTSTAMP:20260421T044556
CREATED:20230918T152737Z
LAST-MODIFIED:20230918T152737Z
UID:10002060-1700498700-1700503200@ynschoirs.org
SUMMARY:Dolce Rehearsal - Extended Time
DESCRIPTION:Rehearsal will go until 6pm tonight.
URL:https://ynschoirs.org/calendar/dolce-rehearsal-extended-time/2023-11-20/
LOCATION:ServBank\, 3201 Orchard Road\, Oswego\, IL\, 60543
CATEGORIES:Dolce,Parents
END:VEVENT
BEGIN:VEVENT
DTSTART;TZID=America/Chicago:20231113T164500
DTEND;TZID=America/Chicago:20231113T180000
DTSTAMP:20260421T044556
CREATED:20230918T152737Z
LAST-MODIFIED:20230918T152737Z
UID:10002059-1699893900-1699898400@ynschoirs.org
SUMMARY:Dolce Rehearsal - Extended Time
DESCRIPTION:Rehearsal will go until 6pm tonight.
URL:https://ynschoirs.org/calendar/dolce-rehearsal-extended-time/2023-11-13/
LOCATION:ServBank\, 3201 Orchard Road\, Oswego\, IL\, 60543
CATEGORIES:Dolce,Parents
END:VEVENT
BEGIN:VEVENT
DTSTART;TZID=America/Chicago:20231106T164500
DTEND;TZID=America/Chicago:20231106T180000
DTSTAMP:20260421T044556
CREATED:20230918T152737Z
LAST-MODIFIED:20230918T152737Z
UID:10002058-1699289100-1699293600@ynschoirs.org
SUMMARY:Dolce Rehearsal - Extended Time
DESCRIPTION:Rehearsal will go until 6pm tonight.
URL:https://ynschoirs.org/calendar/dolce-rehearsal-extended-time/2023-11-06/
LOCATION:ServBank\, 3201 Orchard Road\, Oswego\, IL\, 60543
CATEGORIES:Dolce,Parents
END:VEVENT
BEGIN:VEVENT
DTSTART;TZID=America/Chicago:20231030T164500
DTEND;TZID=America/Chicago:20231030T174500
DTSTAMP:20260421T044556
CREATED:20230918T152529Z
LAST-MODIFIED:20230918T152529Z
UID:10002056-1698684300-1698687900@ynschoirs.org
SUMMARY:Dolce Rehearsal
DESCRIPTION:
URL:https://ynschoirs.org/calendar/dolce-rehearsal-7/2023-10-30/
LOCATION:ServBank\, 3201 Orchard Road\, Oswego\, IL\, 60543
CATEGORIES:Dolce,Parents
END:VEVENT
BEGIN:VEVENT
DTSTART;TZID=America/Chicago:20231023T164500
DTEND;TZID=America/Chicago:20231023T174500
DTSTAMP:20260421T044556
CREATED:20230918T152529Z
LAST-MODIFIED:20230918T152529Z
UID:10002055-1698079500-1698083100@ynschoirs.org
SUMMARY:Dolce Rehearsal
DESCRIPTION:
URL:https://ynschoirs.org/calendar/dolce-rehearsal-7/2023-10-23/
LOCATION:ServBank\, 3201 Orchard Road\, Oswego\, IL\, 60543
CATEGORIES:Dolce,Parents
END:VEVENT
BEGIN:VEVENT
DTSTART;TZID=America/Chicago:20231016T164500
DTEND;TZID=America/Chicago:20231016T174500
DTSTAMP:20260421T044556
CREATED:20230918T152529Z
LAST-MODIFIED:20230918T152529Z
UID:10002054-1697474700-1697478300@ynschoirs.org
SUMMARY:Dolce Rehearsal
DESCRIPTION:
URL:https://ynschoirs.org/calendar/dolce-rehearsal-7/2023-10-16/
LOCATION:ServBank\, 3201 Orchard Road\, Oswego\, IL\, 60543
CATEGORIES:Dolce,Parents
END:VEVENT
BEGIN:VEVENT
DTSTART;TZID=America/Chicago:20231002T164500
DTEND;TZID=America/Chicago:20231002T174500
DTSTAMP:20260421T044556
CREATED:20230918T152529Z
LAST-MODIFIED:20230918T152529Z
UID:10002053-1696265100-1696268700@ynschoirs.org
SUMMARY:Dolce Rehearsal
DESCRIPTION:
URL:https://ynschoirs.org/calendar/dolce-rehearsal-7/2023-10-02/
LOCATION:ServBank\, 3201 Orchard Road\, Oswego\, IL\, 60543
CATEGORIES:Dolce,Parents
END:VEVENT
BEGIN:VEVENT
DTSTART;TZID=America/Chicago:20230925T164500
DTEND;TZID=America/Chicago:20230925T174500
DTSTAMP:20260421T044556
CREATED:20230918T152529Z
LAST-MODIFIED:20230918T152529Z
UID:10002052-1695660300-1695663900@ynschoirs.org
SUMMARY:Dolce Rehearsal
DESCRIPTION:
URL:https://ynschoirs.org/calendar/dolce-rehearsal-7/2023-09-25/
LOCATION:ServBank\, 3201 Orchard Road\, Oswego\, IL\, 60543
CATEGORIES:Dolce,Parents
END:VEVENT
BEGIN:VEVENT
DTSTART;TZID=America/Chicago:20230918T164500
DTEND;TZID=America/Chicago:20230918T174500
DTSTAMP:20260421T044556
CREATED:20230918T152529Z
LAST-MODIFIED:20230918T152529Z
UID:10002051-1695055500-1695059100@ynschoirs.org
SUMMARY:Dolce Rehearsal
DESCRIPTION:
URL:https://ynschoirs.org/calendar/dolce-rehearsal-7/2023-09-18/
LOCATION:ServBank\, 3201 Orchard Road\, Oswego\, IL\, 60543
CATEGORIES:Dolce,Parents
END:VEVENT
BEGIN:VEVENT
DTSTART;TZID=America/Chicago:20230911T164500
DTEND;TZID=America/Chicago:20230911T174500
DTSTAMP:20260421T044556
CREATED:20230918T152529Z
LAST-MODIFIED:20230918T152529Z
UID:10002050-1694450700-1694454300@ynschoirs.org
SUMMARY:Dolce Rehearsal
DESCRIPTION:
URL:https://ynschoirs.org/calendar/dolce-rehearsal-7/2023-09-11/
LOCATION:ServBank\, 3201 Orchard Road\, Oswego\, IL\, 60543
CATEGORIES:Dolce,Parents
END:VEVENT
END:VCALENDAR