BEGIN:VCALENDAR
VERSION:2.0
PRODID:-//Young Naperville Singers - ECPv6.8.0//NONSGML v1.0//EN
CALSCALE:GREGORIAN
METHOD:PUBLISH
X-WR-CALNAME:Young Naperville Singers
X-ORIGINAL-URL:https://ynschoirs.org
X-WR-CALDESC:Events for Young Naperville Singers
REFRESH-INTERVAL;VALUE=DURATION:PT1H
X-Robots-Tag:noindex
X-PUBLISHED-TTL:PT1H
BEGIN:VTIMEZONE
TZID:America/Chicago
BEGIN:DAYLIGHT
TZOFFSETFROM:-0600
TZOFFSETTO:-0500
TZNAME:CDT
DTSTART:20210314T080000
END:DAYLIGHT
BEGIN:STANDARD
TZOFFSETFROM:-0500
TZOFFSETTO:-0600
TZNAME:CST
DTSTART:20211107T070000
END:STANDARD
BEGIN:DAYLIGHT
TZOFFSETFROM:-0600
TZOFFSETTO:-0500
TZNAME:CDT
DTSTART:20220313T080000
END:DAYLIGHT
BEGIN:STANDARD
TZOFFSETFROM:-0500
TZOFFSETTO:-0600
TZNAME:CST
DTSTART:20221106T070000
END:STANDARD
END:VTIMEZONE
BEGIN:VEVENT
DTSTART;TZID=America/Chicago:20220418T164500
DTEND;TZID=America/Chicago:20220418T174500
DTSTAMP:20260421T104110
CREATED:20220112T174546Z
LAST-MODIFIED:20220112T174546Z
UID:10001590-1650300300-1650303900@ynschoirs.org
SUMMARY:Dolce Rehearsal
DESCRIPTION:Dolce Rehearsal\nAllied First Bank 4:45-5:45pm
URL:https://ynschoirs.org/calendar/dolce-rehearsal-4/2022-04-18/
LOCATION:ServBank\, 3201 Orchard Road\, Oswego\, IL\, 60543
CATEGORIES:Dolce,Parents
END:VEVENT
BEGIN:VEVENT
DTSTART;TZID=America/Chicago:20220411T164500
DTEND;TZID=America/Chicago:20220411T180000
DTSTAMP:20260421T104110
CREATED:20220112T174546Z
LAST-MODIFIED:20220321T165955Z
UID:10001596-1649695500-1649700000@ynschoirs.org
SUMMARY:Dolce Rehearsal
DESCRIPTION:Dolce Rehearsal – Share Day\nAllied First Bank 4:45-6:00pm
URL:https://ynschoirs.org/calendar/dolce-rehearsal-4-2022-04-11/
LOCATION:ServBank\, 3201 Orchard Road\, Oswego\, IL\, 60543
CATEGORIES:Dolce,Parents
END:VEVENT
BEGIN:VEVENT
DTSTART;TZID=America/Chicago:20220404T164500
DTEND;TZID=America/Chicago:20220404T174500
DTSTAMP:20260421T104110
CREATED:20220112T174546Z
LAST-MODIFIED:20220112T174546Z
UID:10001589-1649090700-1649094300@ynschoirs.org
SUMMARY:Dolce Rehearsal
DESCRIPTION:Dolce Rehearsal\nAllied First Bank 4:45-5:45pm
URL:https://ynschoirs.org/calendar/dolce-rehearsal-4/2022-04-04/
LOCATION:ServBank\, 3201 Orchard Road\, Oswego\, IL\, 60543
CATEGORIES:Dolce,Parents
END:VEVENT
BEGIN:VEVENT
DTSTART;TZID=America/Chicago:20220321T164500
DTEND;TZID=America/Chicago:20220321T174500
DTSTAMP:20260421T104110
CREATED:20220112T174546Z
LAST-MODIFIED:20220321T170114Z
UID:10001595-1647881100-1647884700@ynschoirs.org
SUMMARY:Dolce Rehearsal
DESCRIPTION:Dolce Rehearsal \nAllied First Bank 4:45-5:45pm
URL:https://ynschoirs.org/calendar/dolce-rehearsal-4-2022-03-21/
LOCATION:ServBank\, 3201 Orchard Road\, Oswego\, IL\, 60543
CATEGORIES:Dolce,Parents
END:VEVENT
BEGIN:VEVENT
DTSTART;TZID=America/Chicago:20220314T164500
DTEND;TZID=America/Chicago:20220314T174500
DTSTAMP:20260421T104110
CREATED:20220112T174546Z
LAST-MODIFIED:20220112T174546Z
UID:10001588-1647276300-1647279900@ynschoirs.org
SUMMARY:Dolce Rehearsal
DESCRIPTION:Dolce Rehearsal\nAllied First Bank 4:45-5:45pm
URL:https://ynschoirs.org/calendar/dolce-rehearsal-4/2022-03-14/
LOCATION:ServBank\, 3201 Orchard Road\, Oswego\, IL\, 60543
CATEGORIES:Dolce,Parents
END:VEVENT
BEGIN:VEVENT
DTSTART;TZID=America/Chicago:20220307T164500
DTEND;TZID=America/Chicago:20220307T174500
DTSTAMP:20260421T104110
CREATED:20220112T174546Z
LAST-MODIFIED:20220112T174546Z
UID:10001587-1646671500-1646675100@ynschoirs.org
SUMMARY:Dolce Rehearsal
DESCRIPTION:Dolce Rehearsal\nAllied First Bank 4:45-5:45pm
URL:https://ynschoirs.org/calendar/dolce-rehearsal-4/2022-03-07/
LOCATION:ServBank\, 3201 Orchard Road\, Oswego\, IL\, 60543
CATEGORIES:Dolce,Parents
END:VEVENT
BEGIN:VEVENT
DTSTART;TZID=America/Chicago:20220228T164500
DTEND;TZID=America/Chicago:20220228T180000
DTSTAMP:20260421T104110
CREATED:20220112T174546Z
LAST-MODIFIED:20220201T194417Z
UID:10001594-1646066700-1646071200@ynschoirs.org
SUMMARY:Dolce Rehearsal
DESCRIPTION:Dolce Rehearsal – Bring a Friend\nAllied First Bank 4:45-6:00pm
URL:https://ynschoirs.org/calendar/dolce-rehearsal-4-2022-02-28/
LOCATION:ServBank\, 3201 Orchard Road\, Oswego\, IL\, 60543
CATEGORIES:Dolce,Parents
END:VEVENT
BEGIN:VEVENT
DTSTART;VALUE=DATE:20220221
DTEND;VALUE=DATE:20220222
DTSTAMP:20260421T104110
CREATED:20220112T174546Z
LAST-MODIFIED:20220221T150210Z
UID:10001593-1645401600-1645487999@ynschoirs.org
SUMMARY:Dolce - No Rehearsal
DESCRIPTION:Dolce – No Rehearsal\n 
URL:https://ynschoirs.org/calendar/dolce-rehearsal-4-2022-02-21/
LOCATION:ServBank\, 3201 Orchard Road\, Oswego\, IL\, 60543
CATEGORIES:Dolce,Parents
END:VEVENT
BEGIN:VEVENT
DTSTART;TZID=America/Chicago:20220214T164500
DTEND;TZID=America/Chicago:20220214T181500
DTSTAMP:20260421T104110
CREATED:20220112T174546Z
LAST-MODIFIED:20220201T194546Z
UID:10001592-1644857100-1644862500@ynschoirs.org
SUMMARY:Dolce Rehearsal
DESCRIPTION:Dolce Rehearsal – Valentine Fun Night\nAllied First Bank 4:45-6:15pm
URL:https://ynschoirs.org/calendar/dolce-rehearsal-4-2022-02-14/
LOCATION:ServBank\, 3201 Orchard Road\, Oswego\, IL\, 60543
CATEGORIES:Dolce,Parents
END:VEVENT
BEGIN:VEVENT
DTSTART;TZID=America/Chicago:20220207T164500
DTEND;TZID=America/Chicago:20220207T174500
DTSTAMP:20260421T104110
CREATED:20220112T174546Z
LAST-MODIFIED:20220112T174546Z
UID:10001586-1644252300-1644255900@ynschoirs.org
SUMMARY:Dolce Rehearsal
DESCRIPTION:Dolce Rehearsal\nAllied First Bank 4:45-5:45pm
URL:https://ynschoirs.org/calendar/dolce-rehearsal-4/2022-02-07/
LOCATION:ServBank\, 3201 Orchard Road\, Oswego\, IL\, 60543
CATEGORIES:Dolce,Parents
END:VEVENT
BEGIN:VEVENT
DTSTART;TZID=America/Chicago:20220131T164500
DTEND;TZID=America/Chicago:20220131T174500
DTSTAMP:20260421T104110
CREATED:20220112T174546Z
LAST-MODIFIED:20220112T174546Z
UID:10001585-1643647500-1643651100@ynschoirs.org
SUMMARY:Dolce Rehearsal
DESCRIPTION:Dolce Rehearsal\nAllied First Bank 4:45-5:45pm
URL:https://ynschoirs.org/calendar/dolce-rehearsal-4/2022-01-31/
LOCATION:ServBank\, 3201 Orchard Road\, Oswego\, IL\, 60543
CATEGORIES:Dolce,Parents
END:VEVENT
BEGIN:VEVENT
DTSTART;TZID=America/Chicago:20220124T164500
DTEND;TZID=America/Chicago:20220124T174500
DTSTAMP:20260421T104110
CREATED:20220112T174546Z
LAST-MODIFIED:20220112T174546Z
UID:10001584-1643042700-1643046300@ynschoirs.org
SUMMARY:Dolce Rehearsal
DESCRIPTION:Dolce Rehearsal\nAllied First Bank 4:45-5:45pm
URL:https://ynschoirs.org/calendar/dolce-rehearsal-4/2022-01-24/
LOCATION:ServBank\, 3201 Orchard Road\, Oswego\, IL\, 60543
CATEGORIES:Dolce,Parents
END:VEVENT
BEGIN:VEVENT
DTSTART;TZID=America/Chicago:20211213T164500
DTEND;TZID=America/Chicago:20211213T174500
DTSTAMP:20260421T104110
CREATED:20210902T190958Z
LAST-MODIFIED:20210902T192746Z
UID:10001469-1639413900-1639417500@ynschoirs.org
SUMMARY:Dolce Rehearsal
DESCRIPTION:Dolce Rehearsal\n4:45pm-5:45pm Allied First Bank\, Oswego
URL:https://ynschoirs.org/calendar/dolce-rehearsal-2/2021-12-13/
LOCATION:ServBank\, 3201 Orchard Road\, Oswego\, IL\, 60543
CATEGORIES:Dolce,Parents
END:VEVENT
BEGIN:VEVENT
DTSTART;TZID=America/Chicago:20211206T164500
DTEND;TZID=America/Chicago:20211206T174500
DTSTAMP:20260421T104110
CREATED:20210902T190958Z
LAST-MODIFIED:20210902T192746Z
UID:10001468-1638809100-1638812700@ynschoirs.org
SUMMARY:Dolce Rehearsal
DESCRIPTION:Dolce Rehearsal\n4:45pm-5:45pm Allied First Bank\, Oswego
URL:https://ynschoirs.org/calendar/dolce-rehearsal-2/2021-12-06/
LOCATION:ServBank\, 3201 Orchard Road\, Oswego\, IL\, 60543
CATEGORIES:Dolce,Parents
END:VEVENT
BEGIN:VEVENT
DTSTART;TZID=America/Chicago:20211129T164500
DTEND;TZID=America/Chicago:20211129T174500
DTSTAMP:20260421T104110
CREATED:20210902T190958Z
LAST-MODIFIED:20210902T192746Z
UID:10001467-1638204300-1638207900@ynschoirs.org
SUMMARY:Dolce Rehearsal
DESCRIPTION:Dolce Rehearsal\n4:45pm-5:45pm Allied First Bank\, Oswego
URL:https://ynschoirs.org/calendar/dolce-rehearsal-2/2021-11-29/
LOCATION:ServBank\, 3201 Orchard Road\, Oswego\, IL\, 60543
CATEGORIES:Dolce,Parents
END:VEVENT
BEGIN:VEVENT
DTSTART;TZID=America/Chicago:20211122T164500
DTEND;TZID=America/Chicago:20211122T174500
DTSTAMP:20260421T104110
CREATED:20210902T191708Z
LAST-MODIFIED:20210902T191708Z
UID:10001472-1637599500-1637603100@ynschoirs.org
SUMMARY:Dolce Rehearsal
DESCRIPTION:Dolce Rehearsal\n4:45-5:45pm Allied First Bank
URL:https://ynschoirs.org/calendar/dolce-rehearsal-3/
LOCATION:ServBank\, 3201 Orchard Road\, Oswego\, IL\, 60543
CATEGORIES:Dolce,Parents
END:VEVENT
BEGIN:VEVENT
DTSTART;TZID=America/Chicago:20211115T164500
DTEND;TZID=America/Chicago:20211115T174500
DTSTAMP:20260421T104110
CREATED:20210902T190618Z
LAST-MODIFIED:20210902T191124Z
UID:10001466-1636994700-1636998300@ynschoirs.org
SUMMARY:Dolce Rehearsal
DESCRIPTION:Dolce Rehearsal\n4:45pm-5:45pm Allied First Bank\, Oswego
URL:https://ynschoirs.org/calendar/4182/2021-11-15/
LOCATION:ServBank\, 3201 Orchard Road\, Oswego\, IL\, 60543
CATEGORIES:Dolce,Parents
END:VEVENT
BEGIN:VEVENT
DTSTART;TZID=America/Chicago:20211108T164500
DTEND;TZID=America/Chicago:20211108T174500
DTSTAMP:20260421T104110
CREATED:20210902T190618Z
LAST-MODIFIED:20210902T191124Z
UID:10001465-1636389900-1636393500@ynschoirs.org
SUMMARY:Dolce Rehearsal
DESCRIPTION:Dolce Rehearsal\n4:45pm-5:45pm Allied First Bank\, Oswego
URL:https://ynschoirs.org/calendar/4182/2021-11-08/
LOCATION:ServBank\, 3201 Orchard Road\, Oswego\, IL\, 60543
CATEGORIES:Dolce,Parents
END:VEVENT
BEGIN:VEVENT
DTSTART;TZID=America/Chicago:20211101T164500
DTEND;TZID=America/Chicago:20211101T174500
DTSTAMP:20260421T104110
CREATED:20210902T190618Z
LAST-MODIFIED:20210902T191124Z
UID:10001464-1635785100-1635788700@ynschoirs.org
SUMMARY:Dolce Rehearsal
DESCRIPTION:Dolce Rehearsal\n4:45pm-5:45pm Allied First Bank\, Oswego
URL:https://ynschoirs.org/calendar/4182/2021-11-01/
LOCATION:ServBank\, 3201 Orchard Road\, Oswego\, IL\, 60543
CATEGORIES:Dolce,Parents
END:VEVENT
BEGIN:VEVENT
DTSTART;TZID=America/Chicago:20211025T164500
DTEND;TZID=America/Chicago:20211025T174500
DTSTAMP:20260421T104110
CREATED:20210902T190618Z
LAST-MODIFIED:20210902T191124Z
UID:10001463-1635180300-1635183900@ynschoirs.org
SUMMARY:Dolce Rehearsal
DESCRIPTION:Dolce Rehearsal\n4:45pm-5:45pm Allied First Bank\, Oswego
URL:https://ynschoirs.org/calendar/4182/2021-10-25/
LOCATION:ServBank\, 3201 Orchard Road\, Oswego\, IL\, 60543
CATEGORIES:Dolce,Parents
END:VEVENT
BEGIN:VEVENT
DTSTART;TZID=America/Chicago:20211018T164500
DTEND;TZID=America/Chicago:20211018T174500
DTSTAMP:20260421T104110
CREATED:20210902T190618Z
LAST-MODIFIED:20210902T191124Z
UID:10001462-1634575500-1634579100@ynschoirs.org
SUMMARY:Dolce Rehearsal
DESCRIPTION:Dolce Rehearsal\n4:45pm-5:45pm Allied First Bank\, Oswego
URL:https://ynschoirs.org/calendar/4182/2021-10-18/
LOCATION:ServBank\, 3201 Orchard Road\, Oswego\, IL\, 60543
CATEGORIES:Dolce,Parents
END:VEVENT
BEGIN:VEVENT
DTSTART;TZID=America/Chicago:20211004T164500
DTEND;TZID=America/Chicago:20211004T174500
DTSTAMP:20260421T104110
CREATED:20210902T190400Z
LAST-MODIFIED:20210902T193617Z
UID:10001461-1633365900-1633369500@ynschoirs.org
SUMMARY:Dolce Rehearsal
DESCRIPTION:Dolce Rehearsal\n4:45pm-5:45pm Allied First Bank\, Oswego
URL:https://ynschoirs.org/calendar/dolce-rehearsal/2021-10-04/
LOCATION:ServBank\, 3201 Orchard Road\, Oswego\, IL\, 60543
CATEGORIES:Dolce,Parents
END:VEVENT
BEGIN:VEVENT
DTSTART;TZID=America/Chicago:20210927T164500
DTEND;TZID=America/Chicago:20210927T174500
DTSTAMP:20260421T104110
CREATED:20210902T190400Z
LAST-MODIFIED:20210902T193617Z
UID:10001460-1632761100-1632764700@ynschoirs.org
SUMMARY:Dolce Rehearsal
DESCRIPTION:Dolce Rehearsal\n4:45pm-5:45pm Allied First Bank\, Oswego
URL:https://ynschoirs.org/calendar/dolce-rehearsal/2021-09-27/
LOCATION:ServBank\, 3201 Orchard Road\, Oswego\, IL\, 60543
CATEGORIES:Dolce,Parents
END:VEVENT
BEGIN:VEVENT
DTSTART;TZID=America/Chicago:20210920T164500
DTEND;TZID=America/Chicago:20210920T174500
DTSTAMP:20260421T104110
CREATED:20210902T190400Z
LAST-MODIFIED:20210902T193617Z
UID:10001459-1632156300-1632159900@ynschoirs.org
SUMMARY:Dolce Rehearsal
DESCRIPTION:Dolce Rehearsal\n4:45pm-5:45pm Allied First Bank\, Oswego
URL:https://ynschoirs.org/calendar/dolce-rehearsal/2021-09-20/
LOCATION:ServBank\, 3201 Orchard Road\, Oswego\, IL\, 60543
CATEGORIES:Dolce,Parents
END:VEVENT
BEGIN:VEVENT
DTSTART;TZID=America/Chicago:20210913T164500
DTEND;TZID=America/Chicago:20210913T174500
DTSTAMP:20260421T104110
CREATED:20210902T190400Z
LAST-MODIFIED:20210902T193617Z
UID:10001458-1631551500-1631555100@ynschoirs.org
SUMMARY:Dolce Rehearsal
DESCRIPTION:Dolce Rehearsal\n4:45pm-5:45pm Allied First Bank\, Oswego
URL:https://ynschoirs.org/calendar/dolce-rehearsal/2021-09-13/
LOCATION:ServBank\, 3201 Orchard Road\, Oswego\, IL\, 60543
CATEGORIES:Dolce,Parents
END:VEVENT
BEGIN:VEVENT
DTSTART;TZID=America/Chicago:20210503T164500
DTEND;TZID=America/Chicago:20210503T174500
DTSTAMP:20260421T104110
CREATED:20210323T182650Z
LAST-MODIFIED:20210323T182650Z
UID:10001320-1620060300-1620063900@ynschoirs.org
SUMMARY:Dolce - In-Person Rehearsal
DESCRIPTION:Dolce – In-Person Rehearsal\nAllied First Bank
URL:https://ynschoirs.org/calendar/dolce-in-person-rehearsal-3/2021-05-03/
LOCATION:ServBank\, 3201 Orchard Road\, Oswego\, IL\, 60543
CATEGORIES:Dolce,Parents
END:VEVENT
BEGIN:VEVENT
DTSTART;TZID=America/Chicago:20210426T164500
DTEND;TZID=America/Chicago:20210426T174500
DTSTAMP:20260421T104110
CREATED:20210323T182650Z
LAST-MODIFIED:20210323T182650Z
UID:10001319-1619455500-1619459100@ynschoirs.org
SUMMARY:Dolce - In-Person Rehearsal
DESCRIPTION:Dolce – In-Person Rehearsal\nAllied First Bank
URL:https://ynschoirs.org/calendar/dolce-in-person-rehearsal-3/2021-04-26/
LOCATION:ServBank\, 3201 Orchard Road\, Oswego\, IL\, 60543
CATEGORIES:Dolce,Parents
END:VEVENT
BEGIN:VEVENT
DTSTART;TZID=America/Chicago:20210419T164500
DTEND;TZID=America/Chicago:20210419T174500
DTSTAMP:20260421T104110
CREATED:20210323T182650Z
LAST-MODIFIED:20210323T182650Z
UID:10001318-1618850700-1618854300@ynschoirs.org
SUMMARY:Dolce - In-Person Rehearsal
DESCRIPTION:Dolce – In-Person Rehearsal\nAllied First Bank
URL:https://ynschoirs.org/calendar/dolce-in-person-rehearsal-3/2021-04-19/
LOCATION:ServBank\, 3201 Orchard Road\, Oswego\, IL\, 60543
CATEGORIES:Dolce,Parents
END:VEVENT
BEGIN:VEVENT
DTSTART;TZID=America/Chicago:20210412T164500
DTEND;TZID=America/Chicago:20210412T174500
DTSTAMP:20260421T104110
CREATED:20210323T182650Z
LAST-MODIFIED:20210323T182650Z
UID:10001317-1618245900-1618249500@ynschoirs.org
SUMMARY:Dolce - In-Person Rehearsal
DESCRIPTION:Dolce – In-Person Rehearsal\nAllied First Bank
URL:https://ynschoirs.org/calendar/dolce-in-person-rehearsal-3/2021-04-12/
LOCATION:ServBank\, 3201 Orchard Road\, Oswego\, IL\, 60543
CATEGORIES:Dolce,Parents
END:VEVENT
BEGIN:VEVENT
DTSTART;TZID=America/Chicago:20210322T164500
DTEND;TZID=America/Chicago:20210322T174500
DTSTAMP:20260421T104110
CREATED:20210211T160049Z
LAST-MODIFIED:20210211T160049Z
UID:10001190-1616431500-1616435100@ynschoirs.org
SUMMARY:Dolce - In-Person Rehearsal
DESCRIPTION:Dolce – In-Person Rehearsal\n4:45-5:45pm Allied First Bank
URL:https://ynschoirs.org/calendar/dolce-in-person-rehearsal-2/2021-03-22/
LOCATION:ServBank\, 3201 Orchard Road\, Oswego\, IL\, 60543
CATEGORIES:Dolce,Parents
END:VEVENT
END:VCALENDAR