BEGIN:VCALENDAR
VERSION:2.0
PRODID:-//Young Naperville Singers - ECPv6.8.0//NONSGML v1.0//EN
CALSCALE:GREGORIAN
METHOD:PUBLISH
X-WR-CALNAME:Young Naperville Singers
X-ORIGINAL-URL:https://ynschoirs.org
X-WR-CALDESC:Events for Young Naperville Singers
REFRESH-INTERVAL;VALUE=DURATION:PT1H
X-Robots-Tag:noindex
X-PUBLISHED-TTL:PT1H
BEGIN:VTIMEZONE
TZID:America/Chicago
BEGIN:DAYLIGHT
TZOFFSETFROM:-0600
TZOFFSETTO:-0500
TZNAME:CDT
DTSTART:20220313T080000
END:DAYLIGHT
BEGIN:STANDARD
TZOFFSETFROM:-0500
TZOFFSETTO:-0600
TZNAME:CST
DTSTART:20221106T070000
END:STANDARD
END:VTIMEZONE
BEGIN:VEVENT
DTSTART;TZID=America/Chicago:20220503T181500
DTEND;TZID=America/Chicago:20220503T201500
DTSTAMP:20260421T065839
CREATED:20220112T175812Z
LAST-MODIFIED:20220112T175812Z
UID:10001639-1651601700-1651608900@ynschoirs.org
SUMMARY:Bella Voce Rehearsal
DESCRIPTION:Bella Voce Rehearsal\nFaith Lutheran Church 6:15pm-8:15pm
URL:https://ynschoirs.org/calendar/bella-voce-rehearsal-3/2022-05-03/
LOCATION:Faith Lutheran Church\, 3000 Liberty Street\, Aurora\, IL\, 60502
CATEGORIES:Bella Voce,Parents
END:VEVENT
BEGIN:VEVENT
DTSTART;TZID=America/Chicago:20220502T181500
DTEND;TZID=America/Chicago:20220502T201500
DTSTAMP:20260421T065839
CREATED:20220112T174209Z
LAST-MODIFIED:20220112T174209Z
UID:10001569-1651515300-1651522500@ynschoirs.org
SUMMARY:Bella Cantare Rehearsal
DESCRIPTION:Bella Cantare Rehearsal\nFaith Lutheran Church 6:15-8:15pm
URL:https://ynschoirs.org/calendar/bella-cantare-rehearsal-2/2022-05-02/
LOCATION:Faith Lutheran Church\, 3000 Liberty Street\, Aurora\, IL\, 60502
CATEGORIES:Bella Cantare,Parents
END:VEVENT
BEGIN:VEVENT
DTSTART;TZID=America/Chicago:20220502T181500
DTEND;TZID=America/Chicago:20220502T200000
DTSTAMP:20260421T065839
CREATED:20220112T174345Z
LAST-MODIFIED:20220112T174345Z
UID:10001583-1651515300-1651521600@ynschoirs.org
SUMMARY:Canto Vivo Rehearsal
DESCRIPTION:Canto Vivo Rehearsal\nFaith Lutheran Church 6:15-8:00pm
URL:https://ynschoirs.org/calendar/canto-vivo-rehearsal-2/2022-05-02/
LOCATION:Faith Lutheran Church\, 3000 Liberty Street\, Aurora\, IL\, 60502
CATEGORIES:Canto Vivo,Parents
END:VEVENT
BEGIN:VEVENT
DTSTART;TZID=America/Chicago:20220426T181500
DTEND;TZID=America/Chicago:20220426T201500
DTSTAMP:20260421T065839
CREATED:20220112T175812Z
LAST-MODIFIED:20220112T175812Z
UID:10001638-1650996900-1651004100@ynschoirs.org
SUMMARY:Bella Voce Rehearsal
DESCRIPTION:Bella Voce Rehearsal\nFaith Lutheran Church 6:15pm-8:15pm
URL:https://ynschoirs.org/calendar/bella-voce-rehearsal-3/2022-04-26/
LOCATION:Faith Lutheran Church\, 3000 Liberty Street\, Aurora\, IL\, 60502
CATEGORIES:Bella Voce,Parents
END:VEVENT
BEGIN:VEVENT
DTSTART;TZID=America/Chicago:20220425T181500
DTEND;TZID=America/Chicago:20220425T201500
DTSTAMP:20260421T065839
CREATED:20220112T174209Z
LAST-MODIFIED:20220112T174209Z
UID:10001568-1650910500-1650917700@ynschoirs.org
SUMMARY:Bella Cantare Rehearsal
DESCRIPTION:Bella Cantare Rehearsal\nFaith Lutheran Church 6:15-8:15pm
URL:https://ynschoirs.org/calendar/bella-cantare-rehearsal-2/2022-04-25/
LOCATION:Faith Lutheran Church\, 3000 Liberty Street\, Aurora\, IL\, 60502
CATEGORIES:Bella Cantare,Parents
END:VEVENT
BEGIN:VEVENT
DTSTART;TZID=America/Chicago:20220425T181500
DTEND;TZID=America/Chicago:20220425T200000
DTSTAMP:20260421T065839
CREATED:20220112T174345Z
LAST-MODIFIED:20220112T174345Z
UID:10001582-1650910500-1650916800@ynschoirs.org
SUMMARY:Canto Vivo Rehearsal
DESCRIPTION:Canto Vivo Rehearsal\nFaith Lutheran Church 6:15-8:00pm
URL:https://ynschoirs.org/calendar/canto-vivo-rehearsal-2/2022-04-25/
LOCATION:Faith Lutheran Church\, 3000 Liberty Street\, Aurora\, IL\, 60502
CATEGORIES:Canto Vivo,Parents
END:VEVENT
BEGIN:VEVENT
DTSTART;TZID=America/Chicago:20220419T181500
DTEND;TZID=America/Chicago:20220419T201500
DTSTAMP:20260421T065839
CREATED:20220112T175812Z
LAST-MODIFIED:20220112T175812Z
UID:10001637-1650392100-1650399300@ynschoirs.org
SUMMARY:Bella Voce Rehearsal
DESCRIPTION:Bella Voce Rehearsal\nFaith Lutheran Church 6:15pm-8:15pm
URL:https://ynschoirs.org/calendar/bella-voce-rehearsal-3/2022-04-19/
LOCATION:Faith Lutheran Church\, 3000 Liberty Street\, Aurora\, IL\, 60502
CATEGORIES:Bella Voce,Parents
END:VEVENT
BEGIN:VEVENT
DTSTART;TZID=America/Chicago:20220418T181500
DTEND;TZID=America/Chicago:20220418T201500
DTSTAMP:20260421T065839
CREATED:20220112T174209Z
LAST-MODIFIED:20220112T174209Z
UID:10001567-1650305700-1650312900@ynschoirs.org
SUMMARY:Bella Cantare Rehearsal
DESCRIPTION:Bella Cantare Rehearsal\nFaith Lutheran Church 6:15-8:15pm
URL:https://ynschoirs.org/calendar/bella-cantare-rehearsal-2/2022-04-18/
LOCATION:Faith Lutheran Church\, 3000 Liberty Street\, Aurora\, IL\, 60502
CATEGORIES:Bella Cantare,Parents
END:VEVENT
BEGIN:VEVENT
DTSTART;TZID=America/Chicago:20220418T181500
DTEND;TZID=America/Chicago:20220418T200000
DTSTAMP:20260421T065839
CREATED:20220112T174345Z
LAST-MODIFIED:20220112T174345Z
UID:10001581-1650305700-1650312000@ynschoirs.org
SUMMARY:Canto Vivo Rehearsal
DESCRIPTION:Canto Vivo Rehearsal\nFaith Lutheran Church 6:15-8:00pm
URL:https://ynschoirs.org/calendar/canto-vivo-rehearsal-2/2022-04-18/
LOCATION:Faith Lutheran Church\, 3000 Liberty Street\, Aurora\, IL\, 60502
CATEGORIES:Canto Vivo,Parents
END:VEVENT
BEGIN:VEVENT
DTSTART;TZID=America/Chicago:20220412T181500
DTEND;TZID=America/Chicago:20220412T201500
DTSTAMP:20260421T065839
CREATED:20220112T175812Z
LAST-MODIFIED:20220112T175812Z
UID:10001636-1649787300-1649794500@ynschoirs.org
SUMMARY:Bella Voce Rehearsal
DESCRIPTION:Bella Voce Rehearsal\nFaith Lutheran Church 6:15pm-8:15pm
URL:https://ynschoirs.org/calendar/bella-voce-rehearsal-3/2022-04-12/
LOCATION:Faith Lutheran Church\, 3000 Liberty Street\, Aurora\, IL\, 60502
CATEGORIES:Bella Voce,Parents
END:VEVENT
BEGIN:VEVENT
DTSTART;TZID=America/Chicago:20220411T181500
DTEND;TZID=America/Chicago:20220411T201500
DTSTAMP:20260421T065839
CREATED:20220112T174209Z
LAST-MODIFIED:20220112T174209Z
UID:10001566-1649700900-1649708100@ynschoirs.org
SUMMARY:Bella Cantare Rehearsal
DESCRIPTION:Bella Cantare Rehearsal\nFaith Lutheran Church 6:15-8:15pm
URL:https://ynschoirs.org/calendar/bella-cantare-rehearsal-2/2022-04-11/
LOCATION:Faith Lutheran Church\, 3000 Liberty Street\, Aurora\, IL\, 60502
CATEGORIES:Bella Cantare,Parents
END:VEVENT
BEGIN:VEVENT
DTSTART;TZID=America/Chicago:20220411T181500
DTEND;TZID=America/Chicago:20220411T200000
DTSTAMP:20260421T065839
CREATED:20220112T174345Z
LAST-MODIFIED:20220112T174345Z
UID:10001580-1649700900-1649707200@ynschoirs.org
SUMMARY:Canto Vivo Rehearsal
DESCRIPTION:Canto Vivo Rehearsal\nFaith Lutheran Church 6:15-8:00pm
URL:https://ynschoirs.org/calendar/canto-vivo-rehearsal-2/2022-04-11/
LOCATION:Faith Lutheran Church\, 3000 Liberty Street\, Aurora\, IL\, 60502
CATEGORIES:Canto Vivo,Parents
END:VEVENT
BEGIN:VEVENT
DTSTART;TZID=America/Chicago:20220405T181500
DTEND;TZID=America/Chicago:20220405T201500
DTSTAMP:20260421T065839
CREATED:20220112T175812Z
LAST-MODIFIED:20220112T175812Z
UID:10001635-1649182500-1649189700@ynschoirs.org
SUMMARY:Bella Voce Rehearsal
DESCRIPTION:Bella Voce Rehearsal\nFaith Lutheran Church 6:15pm-8:15pm
URL:https://ynschoirs.org/calendar/bella-voce-rehearsal-3/2022-04-05/
LOCATION:Faith Lutheran Church\, 3000 Liberty Street\, Aurora\, IL\, 60502
CATEGORIES:Bella Voce,Parents
END:VEVENT
BEGIN:VEVENT
DTSTART;TZID=America/Chicago:20220404T181500
DTEND;TZID=America/Chicago:20220404T201500
DTSTAMP:20260421T065839
CREATED:20220112T174209Z
LAST-MODIFIED:20220112T174209Z
UID:10001565-1649096100-1649103300@ynschoirs.org
SUMMARY:Bella Cantare Rehearsal
DESCRIPTION:Bella Cantare Rehearsal\nFaith Lutheran Church 6:15-8:15pm
URL:https://ynschoirs.org/calendar/bella-cantare-rehearsal-2/2022-04-04/
LOCATION:Faith Lutheran Church\, 3000 Liberty Street\, Aurora\, IL\, 60502
CATEGORIES:Bella Cantare,Parents
END:VEVENT
BEGIN:VEVENT
DTSTART;TZID=America/Chicago:20220404T181500
DTEND;TZID=America/Chicago:20220404T200000
DTSTAMP:20260421T065839
CREATED:20220112T174345Z
LAST-MODIFIED:20220112T174345Z
UID:10001579-1649096100-1649102400@ynschoirs.org
SUMMARY:Canto Vivo Rehearsal
DESCRIPTION:Canto Vivo Rehearsal\nFaith Lutheran Church 6:15-8:00pm
URL:https://ynschoirs.org/calendar/canto-vivo-rehearsal-2/2022-04-04/
LOCATION:Faith Lutheran Church\, 3000 Liberty Street\, Aurora\, IL\, 60502
CATEGORIES:Canto Vivo,Parents
END:VEVENT
BEGIN:VEVENT
DTSTART;TZID=America/Chicago:20220322T181500
DTEND;TZID=America/Chicago:20220322T201500
DTSTAMP:20260421T065839
CREATED:20220112T175812Z
LAST-MODIFIED:20220216T172746Z
UID:10001642-1647972900-1647980100@ynschoirs.org
SUMMARY:Bella Voce Bring a Friend Rehearsal
DESCRIPTION:Bella Voce Rehearsal\nFaith Lutheran Church 6:15pm-8:15pm \nBring a Friend…check your email for the link to sign up!
URL:https://ynschoirs.org/calendar/bella-voce-rehearsal-3-2022-03-22/
LOCATION:Faith Lutheran Church\, 3000 Liberty Street\, Aurora\, IL\, 60502
CATEGORIES:Bella Voce,Parents
END:VEVENT
BEGIN:VEVENT
DTSTART;TZID=America/Chicago:20220321T181500
DTEND;TZID=America/Chicago:20220321T201500
DTSTAMP:20260421T065839
CREATED:20220112T174209Z
LAST-MODIFIED:20220112T174209Z
UID:10001564-1647886500-1647893700@ynschoirs.org
SUMMARY:Bella Cantare Rehearsal
DESCRIPTION:Bella Cantare Rehearsal\nFaith Lutheran Church 6:15-8:15pm
URL:https://ynschoirs.org/calendar/bella-cantare-rehearsal-2/2022-03-21/
LOCATION:Faith Lutheran Church\, 3000 Liberty Street\, Aurora\, IL\, 60502
CATEGORIES:Bella Cantare,Parents
END:VEVENT
BEGIN:VEVENT
DTSTART;TZID=America/Chicago:20220321T181500
DTEND;TZID=America/Chicago:20220321T200000
DTSTAMP:20260421T065839
CREATED:20220112T174345Z
LAST-MODIFIED:20220112T174345Z
UID:10001578-1647886500-1647892800@ynschoirs.org
SUMMARY:Canto Vivo Rehearsal
DESCRIPTION:Canto Vivo Rehearsal\nFaith Lutheran Church 6:15-8:00pm
URL:https://ynschoirs.org/calendar/canto-vivo-rehearsal-2/2022-03-21/
LOCATION:Faith Lutheran Church\, 3000 Liberty Street\, Aurora\, IL\, 60502
CATEGORIES:Canto Vivo,Parents
END:VEVENT
BEGIN:VEVENT
DTSTART;TZID=America/Chicago:20220314T181500
DTEND;TZID=America/Chicago:20220314T201500
DTSTAMP:20260421T065839
CREATED:20220112T174209Z
LAST-MODIFIED:20220112T174209Z
UID:10001563-1647281700-1647288900@ynschoirs.org
SUMMARY:Bella Cantare Rehearsal
DESCRIPTION:Bella Cantare Rehearsal\nFaith Lutheran Church 6:15-8:15pm
URL:https://ynschoirs.org/calendar/bella-cantare-rehearsal-2/2022-03-14/
LOCATION:Faith Lutheran Church\, 3000 Liberty Street\, Aurora\, IL\, 60502
CATEGORIES:Bella Cantare,Parents
END:VEVENT
BEGIN:VEVENT
DTSTART;TZID=America/Chicago:20220314T181500
DTEND;TZID=America/Chicago:20220314T200000
DTSTAMP:20260421T065839
CREATED:20220112T174345Z
LAST-MODIFIED:20220112T174345Z
UID:10001577-1647281700-1647288000@ynschoirs.org
SUMMARY:Canto Vivo Rehearsal
DESCRIPTION:Canto Vivo Rehearsal\nFaith Lutheran Church 6:15-8:00pm
URL:https://ynschoirs.org/calendar/canto-vivo-rehearsal-2/2022-03-14/
LOCATION:Faith Lutheran Church\, 3000 Liberty Street\, Aurora\, IL\, 60502
CATEGORIES:Canto Vivo,Parents
END:VEVENT
BEGIN:VEVENT
DTSTART;TZID=America/Chicago:20220308T181500
DTEND;TZID=America/Chicago:20220308T203000
DTSTAMP:20260421T065839
CREATED:20220112T180008Z
LAST-MODIFIED:20220216T173217Z
UID:10001656-1646763300-1646771400@ynschoirs.org
SUMMARY:Cantabile Bring a Friend Rehearsal
DESCRIPTION:Cantabile Rehearsal\nFaith Lutheran Church \n6:15-7:15pm YNS Singers with the last name A-L and 7:30-8:30pm YNS Singers with the last name M-Z \nYou can find the link for friends to sign up in your email.
URL:https://ynschoirs.org/calendar/cantabile-rehearsal-3-2022-03-08/
LOCATION:Faith Lutheran Church\, 3000 Liberty Street\, Aurora\, IL\, 60502
CATEGORIES:Cantabile,Parents
END:VEVENT
BEGIN:VEVENT
DTSTART;TZID=America/Chicago:20220307T181500
DTEND;TZID=America/Chicago:20220307T201500
DTSTAMP:20260421T065839
CREATED:20220112T174209Z
LAST-MODIFIED:20220112T174209Z
UID:10001562-1646676900-1646684100@ynschoirs.org
SUMMARY:Bella Cantare Rehearsal
DESCRIPTION:Bella Cantare Rehearsal\nFaith Lutheran Church 6:15-8:15pm
URL:https://ynschoirs.org/calendar/bella-cantare-rehearsal-2/2022-03-07/
LOCATION:Faith Lutheran Church\, 3000 Liberty Street\, Aurora\, IL\, 60502
CATEGORIES:Bella Cantare,Parents
END:VEVENT
BEGIN:VEVENT
DTSTART;TZID=America/Chicago:20220307T181500
DTEND;TZID=America/Chicago:20220307T200000
DTSTAMP:20260421T065839
CREATED:20220112T174345Z
LAST-MODIFIED:20220112T174345Z
UID:10001576-1646676900-1646683200@ynschoirs.org
SUMMARY:Canto Vivo Rehearsal
DESCRIPTION:Canto Vivo Rehearsal\nFaith Lutheran Church 6:15-8:00pm
URL:https://ynschoirs.org/calendar/canto-vivo-rehearsal-2/2022-03-07/
LOCATION:Faith Lutheran Church\, 3000 Liberty Street\, Aurora\, IL\, 60502
CATEGORIES:Canto Vivo,Parents
END:VEVENT
BEGIN:VEVENT
DTSTART;TZID=America/Chicago:20220301T181500
DTEND;TZID=America/Chicago:20220301T201500
DTSTAMP:20260421T065839
CREATED:20220112T175812Z
LAST-MODIFIED:20220112T175812Z
UID:10001634-1646158500-1646165700@ynschoirs.org
SUMMARY:Bella Voce Rehearsal
DESCRIPTION:Bella Voce Rehearsal\nFaith Lutheran Church 6:15pm-8:15pm
URL:https://ynschoirs.org/calendar/bella-voce-rehearsal-3/2022-03-01/
LOCATION:Faith Lutheran Church\, 3000 Liberty Street\, Aurora\, IL\, 60502
CATEGORIES:Bella Voce,Parents
END:VEVENT
BEGIN:VEVENT
DTSTART;TZID=America/Chicago:20220228T181500
DTEND;TZID=America/Chicago:20220228T201500
DTSTAMP:20260421T065839
CREATED:20220112T174209Z
LAST-MODIFIED:20220112T174209Z
UID:10001561-1646072100-1646079300@ynschoirs.org
SUMMARY:Bella Cantare Rehearsal
DESCRIPTION:Bella Cantare Rehearsal\nFaith Lutheran Church 6:15-8:15pm
URL:https://ynschoirs.org/calendar/bella-cantare-rehearsal-2/2022-02-28/
LOCATION:Faith Lutheran Church\, 3000 Liberty Street\, Aurora\, IL\, 60502
CATEGORIES:Bella Cantare,Parents
END:VEVENT
BEGIN:VEVENT
DTSTART;TZID=America/Chicago:20220228T181500
DTEND;TZID=America/Chicago:20220228T200000
DTSTAMP:20260421T065839
CREATED:20220112T174345Z
LAST-MODIFIED:20220112T174345Z
UID:10001575-1646072100-1646078400@ynschoirs.org
SUMMARY:Canto Vivo Rehearsal
DESCRIPTION:Canto Vivo Rehearsal\nFaith Lutheran Church 6:15-8:00pm
URL:https://ynschoirs.org/calendar/canto-vivo-rehearsal-2/2022-02-28/
LOCATION:Faith Lutheran Church\, 3000 Liberty Street\, Aurora\, IL\, 60502
CATEGORIES:Canto Vivo,Parents
END:VEVENT
BEGIN:VEVENT
DTSTART;TZID=America/Chicago:20220222T181500
DTEND;TZID=America/Chicago:20220222T201500
DTSTAMP:20260421T065839
CREATED:20220112T175812Z
LAST-MODIFIED:20220112T175812Z
UID:10001633-1645553700-1645560900@ynschoirs.org
SUMMARY:Bella Voce Rehearsal
DESCRIPTION:Bella Voce Rehearsal\nFaith Lutheran Church 6:15pm-8:15pm
URL:https://ynschoirs.org/calendar/bella-voce-rehearsal-3/2022-02-22/
LOCATION:Faith Lutheran Church\, 3000 Liberty Street\, Aurora\, IL\, 60502
CATEGORIES:Bella Voce,Parents
END:VEVENT
BEGIN:VEVENT
DTSTART;TZID=America/Chicago:20220221T181500
DTEND;TZID=America/Chicago:20220221T201500
DTSTAMP:20260421T065839
CREATED:20220112T174209Z
LAST-MODIFIED:20220112T174209Z
UID:10001560-1645467300-1645474500@ynschoirs.org
SUMMARY:Bella Cantare Rehearsal
DESCRIPTION:Bella Cantare Rehearsal\nFaith Lutheran Church 6:15-8:15pm
URL:https://ynschoirs.org/calendar/bella-cantare-rehearsal-2/2022-02-21/
LOCATION:Faith Lutheran Church\, 3000 Liberty Street\, Aurora\, IL\, 60502
CATEGORIES:Bella Cantare,Parents
END:VEVENT
BEGIN:VEVENT
DTSTART;TZID=America/Chicago:20220221T181500
DTEND;TZID=America/Chicago:20220221T200000
DTSTAMP:20260421T065839
CREATED:20220112T174345Z
LAST-MODIFIED:20220112T174345Z
UID:10001574-1645467300-1645473600@ynschoirs.org
SUMMARY:Canto Vivo Rehearsal
DESCRIPTION:Canto Vivo Rehearsal\nFaith Lutheran Church 6:15-8:00pm
URL:https://ynschoirs.org/calendar/canto-vivo-rehearsal-2/2022-02-21/
LOCATION:Faith Lutheran Church\, 3000 Liberty Street\, Aurora\, IL\, 60502
CATEGORIES:Canto Vivo,Parents
END:VEVENT
BEGIN:VEVENT
DTSTART;TZID=America/Chicago:20220215T181500
DTEND;TZID=America/Chicago:20220215T201500
DTSTAMP:20260421T065839
CREATED:20220112T175812Z
LAST-MODIFIED:20220112T175812Z
UID:10001632-1644948900-1644956100@ynschoirs.org
SUMMARY:Bella Voce Rehearsal
DESCRIPTION:Bella Voce Rehearsal\nFaith Lutheran Church 6:15pm-8:15pm
URL:https://ynschoirs.org/calendar/bella-voce-rehearsal-3/2022-02-15/
LOCATION:Faith Lutheran Church\, 3000 Liberty Street\, Aurora\, IL\, 60502
CATEGORIES:Bella Voce,Parents
END:VEVENT
END:VCALENDAR