BEGIN:VCALENDAR
VERSION:2.0
PRODID:-//Young Naperville Singers - ECPv6.8.0//NONSGML v1.0//EN
CALSCALE:GREGORIAN
METHOD:PUBLISH
X-WR-CALNAME:Young Naperville Singers
X-ORIGINAL-URL:https://ynschoirs.org
X-WR-CALDESC:Events for Young Naperville Singers
REFRESH-INTERVAL;VALUE=DURATION:PT1H
X-Robots-Tag:noindex
X-PUBLISHED-TTL:PT1H
BEGIN:VTIMEZONE
TZID:America/Chicago
BEGIN:DAYLIGHT
TZOFFSETFROM:-0600
TZOFFSETTO:-0500
TZNAME:CDT
DTSTART:20210314T080000
END:DAYLIGHT
BEGIN:STANDARD
TZOFFSETFROM:-0500
TZOFFSETTO:-0600
TZNAME:CST
DTSTART:20211107T070000
END:STANDARD
BEGIN:DAYLIGHT
TZOFFSETFROM:-0600
TZOFFSETTO:-0500
TZNAME:CDT
DTSTART:20220313T080000
END:DAYLIGHT
BEGIN:STANDARD
TZOFFSETFROM:-0500
TZOFFSETTO:-0600
TZNAME:CST
DTSTART:20221106T070000
END:STANDARD
END:VTIMEZONE
BEGIN:VEVENT
DTSTART;TZID=America/Chicago:20220228T181500
DTEND;TZID=America/Chicago:20220228T201500
DTSTAMP:20260421T091427
CREATED:20220112T174209Z
LAST-MODIFIED:20220112T174209Z
UID:10001561-1646072100-1646079300@ynschoirs.org
SUMMARY:Bella Cantare Rehearsal
DESCRIPTION:Bella Cantare Rehearsal\nFaith Lutheran Church 6:15-8:15pm
URL:https://ynschoirs.org/calendar/bella-cantare-rehearsal-2/2022-02-28/
LOCATION:Faith Lutheran Church\, 3000 Liberty Street\, Aurora\, IL\, 60502
CATEGORIES:Bella Cantare,Parents
END:VEVENT
BEGIN:VEVENT
DTSTART;TZID=America/Chicago:20220228T181500
DTEND;TZID=America/Chicago:20220228T200000
DTSTAMP:20260421T091427
CREATED:20220112T174345Z
LAST-MODIFIED:20220112T174345Z
UID:10001575-1646072100-1646078400@ynschoirs.org
SUMMARY:Canto Vivo Rehearsal
DESCRIPTION:Canto Vivo Rehearsal\nFaith Lutheran Church 6:15-8:00pm
URL:https://ynschoirs.org/calendar/canto-vivo-rehearsal-2/2022-02-28/
LOCATION:Faith Lutheran Church\, 3000 Liberty Street\, Aurora\, IL\, 60502
CATEGORIES:Canto Vivo,Parents
END:VEVENT
BEGIN:VEVENT
DTSTART;TZID=America/Chicago:20220222T181500
DTEND;TZID=America/Chicago:20220222T201500
DTSTAMP:20260421T091427
CREATED:20220112T175812Z
LAST-MODIFIED:20220112T175812Z
UID:10001633-1645553700-1645560900@ynschoirs.org
SUMMARY:Bella Voce Rehearsal
DESCRIPTION:Bella Voce Rehearsal\nFaith Lutheran Church 6:15pm-8:15pm
URL:https://ynschoirs.org/calendar/bella-voce-rehearsal-3/2022-02-22/
LOCATION:Faith Lutheran Church\, 3000 Liberty Street\, Aurora\, IL\, 60502
CATEGORIES:Bella Voce,Parents
END:VEVENT
BEGIN:VEVENT
DTSTART;TZID=America/Chicago:20220221T181500
DTEND;TZID=America/Chicago:20220221T201500
DTSTAMP:20260421T091427
CREATED:20220112T174209Z
LAST-MODIFIED:20220112T174209Z
UID:10001560-1645467300-1645474500@ynschoirs.org
SUMMARY:Bella Cantare Rehearsal
DESCRIPTION:Bella Cantare Rehearsal\nFaith Lutheran Church 6:15-8:15pm
URL:https://ynschoirs.org/calendar/bella-cantare-rehearsal-2/2022-02-21/
LOCATION:Faith Lutheran Church\, 3000 Liberty Street\, Aurora\, IL\, 60502
CATEGORIES:Bella Cantare,Parents
END:VEVENT
BEGIN:VEVENT
DTSTART;TZID=America/Chicago:20220221T181500
DTEND;TZID=America/Chicago:20220221T200000
DTSTAMP:20260421T091427
CREATED:20220112T174345Z
LAST-MODIFIED:20220112T174345Z
UID:10001574-1645467300-1645473600@ynschoirs.org
SUMMARY:Canto Vivo Rehearsal
DESCRIPTION:Canto Vivo Rehearsal\nFaith Lutheran Church 6:15-8:00pm
URL:https://ynschoirs.org/calendar/canto-vivo-rehearsal-2/2022-02-21/
LOCATION:Faith Lutheran Church\, 3000 Liberty Street\, Aurora\, IL\, 60502
CATEGORIES:Canto Vivo,Parents
END:VEVENT
BEGIN:VEVENT
DTSTART;TZID=America/Chicago:20220215T181500
DTEND;TZID=America/Chicago:20220215T201500
DTSTAMP:20260421T091427
CREATED:20220112T175812Z
LAST-MODIFIED:20220112T175812Z
UID:10001632-1644948900-1644956100@ynschoirs.org
SUMMARY:Bella Voce Rehearsal
DESCRIPTION:Bella Voce Rehearsal\nFaith Lutheran Church 6:15pm-8:15pm
URL:https://ynschoirs.org/calendar/bella-voce-rehearsal-3/2022-02-15/
LOCATION:Faith Lutheran Church\, 3000 Liberty Street\, Aurora\, IL\, 60502
CATEGORIES:Bella Voce,Parents
END:VEVENT
BEGIN:VEVENT
DTSTART;TZID=America/Chicago:20220214T181500
DTEND;TZID=America/Chicago:20220214T201500
DTSTAMP:20260421T091427
CREATED:20220112T174209Z
LAST-MODIFIED:20220112T174209Z
UID:10001559-1644862500-1644869700@ynschoirs.org
SUMMARY:Bella Cantare Rehearsal
DESCRIPTION:Bella Cantare Rehearsal\nFaith Lutheran Church 6:15-8:15pm
URL:https://ynschoirs.org/calendar/bella-cantare-rehearsal-2/2022-02-14/
LOCATION:Faith Lutheran Church\, 3000 Liberty Street\, Aurora\, IL\, 60502
CATEGORIES:Bella Cantare,Parents
END:VEVENT
BEGIN:VEVENT
DTSTART;TZID=America/Chicago:20220214T181500
DTEND;TZID=America/Chicago:20220214T200000
DTSTAMP:20260421T091427
CREATED:20220112T174345Z
LAST-MODIFIED:20220112T174345Z
UID:10001573-1644862500-1644868800@ynschoirs.org
SUMMARY:Canto Vivo Rehearsal
DESCRIPTION:Canto Vivo Rehearsal\nFaith Lutheran Church 6:15-8:00pm
URL:https://ynschoirs.org/calendar/canto-vivo-rehearsal-2/2022-02-14/
LOCATION:Faith Lutheran Church\, 3000 Liberty Street\, Aurora\, IL\, 60502
CATEGORIES:Canto Vivo,Parents
END:VEVENT
BEGIN:VEVENT
DTSTART;TZID=America/Chicago:20220208T181500
DTEND;TZID=America/Chicago:20220208T201500
DTSTAMP:20260421T091427
CREATED:20220112T175812Z
LAST-MODIFIED:20220112T175812Z
UID:10001631-1644344100-1644351300@ynschoirs.org
SUMMARY:Bella Voce Rehearsal
DESCRIPTION:Bella Voce Rehearsal\nFaith Lutheran Church 6:15pm-8:15pm
URL:https://ynschoirs.org/calendar/bella-voce-rehearsal-3/2022-02-08/
LOCATION:Faith Lutheran Church\, 3000 Liberty Street\, Aurora\, IL\, 60502
CATEGORIES:Bella Voce,Parents
END:VEVENT
BEGIN:VEVENT
DTSTART;TZID=America/Chicago:20220207T181500
DTEND;TZID=America/Chicago:20220207T201500
DTSTAMP:20260421T091427
CREATED:20220112T174209Z
LAST-MODIFIED:20220112T174209Z
UID:10001558-1644257700-1644264900@ynschoirs.org
SUMMARY:Bella Cantare Rehearsal
DESCRIPTION:Bella Cantare Rehearsal\nFaith Lutheran Church 6:15-8:15pm
URL:https://ynschoirs.org/calendar/bella-cantare-rehearsal-2/2022-02-07/
LOCATION:Faith Lutheran Church\, 3000 Liberty Street\, Aurora\, IL\, 60502
CATEGORIES:Bella Cantare,Parents
END:VEVENT
BEGIN:VEVENT
DTSTART;TZID=America/Chicago:20220207T181500
DTEND;TZID=America/Chicago:20220207T200000
DTSTAMP:20260421T091427
CREATED:20220112T174345Z
LAST-MODIFIED:20220112T174345Z
UID:10001572-1644257700-1644264000@ynschoirs.org
SUMMARY:Canto Vivo Rehearsal
DESCRIPTION:Canto Vivo Rehearsal\nFaith Lutheran Church 6:15-8:00pm
URL:https://ynschoirs.org/calendar/canto-vivo-rehearsal-2/2022-02-07/
LOCATION:Faith Lutheran Church\, 3000 Liberty Street\, Aurora\, IL\, 60502
CATEGORIES:Canto Vivo,Parents
END:VEVENT
BEGIN:VEVENT
DTSTART;TZID=America/Chicago:20220201T181500
DTEND;TZID=America/Chicago:20220201T201500
DTSTAMP:20260421T091427
CREATED:20220112T175812Z
LAST-MODIFIED:20220112T175812Z
UID:10001630-1643739300-1643746500@ynschoirs.org
SUMMARY:Bella Voce Rehearsal
DESCRIPTION:Bella Voce Rehearsal\nFaith Lutheran Church 6:15pm-8:15pm
URL:https://ynschoirs.org/calendar/bella-voce-rehearsal-3/2022-02-01/
LOCATION:Faith Lutheran Church\, 3000 Liberty Street\, Aurora\, IL\, 60502
CATEGORIES:Bella Voce,Parents
END:VEVENT
BEGIN:VEVENT
DTSTART;TZID=America/Chicago:20220131T181500
DTEND;TZID=America/Chicago:20220131T201500
DTSTAMP:20260421T091427
CREATED:20220112T174209Z
LAST-MODIFIED:20220112T174209Z
UID:10001557-1643652900-1643660100@ynschoirs.org
SUMMARY:Bella Cantare Rehearsal
DESCRIPTION:Bella Cantare Rehearsal\nFaith Lutheran Church 6:15-8:15pm
URL:https://ynschoirs.org/calendar/bella-cantare-rehearsal-2/2022-01-31/
LOCATION:Faith Lutheran Church\, 3000 Liberty Street\, Aurora\, IL\, 60502
CATEGORIES:Bella Cantare,Parents
END:VEVENT
BEGIN:VEVENT
DTSTART;TZID=America/Chicago:20220131T181500
DTEND;TZID=America/Chicago:20220131T200000
DTSTAMP:20260421T091427
CREATED:20220112T174345Z
LAST-MODIFIED:20220112T174345Z
UID:10001571-1643652900-1643659200@ynschoirs.org
SUMMARY:Canto Vivo Rehearsal
DESCRIPTION:Canto Vivo Rehearsal\nFaith Lutheran Church 6:15-8:00pm
URL:https://ynschoirs.org/calendar/canto-vivo-rehearsal-2/2022-01-31/
LOCATION:Faith Lutheran Church\, 3000 Liberty Street\, Aurora\, IL\, 60502
CATEGORIES:Canto Vivo,Parents
END:VEVENT
BEGIN:VEVENT
DTSTART;TZID=America/Chicago:20220125T181500
DTEND;TZID=America/Chicago:20220125T201500
DTSTAMP:20260421T091427
CREATED:20220112T175812Z
LAST-MODIFIED:20220112T175812Z
UID:10001629-1643134500-1643141700@ynschoirs.org
SUMMARY:Bella Voce Rehearsal
DESCRIPTION:Bella Voce Rehearsal\nFaith Lutheran Church 6:15pm-8:15pm
URL:https://ynschoirs.org/calendar/bella-voce-rehearsal-3/2022-01-25/
LOCATION:Faith Lutheran Church\, 3000 Liberty Street\, Aurora\, IL\, 60502
CATEGORIES:Bella Voce,Parents
END:VEVENT
BEGIN:VEVENT
DTSTART;TZID=America/Chicago:20220124T181500
DTEND;TZID=America/Chicago:20220124T201500
DTSTAMP:20260421T091427
CREATED:20220112T174209Z
LAST-MODIFIED:20220112T174209Z
UID:10001556-1643048100-1643055300@ynschoirs.org
SUMMARY:Bella Cantare Rehearsal
DESCRIPTION:Bella Cantare Rehearsal\nFaith Lutheran Church 6:15-8:15pm
URL:https://ynschoirs.org/calendar/bella-cantare-rehearsal-2/2022-01-24/
LOCATION:Faith Lutheran Church\, 3000 Liberty Street\, Aurora\, IL\, 60502
CATEGORIES:Bella Cantare,Parents
END:VEVENT
BEGIN:VEVENT
DTSTART;TZID=America/Chicago:20220124T181500
DTEND;TZID=America/Chicago:20220124T200000
DTSTAMP:20260421T091427
CREATED:20220112T174345Z
LAST-MODIFIED:20220112T174345Z
UID:10001570-1643048100-1643054400@ynschoirs.org
SUMMARY:Canto Vivo Rehearsal
DESCRIPTION:Canto Vivo Rehearsal\nFaith Lutheran Church 6:15-8:00pm
URL:https://ynschoirs.org/calendar/canto-vivo-rehearsal-2/2022-01-24/
LOCATION:Faith Lutheran Church\, 3000 Liberty Street\, Aurora\, IL\, 60502
CATEGORIES:Canto Vivo,Parents
END:VEVENT
BEGIN:VEVENT
DTSTART;TZID=America/Chicago:20220118T181500
DTEND;TZID=America/Chicago:20220118T201500
DTSTAMP:20260421T091427
CREATED:20220112T175812Z
LAST-MODIFIED:20220112T175812Z
UID:10001628-1642529700-1642536900@ynschoirs.org
SUMMARY:Bella Voce Rehearsal
DESCRIPTION:Bella Voce Rehearsal\nFaith Lutheran Church 6:15pm-8:15pm
URL:https://ynschoirs.org/calendar/bella-voce-rehearsal-3/2022-01-18/
LOCATION:Faith Lutheran Church\, 3000 Liberty Street\, Aurora\, IL\, 60502
CATEGORIES:Bella Voce,Parents
END:VEVENT
BEGIN:VEVENT
DTSTART;TZID=America/Chicago:20211216T163000
DTEND;TZID=America/Chicago:20211216T180000
DTSTAMP:20260421T091427
CREATED:20210831T212624Z
LAST-MODIFIED:20210831T212752Z
UID:10001412-1639672200-1639677600@ynschoirs.org
SUMMARY:Brillante Rehearsal
DESCRIPTION:Brillante Rehearsal\n4:30pm-6:00pm Faith Lutheran Church
URL:https://ynschoirs.org/calendar/brillante-rehearsal-2/2021-12-16/
LOCATION:Faith Lutheran Church\, 3000 Liberty Street\, Aurora\, IL\, 60502
CATEGORIES:Brillante,Parents
END:VEVENT
BEGIN:VEVENT
DTSTART;TZID=America/Chicago:20211214T181500
DTEND;TZID=America/Chicago:20211214T201500
DTSTAMP:20260421T091427
CREATED:20210902T185751Z
LAST-MODIFIED:20210902T185751Z
UID:10001263-1639505700-1639512900@ynschoirs.org
SUMMARY:Bella Voce Rehearsal
DESCRIPTION:Bella Voce Rehearsal\n6:15pm-8:15pm Faith Lutheran Church
URL:https://ynschoirs.org/calendar/bella-voce-rehearsal-2/2021-12-14/
LOCATION:Faith Lutheran Church\, 3000 Liberty Street\, Aurora\, IL\, 60502
CATEGORIES:Bella Voce,Parents
END:VEVENT
BEGIN:VEVENT
DTSTART;TZID=America/Chicago:20211214T163000
DTEND;TZID=America/Chicago:20211214T174500
DTSTAMP:20260421T091427
CREATED:20210831T223940Z
LAST-MODIFIED:20210831T223940Z
UID:10001206-1639499400-1639503900@ynschoirs.org
SUMMARY:Brio Rehearsal
DESCRIPTION:Brio Rehearsal\n4:30pm-5:45pm Faith Lutheran Church
URL:https://ynschoirs.org/calendar/brio-rehearsal-2/2021-12-14/
LOCATION:Faith Lutheran Church\, 3000 Liberty Street\, Aurora\, IL\, 60502
CATEGORIES:Brio,Parents
END:VEVENT
BEGIN:VEVENT
DTSTART;TZID=America/Chicago:20211213T181500
DTEND;TZID=America/Chicago:20211213T201500
DTSTAMP:20260421T091427
CREATED:20210902T192421Z
LAST-MODIFIED:20210902T192421Z
UID:10001500-1639419300-1639426500@ynschoirs.org
SUMMARY:Canto Vivo Rehearsal
DESCRIPTION:Canto Vivo Rehearsal\n6:15pm-8:00pm Faith Lutheran Church
URL:https://ynschoirs.org/calendar/canto-vivo-rehearsal/2021-12-13/
LOCATION:Faith Lutheran Church\, 3000 Liberty Street\, Aurora\, IL\, 60502
CATEGORIES:Canto Vivo,Parents
END:VEVENT
BEGIN:VEVENT
DTSTART;TZID=America/Chicago:20211213T181500
DTEND;TZID=America/Chicago:20211213T201500
DTSTAMP:20260421T091427
CREATED:20210902T192108Z
LAST-MODIFIED:20210902T192108Z
UID:10001486-1639419300-1639426500@ynschoirs.org
SUMMARY:Bella Cantare Rehearsal
DESCRIPTION:Bella Cantare Rehearsal\n6:15pm-8:15pm Faith Lutheran Church
URL:https://ynschoirs.org/calendar/bella-cantare-rehearsal/2021-12-13/
LOCATION:Faith Lutheran Church\, 3000 Liberty Street\, Aurora\, IL\, 60502
CATEGORIES:Bella Cantare,Parents
END:VEVENT
BEGIN:VEVENT
DTSTART;TZID=America/Chicago:20211209T163000
DTEND;TZID=America/Chicago:20211209T180000
DTSTAMP:20260421T091427
CREATED:20210831T212624Z
LAST-MODIFIED:20210831T212752Z
UID:10001411-1639067400-1639072800@ynschoirs.org
SUMMARY:Brillante Rehearsal
DESCRIPTION:Brillante Rehearsal\n4:30pm-6:00pm Faith Lutheran Church
URL:https://ynschoirs.org/calendar/brillante-rehearsal-2/2021-12-09/
LOCATION:Faith Lutheran Church\, 3000 Liberty Street\, Aurora\, IL\, 60502
CATEGORIES:Brillante,Parents
END:VEVENT
BEGIN:VEVENT
DTSTART;TZID=America/Chicago:20211207T181500
DTEND;TZID=America/Chicago:20211207T201500
DTSTAMP:20260421T091427
CREATED:20210902T185751Z
LAST-MODIFIED:20210902T185751Z
UID:10001262-1638900900-1638908100@ynschoirs.org
SUMMARY:Bella Voce Rehearsal
DESCRIPTION:Bella Voce Rehearsal\n6:15pm-8:15pm Faith Lutheran Church
URL:https://ynschoirs.org/calendar/bella-voce-rehearsal-2/2021-12-07/
LOCATION:Faith Lutheran Church\, 3000 Liberty Street\, Aurora\, IL\, 60502
CATEGORIES:Bella Voce,Parents
END:VEVENT
BEGIN:VEVENT
DTSTART;TZID=America/Chicago:20211207T163000
DTEND;TZID=America/Chicago:20211207T174500
DTSTAMP:20260421T091427
CREATED:20210831T223940Z
LAST-MODIFIED:20210831T223940Z
UID:10001205-1638894600-1638899100@ynschoirs.org
SUMMARY:Brio Rehearsal
DESCRIPTION:Brio Rehearsal\n4:30pm-5:45pm Faith Lutheran Church
URL:https://ynschoirs.org/calendar/brio-rehearsal-2/2021-12-07/
LOCATION:Faith Lutheran Church\, 3000 Liberty Street\, Aurora\, IL\, 60502
CATEGORIES:Brio,Parents
END:VEVENT
BEGIN:VEVENT
DTSTART;TZID=America/Chicago:20211206T181500
DTEND;TZID=America/Chicago:20211206T201500
DTSTAMP:20260421T091427
CREATED:20210902T192421Z
LAST-MODIFIED:20210902T192421Z
UID:10001499-1638814500-1638821700@ynschoirs.org
SUMMARY:Canto Vivo Rehearsal
DESCRIPTION:Canto Vivo Rehearsal\n6:15pm-8:00pm Faith Lutheran Church
URL:https://ynschoirs.org/calendar/canto-vivo-rehearsal/2021-12-06/
LOCATION:Faith Lutheran Church\, 3000 Liberty Street\, Aurora\, IL\, 60502
CATEGORIES:Canto Vivo,Parents
END:VEVENT
BEGIN:VEVENT
DTSTART;TZID=America/Chicago:20211206T181500
DTEND;TZID=America/Chicago:20211206T201500
DTSTAMP:20260421T091427
CREATED:20210902T192108Z
LAST-MODIFIED:20210902T192108Z
UID:10001485-1638814500-1638821700@ynschoirs.org
SUMMARY:Bella Cantare Rehearsal
DESCRIPTION:Bella Cantare Rehearsal\n6:15pm-8:15pm Faith Lutheran Church
URL:https://ynschoirs.org/calendar/bella-cantare-rehearsal/2021-12-06/
LOCATION:Faith Lutheran Church\, 3000 Liberty Street\, Aurora\, IL\, 60502
CATEGORIES:Bella Cantare,Parents
END:VEVENT
BEGIN:VEVENT
DTSTART;TZID=America/Chicago:20211202T163000
DTEND;TZID=America/Chicago:20211202T180000
DTSTAMP:20260421T091427
CREATED:20210831T212624Z
LAST-MODIFIED:20210831T212752Z
UID:10001410-1638462600-1638468000@ynschoirs.org
SUMMARY:Brillante Rehearsal
DESCRIPTION:Brillante Rehearsal\n4:30pm-6:00pm Faith Lutheran Church
URL:https://ynschoirs.org/calendar/brillante-rehearsal-2/2021-12-02/
LOCATION:Faith Lutheran Church\, 3000 Liberty Street\, Aurora\, IL\, 60502
CATEGORIES:Brillante,Parents
END:VEVENT
BEGIN:VEVENT
DTSTART;TZID=America/Chicago:20211130T181500
DTEND;TZID=America/Chicago:20211130T201500
DTSTAMP:20260421T091427
CREATED:20210902T185751Z
LAST-MODIFIED:20210902T185751Z
UID:10001261-1638296100-1638303300@ynschoirs.org
SUMMARY:Bella Voce Rehearsal
DESCRIPTION:Bella Voce Rehearsal\n6:15pm-8:15pm Faith Lutheran Church
URL:https://ynschoirs.org/calendar/bella-voce-rehearsal-2/2021-11-30/
LOCATION:Faith Lutheran Church\, 3000 Liberty Street\, Aurora\, IL\, 60502
CATEGORIES:Bella Voce,Parents
END:VEVENT
END:VCALENDAR