BEGIN:VCALENDAR
VERSION:2.0
PRODID:-//Young Naperville Singers - ECPv6.8.0//NONSGML v1.0//EN
CALSCALE:GREGORIAN
METHOD:PUBLISH
X-ORIGINAL-URL:https://ynschoirs.org
X-WR-CALDESC:Events for Young Naperville Singers
REFRESH-INTERVAL;VALUE=DURATION:PT1H
X-Robots-Tag:noindex
X-PUBLISHED-TTL:PT1H
BEGIN:VTIMEZONE
TZID:America/Chicago
BEGIN:DAYLIGHT
TZOFFSETFROM:-0600
TZOFFSETTO:-0500
TZNAME:CDT
DTSTART:20250309T080000
END:DAYLIGHT
BEGIN:STANDARD
TZOFFSETFROM:-0500
TZOFFSETTO:-0600
TZNAME:CST
DTSTART:20251102T070000
END:STANDARD
END:VTIMEZONE
BEGIN:VEVENT
DTSTART;TZID=America/Chicago:20250512T181500
DTEND;TZID=America/Chicago:20250512T200000
DTSTAMP:20260421T042835
CREATED:20250127T195800Z
LAST-MODIFIED:20250212T205235Z
UID:10002611-1747073700-1747080000@ynschoirs.org
SUMMARY:Canto Vivo Rehearsal
DESCRIPTION:
URL:https://ynschoirs.org/calendar/canto-vivo-rehearsal-6/2025-05-12/
LOCATION:Our Saviour’s Lutheran Church\, 815 S. Washington Street\, Naperville\, IL\, 60540
CATEGORIES:Canto Vivo,Parents
END:VEVENT
BEGIN:VEVENT
DTSTART;TZID=America/Chicago:20250508T164500
DTEND;TZID=America/Chicago:20250508T180000
DTSTAMP:20260421T042835
CREATED:20250319T000037Z
LAST-MODIFIED:20250319T000037Z
UID:10003080-1746722700-1746727200@ynschoirs.org
SUMMARY:Aria - Last Rehearsal
DESCRIPTION:Aria will COMBINE for their last rehearsal and GLOW party! \nAll Aria singers will come to rehearsal from 4:45pm-6:00pm at Our Saviour’s Lutheran Church. \n(There will be NO Aria rehearsal at 6:15pm tonight.)
URL:https://ynschoirs.org/calendar/aria-last-rehearsal/
LOCATION:Our Saviour’s Lutheran Church\, 815 S. Washington Street\, Naperville\, IL\, 60540
CATEGORIES:Aria,Parents
END:VEVENT
BEGIN:VEVENT
DTSTART;TZID=America/Chicago:20250505T181500
DTEND;TZID=America/Chicago:20250505T201500
DTSTAMP:20260421T042835
CREATED:20250127T195227Z
LAST-MODIFIED:20250212T205145Z
UID:10002542-1746468900-1746476100@ynschoirs.org
SUMMARY:Bella Cantare Rehearsal
DESCRIPTION:
URL:https://ynschoirs.org/calendar/bella-cantare-rehearsal-9/2025-05-05/
LOCATION:Our Saviour’s Lutheran Church\, 815 S. Washington Street\, Naperville\, IL\, 60540
CATEGORIES:Bella Cantare,Parents
END:VEVENT
BEGIN:VEVENT
DTSTART;TZID=America/Chicago:20250505T181500
DTEND;TZID=America/Chicago:20250505T200000
DTSTAMP:20260421T042835
CREATED:20250127T195800Z
LAST-MODIFIED:20250212T205235Z
UID:10002610-1746468900-1746475200@ynschoirs.org
SUMMARY:Canto Vivo Rehearsal
DESCRIPTION:
URL:https://ynschoirs.org/calendar/canto-vivo-rehearsal-6/2025-05-05/
LOCATION:Our Saviour’s Lutheran Church\, 815 S. Washington Street\, Naperville\, IL\, 60540
CATEGORIES:Canto Vivo,Parents
END:VEVENT
BEGIN:VEVENT
DTSTART;TZID=America/Chicago:20250501T181500
DTEND;TZID=America/Chicago:20250501T193000
DTSTAMP:20260421T042835
CREATED:20250127T210525Z
LAST-MODIFIED:20250318T233350Z
UID:10002987-1746123300-1746127800@ynschoirs.org
SUMMARY:Aria 6:15 Rehearsal
DESCRIPTION:
URL:https://ynschoirs.org/calendar/aria-445-rehearsal-3-2/2025-05-01/
LOCATION:Our Saviour’s Lutheran Church\, 815 S. Washington Street\, Naperville\, IL\, 60540
CATEGORIES:Aria,Parents
END:VEVENT
BEGIN:VEVENT
DTSTART;TZID=America/Chicago:20250501T164500
DTEND;TZID=America/Chicago:20250501T180000
DTSTAMP:20260421T042835
CREATED:20250127T210443Z
LAST-MODIFIED:20250318T234100Z
UID:10002971-1746117900-1746122400@ynschoirs.org
SUMMARY:Aria 4:45 Rehearsal
DESCRIPTION:
URL:https://ynschoirs.org/calendar/aria-445-rehearsal-3/2025-05-01/
LOCATION:Our Saviour’s Lutheran Church\, 815 S. Washington Street\, Naperville\, IL\, 60540
CATEGORIES:Aria,Parents
END:VEVENT
BEGIN:VEVENT
DTSTART;TZID=America/Chicago:20250428T181500
DTEND;TZID=America/Chicago:20250428T201500
DTSTAMP:20260421T042835
CREATED:20250127T195227Z
LAST-MODIFIED:20250212T205145Z
UID:10002541-1745864100-1745871300@ynschoirs.org
SUMMARY:Bella Cantare Rehearsal
DESCRIPTION:
URL:https://ynschoirs.org/calendar/bella-cantare-rehearsal-9/2025-04-28/
LOCATION:Our Saviour’s Lutheran Church\, 815 S. Washington Street\, Naperville\, IL\, 60540
CATEGORIES:Bella Cantare,Parents
END:VEVENT
BEGIN:VEVENT
DTSTART;TZID=America/Chicago:20250428T181500
DTEND;TZID=America/Chicago:20250428T200000
DTSTAMP:20260421T042835
CREATED:20250127T195800Z
LAST-MODIFIED:20250212T205235Z
UID:10002609-1745864100-1745870400@ynschoirs.org
SUMMARY:Canto Vivo Rehearsal
DESCRIPTION:
URL:https://ynschoirs.org/calendar/canto-vivo-rehearsal-6/2025-04-28/
LOCATION:Our Saviour’s Lutheran Church\, 815 S. Washington Street\, Naperville\, IL\, 60540
CATEGORIES:Canto Vivo,Parents
END:VEVENT
BEGIN:VEVENT
DTSTART;TZID=America/Chicago:20250421T181500
DTEND;TZID=America/Chicago:20250421T201500
DTSTAMP:20260421T042835
CREATED:20250127T195227Z
LAST-MODIFIED:20250212T205145Z
UID:10002540-1745259300-1745266500@ynschoirs.org
SUMMARY:Bella Cantare Rehearsal
DESCRIPTION:
URL:https://ynschoirs.org/calendar/bella-cantare-rehearsal-9/2025-04-21/
LOCATION:Our Saviour’s Lutheran Church\, 815 S. Washington Street\, Naperville\, IL\, 60540
CATEGORIES:Bella Cantare,Parents
END:VEVENT
BEGIN:VEVENT
DTSTART;TZID=America/Chicago:20250421T181500
DTEND;TZID=America/Chicago:20250421T200000
DTSTAMP:20260421T042835
CREATED:20250127T195800Z
LAST-MODIFIED:20250212T205235Z
UID:10002608-1745259300-1745265600@ynschoirs.org
SUMMARY:Canto Vivo Rehearsal
DESCRIPTION:
URL:https://ynschoirs.org/calendar/canto-vivo-rehearsal-6/2025-04-21/
LOCATION:Our Saviour’s Lutheran Church\, 815 S. Washington Street\, Naperville\, IL\, 60540
CATEGORIES:Canto Vivo,Parents
END:VEVENT
BEGIN:VEVENT
DTSTART;TZID=America/Chicago:20250414T181500
DTEND;TZID=America/Chicago:20250414T201500
DTSTAMP:20260421T042835
CREATED:20250127T195227Z
LAST-MODIFIED:20250212T205145Z
UID:10002539-1744654500-1744661700@ynschoirs.org
SUMMARY:Bella Cantare Rehearsal
DESCRIPTION:
URL:https://ynschoirs.org/calendar/bella-cantare-rehearsal-9/2025-04-14/
LOCATION:Our Saviour’s Lutheran Church\, 815 S. Washington Street\, Naperville\, IL\, 60540
CATEGORIES:Bella Cantare,Parents
END:VEVENT
BEGIN:VEVENT
DTSTART;TZID=America/Chicago:20250414T181500
DTEND;TZID=America/Chicago:20250414T200000
DTSTAMP:20260421T042835
CREATED:20250127T195800Z
LAST-MODIFIED:20250212T205235Z
UID:10002607-1744654500-1744660800@ynschoirs.org
SUMMARY:Canto Vivo Rehearsal
DESCRIPTION:
URL:https://ynschoirs.org/calendar/canto-vivo-rehearsal-6/2025-04-14/
LOCATION:Our Saviour’s Lutheran Church\, 815 S. Washington Street\, Naperville\, IL\, 60540
CATEGORIES:Canto Vivo,Parents
END:VEVENT
BEGIN:VEVENT
DTSTART;TZID=America/Chicago:20250410T181500
DTEND;TZID=America/Chicago:20250410T193000
DTSTAMP:20260421T042835
CREATED:20250127T210525Z
LAST-MODIFIED:20250318T233350Z
UID:10002984-1744308900-1744313400@ynschoirs.org
SUMMARY:Aria 6:15 Rehearsal
DESCRIPTION:
URL:https://ynschoirs.org/calendar/aria-445-rehearsal-3-2/2025-04-10/
LOCATION:Our Saviour’s Lutheran Church\, 815 S. Washington Street\, Naperville\, IL\, 60540
CATEGORIES:Aria,Parents
END:VEVENT
BEGIN:VEVENT
DTSTART;TZID=America/Chicago:20250410T164500
DTEND;TZID=America/Chicago:20250410T180000
DTSTAMP:20260421T042835
CREATED:20250127T210443Z
LAST-MODIFIED:20250318T234100Z
UID:10002968-1744303500-1744308000@ynschoirs.org
SUMMARY:Aria 4:45 Rehearsal
DESCRIPTION:
URL:https://ynschoirs.org/calendar/aria-445-rehearsal-3/2025-04-10/
LOCATION:Our Saviour’s Lutheran Church\, 815 S. Washington Street\, Naperville\, IL\, 60540
CATEGORIES:Aria,Parents
END:VEVENT
BEGIN:VEVENT
DTSTART;TZID=America/Chicago:20250407T181500
DTEND;TZID=America/Chicago:20250407T201500
DTSTAMP:20260421T042835
CREATED:20250127T195227Z
LAST-MODIFIED:20250212T205145Z
UID:10002538-1744049700-1744056900@ynschoirs.org
SUMMARY:Bella Cantare Rehearsal
DESCRIPTION:
URL:https://ynschoirs.org/calendar/bella-cantare-rehearsal-9/2025-04-07/
LOCATION:Our Saviour’s Lutheran Church\, 815 S. Washington Street\, Naperville\, IL\, 60540
CATEGORIES:Bella Cantare,Parents
END:VEVENT
BEGIN:VEVENT
DTSTART;TZID=America/Chicago:20250407T181500
DTEND;TZID=America/Chicago:20250407T200000
DTSTAMP:20260421T042835
CREATED:20250127T195800Z
LAST-MODIFIED:20250212T205235Z
UID:10002606-1744049700-1744056000@ynschoirs.org
SUMMARY:Canto Vivo Rehearsal
DESCRIPTION:
URL:https://ynschoirs.org/calendar/canto-vivo-rehearsal-6/2025-04-07/
LOCATION:Our Saviour’s Lutheran Church\, 815 S. Washington Street\, Naperville\, IL\, 60540
CATEGORIES:Canto Vivo,Parents
END:VEVENT
BEGIN:VEVENT
DTSTART;TZID=America/Chicago:20250327T164500
DTEND;TZID=America/Chicago:20250327T180000
DTSTAMP:20260421T042835
CREATED:20250318T234321Z
LAST-MODIFIED:20250319T153530Z
UID:10003078-1743093900-1743098400@ynschoirs.org
SUMMARY:Combined Aria Rehearsal at OSLC
DESCRIPTION:BOTH Aria choirs will rehearse from 4:45-6pm today at Our Saviour’s Lutheran Church. \n(There is NO Aria rehearsal from 6:15-7:30pm today.)
URL:https://ynschoirs.org/calendar/combined-aria-rehearsal-at-oscl/
LOCATION:Our Saviour’s Lutheran Church\, 815 S. Washington Street\, Naperville\, IL\, 60540
CATEGORIES:Aria,Parents
END:VEVENT
BEGIN:VEVENT
DTSTART;TZID=America/Chicago:20250324T181500
DTEND;TZID=America/Chicago:20250324T201500
DTSTAMP:20260421T042835
CREATED:20250127T195227Z
LAST-MODIFIED:20250212T205145Z
UID:10002537-1742840100-1742847300@ynschoirs.org
SUMMARY:Bella Cantare Rehearsal
DESCRIPTION:
URL:https://ynschoirs.org/calendar/bella-cantare-rehearsal-9/2025-03-24/
LOCATION:Our Saviour’s Lutheran Church\, 815 S. Washington Street\, Naperville\, IL\, 60540
CATEGORIES:Bella Cantare,Parents
END:VEVENT
BEGIN:VEVENT
DTSTART;TZID=America/Chicago:20250324T181500
DTEND;TZID=America/Chicago:20250324T200000
DTSTAMP:20260421T042835
CREATED:20250127T195800Z
LAST-MODIFIED:20250212T205235Z
UID:10002605-1742840100-1742846400@ynschoirs.org
SUMMARY:Canto Vivo Rehearsal
DESCRIPTION:
URL:https://ynschoirs.org/calendar/canto-vivo-rehearsal-6/2025-03-24/
LOCATION:Our Saviour’s Lutheran Church\, 815 S. Washington Street\, Naperville\, IL\, 60540
CATEGORIES:Canto Vivo,Parents
END:VEVENT
BEGIN:VEVENT
DTSTART;TZID=America/Chicago:20250320T181500
DTEND;TZID=America/Chicago:20250320T193000
DTSTAMP:20260421T042835
CREATED:20250127T210525Z
LAST-MODIFIED:20250318T233350Z
UID:10002982-1742494500-1742499000@ynschoirs.org
SUMMARY:Aria 6:15 Rehearsal
DESCRIPTION:
URL:https://ynschoirs.org/calendar/aria-445-rehearsal-3-2/2025-03-20/
LOCATION:Our Saviour’s Lutheran Church\, 815 S. Washington Street\, Naperville\, IL\, 60540
CATEGORIES:Aria,Parents
END:VEVENT
BEGIN:VEVENT
DTSTART;TZID=America/Chicago:20250320T164500
DTEND;TZID=America/Chicago:20250320T180000
DTSTAMP:20260421T042835
CREATED:20250127T210443Z
LAST-MODIFIED:20250318T234100Z
UID:10002966-1742489100-1742493600@ynschoirs.org
SUMMARY:Aria 4:45 Rehearsal
DESCRIPTION:
URL:https://ynschoirs.org/calendar/aria-445-rehearsal-3/2025-03-20/
LOCATION:Our Saviour’s Lutheran Church\, 815 S. Washington Street\, Naperville\, IL\, 60540
CATEGORIES:Aria,Parents
END:VEVENT
BEGIN:VEVENT
DTSTART;TZID=America/Chicago:20250317T181500
DTEND;TZID=America/Chicago:20250317T201500
DTSTAMP:20260421T042835
CREATED:20250127T195227Z
LAST-MODIFIED:20250212T205145Z
UID:10002536-1742235300-1742242500@ynschoirs.org
SUMMARY:Bella Cantare Rehearsal
DESCRIPTION:
URL:https://ynschoirs.org/calendar/bella-cantare-rehearsal-9/2025-03-17/
LOCATION:Our Saviour’s Lutheran Church\, 815 S. Washington Street\, Naperville\, IL\, 60540
CATEGORIES:Bella Cantare,Parents
END:VEVENT
BEGIN:VEVENT
DTSTART;TZID=America/Chicago:20250317T181500
DTEND;TZID=America/Chicago:20250317T200000
DTSTAMP:20260421T042835
CREATED:20250127T195800Z
LAST-MODIFIED:20250212T205235Z
UID:10002604-1742235300-1742241600@ynschoirs.org
SUMMARY:Canto Vivo Rehearsal
DESCRIPTION:
URL:https://ynschoirs.org/calendar/canto-vivo-rehearsal-6/2025-03-17/
LOCATION:Our Saviour’s Lutheran Church\, 815 S. Washington Street\, Naperville\, IL\, 60540
CATEGORIES:Canto Vivo,Parents
END:VEVENT
BEGIN:VEVENT
DTSTART;TZID=America/Chicago:20250313T181500
DTEND;TZID=America/Chicago:20250313T193000
DTSTAMP:20260421T042835
CREATED:20250127T210525Z
LAST-MODIFIED:20250318T233350Z
UID:10002981-1741889700-1741894200@ynschoirs.org
SUMMARY:Aria 6:15 Rehearsal
DESCRIPTION:
URL:https://ynschoirs.org/calendar/aria-445-rehearsal-3-2/2025-03-13/
LOCATION:Our Saviour’s Lutheran Church\, 815 S. Washington Street\, Naperville\, IL\, 60540
CATEGORIES:Aria,Parents
END:VEVENT
BEGIN:VEVENT
DTSTART;TZID=America/Chicago:20250313T164500
DTEND;TZID=America/Chicago:20250313T180000
DTSTAMP:20260421T042835
CREATED:20250127T210443Z
LAST-MODIFIED:20250318T234100Z
UID:10002965-1741884300-1741888800@ynschoirs.org
SUMMARY:Aria 4:45 Rehearsal
DESCRIPTION:
URL:https://ynschoirs.org/calendar/aria-445-rehearsal-3/2025-03-13/
LOCATION:Our Saviour’s Lutheran Church\, 815 S. Washington Street\, Naperville\, IL\, 60540
CATEGORIES:Aria,Parents
END:VEVENT
BEGIN:VEVENT
DTSTART;TZID=America/Chicago:20250306T181500
DTEND;TZID=America/Chicago:20250306T193000
DTSTAMP:20260421T042835
CREATED:20250127T210525Z
LAST-MODIFIED:20250318T233350Z
UID:10002980-1741284900-1741289400@ynschoirs.org
SUMMARY:Aria 6:15 Rehearsal
DESCRIPTION:
URL:https://ynschoirs.org/calendar/aria-445-rehearsal-3-2/2025-03-06/
LOCATION:Our Saviour’s Lutheran Church\, 815 S. Washington Street\, Naperville\, IL\, 60540
CATEGORIES:Aria,Parents
END:VEVENT
BEGIN:VEVENT
DTSTART;TZID=America/Chicago:20250306T164500
DTEND;TZID=America/Chicago:20250306T180000
DTSTAMP:20260421T042835
CREATED:20250127T210443Z
LAST-MODIFIED:20250318T234100Z
UID:10002964-1741279500-1741284000@ynschoirs.org
SUMMARY:Aria 4:45 Rehearsal
DESCRIPTION:
URL:https://ynschoirs.org/calendar/aria-445-rehearsal-3/2025-03-06/
LOCATION:Our Saviour’s Lutheran Church\, 815 S. Washington Street\, Naperville\, IL\, 60540
CATEGORIES:Aria,Parents
END:VEVENT
BEGIN:VEVENT
DTSTART;TZID=America/Chicago:20250303T181500
DTEND;TZID=America/Chicago:20250303T201500
DTSTAMP:20260421T042835
CREATED:20250127T195227Z
LAST-MODIFIED:20250212T205145Z
UID:10002534-1741025700-1741032900@ynschoirs.org
SUMMARY:Bella Cantare Rehearsal
DESCRIPTION:
URL:https://ynschoirs.org/calendar/bella-cantare-rehearsal-9/2025-03-03/
LOCATION:Our Saviour’s Lutheran Church\, 815 S. Washington Street\, Naperville\, IL\, 60540
CATEGORIES:Bella Cantare,Parents
END:VEVENT
BEGIN:VEVENT
DTSTART;TZID=America/Chicago:20250303T181500
DTEND;TZID=America/Chicago:20250303T200000
DTSTAMP:20260421T042835
CREATED:20250127T195800Z
LAST-MODIFIED:20250212T205235Z
UID:10002602-1741025700-1741032000@ynschoirs.org
SUMMARY:Canto Vivo Rehearsal
DESCRIPTION:
URL:https://ynschoirs.org/calendar/canto-vivo-rehearsal-6/2025-03-03/
LOCATION:Our Saviour’s Lutheran Church\, 815 S. Washington Street\, Naperville\, IL\, 60540
CATEGORIES:Canto Vivo,Parents
END:VEVENT
BEGIN:VEVENT
DTSTART;TZID=America/Chicago:20250227T181500
DTEND;TZID=America/Chicago:20250227T193000
DTSTAMP:20260421T042835
CREATED:20250127T210525Z
LAST-MODIFIED:20250318T233350Z
UID:10002979-1740680100-1740684600@ynschoirs.org
SUMMARY:Aria 6:15 Rehearsal
DESCRIPTION:
URL:https://ynschoirs.org/calendar/aria-445-rehearsal-3-2/2025-02-27/
LOCATION:Our Saviour’s Lutheran Church\, 815 S. Washington Street\, Naperville\, IL\, 60540
CATEGORIES:Aria,Parents
END:VEVENT
END:VCALENDAR