BEGIN:VCALENDAR
VERSION:2.0
PRODID:-//Young Naperville Singers - ECPv6.8.0//NONSGML v1.0//EN
CALSCALE:GREGORIAN
METHOD:PUBLISH
X-ORIGINAL-URL:https://ynschoirs.org
X-WR-CALDESC:Events for Young Naperville Singers
REFRESH-INTERVAL;VALUE=DURATION:PT1H
X-Robots-Tag:noindex
X-PUBLISHED-TTL:PT1H
BEGIN:VTIMEZONE
TZID:America/Chicago
BEGIN:DAYLIGHT
TZOFFSETFROM:-0600
TZOFFSETTO:-0500
TZNAME:CDT
DTSTART:20230312T080000
END:DAYLIGHT
BEGIN:STANDARD
TZOFFSETFROM:-0500
TZOFFSETTO:-0600
TZNAME:CST
DTSTART:20231105T070000
END:STANDARD
BEGIN:DAYLIGHT
TZOFFSETFROM:-0600
TZOFFSETTO:-0500
TZNAME:CDT
DTSTART:20240310T080000
END:DAYLIGHT
BEGIN:STANDARD
TZOFFSETFROM:-0500
TZOFFSETTO:-0600
TZNAME:CST
DTSTART:20241103T070000
END:STANDARD
BEGIN:DAYLIGHT
TZOFFSETFROM:-0600
TZOFFSETTO:-0500
TZNAME:CDT
DTSTART:20250309T080000
END:DAYLIGHT
BEGIN:STANDARD
TZOFFSETFROM:-0500
TZOFFSETTO:-0600
TZNAME:CST
DTSTART:20251102T070000
END:STANDARD
END:VTIMEZONE
BEGIN:VEVENT
DTSTART;TZID=America/Chicago:20250506T164500
DTEND;TZID=America/Chicago:20250506T173000
DTSTAMP:20260423T162323
CREATED:20250127T211022Z
LAST-MODIFIED:20250319T003353Z
UID:10003020-1746549900-1746552600@ynschoirs.org
SUMMARY:Voci Rehearsal
DESCRIPTION:
URL:https://ynschoirs.org/calendar/voci-rehearsal-3/2025-05-06/
LOCATION:St. John’s Episcopal Church\, 750 Aurora Ave\, Naperville\, IL\, 60540
CATEGORIES:Parents,Voci
END:VEVENT
BEGIN:VEVENT
DTSTART;TZID=America/Chicago:20250429T080000
DTEND;TZID=America/Chicago:20250429T170000
DTSTAMP:20260423T162323
CREATED:20250319T003548Z
LAST-MODIFIED:20250319T003548Z
UID:10003081-1745913600-1745946000@ynschoirs.org
SUMMARY:Voci Parent Preview
DESCRIPTION:Voci will be performing their parent preview today in the Sanctuary at St. John’s.  They should wear their Voci t-shirts\, jeans and sneakers.  They should arrive at their normal time or 4:45pm and the preview will begin at 5:00pm.
URL:https://ynschoirs.org/calendar/voci-parent-preview/
LOCATION:St. John’s Episcopal Church\, 750 Aurora Ave\, Naperville\, IL\, 60540
CATEGORIES:Parents,Voci
END:VEVENT
BEGIN:VEVENT
DTSTART;TZID=America/Chicago:20250422T164500
DTEND;TZID=America/Chicago:20250422T173000
DTSTAMP:20260423T162323
CREATED:20250127T211022Z
LAST-MODIFIED:20250319T003353Z
UID:10003018-1745340300-1745343000@ynschoirs.org
SUMMARY:Voci Rehearsal
DESCRIPTION:
URL:https://ynschoirs.org/calendar/voci-rehearsal-3/2025-04-22/
LOCATION:St. John’s Episcopal Church\, 750 Aurora Ave\, Naperville\, IL\, 60540
CATEGORIES:Parents,Voci
END:VEVENT
BEGIN:VEVENT
DTSTART;TZID=America/Chicago:20250415T164500
DTEND;TZID=America/Chicago:20250415T173000
DTSTAMP:20260423T162323
CREATED:20250127T211022Z
LAST-MODIFIED:20250319T003353Z
UID:10003017-1744735500-1744738200@ynschoirs.org
SUMMARY:Voci Rehearsal
DESCRIPTION:
URL:https://ynschoirs.org/calendar/voci-rehearsal-3/2025-04-15/
LOCATION:St. John’s Episcopal Church\, 750 Aurora Ave\, Naperville\, IL\, 60540
CATEGORIES:Parents,Voci
END:VEVENT
BEGIN:VEVENT
DTSTART;TZID=America/Chicago:20250408T164500
DTEND;TZID=America/Chicago:20250408T173000
DTSTAMP:20260423T162323
CREATED:20250127T211022Z
LAST-MODIFIED:20250319T003353Z
UID:10003016-1744130700-1744133400@ynschoirs.org
SUMMARY:Voci Rehearsal
DESCRIPTION:
URL:https://ynschoirs.org/calendar/voci-rehearsal-3/2025-04-08/
LOCATION:St. John’s Episcopal Church\, 750 Aurora Ave\, Naperville\, IL\, 60540
CATEGORIES:Parents,Voci
END:VEVENT
BEGIN:VEVENT
DTSTART;TZID=America/Chicago:20250325T164500
DTEND;TZID=America/Chicago:20250325T173000
DTSTAMP:20260423T162323
CREATED:20250127T211022Z
LAST-MODIFIED:20250319T003353Z
UID:10003015-1742921100-1742923800@ynschoirs.org
SUMMARY:Voci Rehearsal
DESCRIPTION:
URL:https://ynschoirs.org/calendar/voci-rehearsal-3/2025-03-25/
LOCATION:St. John’s Episcopal Church\, 750 Aurora Ave\, Naperville\, IL\, 60540
CATEGORIES:Parents,Voci
END:VEVENT
BEGIN:VEVENT
DTSTART;TZID=America/Chicago:20250318T164500
DTEND;TZID=America/Chicago:20250318T173000
DTSTAMP:20260423T162323
CREATED:20250127T211022Z
LAST-MODIFIED:20250319T003353Z
UID:10003014-1742316300-1742319000@ynschoirs.org
SUMMARY:Voci Rehearsal
DESCRIPTION:
URL:https://ynschoirs.org/calendar/voci-rehearsal-3/2025-03-18/
LOCATION:St. John’s Episcopal Church\, 750 Aurora Ave\, Naperville\, IL\, 60540
CATEGORIES:Parents,Voci
END:VEVENT
BEGIN:VEVENT
DTSTART;TZID=America/Chicago:20250311T164500
DTEND;TZID=America/Chicago:20250311T173000
DTSTAMP:20260423T162323
CREATED:20250127T211022Z
LAST-MODIFIED:20250319T003353Z
UID:10003013-1741711500-1741714200@ynschoirs.org
SUMMARY:Voci Rehearsal
DESCRIPTION:
URL:https://ynschoirs.org/calendar/voci-rehearsal-3/2025-03-11/
LOCATION:St. John’s Episcopal Church\, 750 Aurora Ave\, Naperville\, IL\, 60540
CATEGORIES:Parents,Voci
END:VEVENT
BEGIN:VEVENT
DTSTART;TZID=America/Chicago:20250304T164500
DTEND;TZID=America/Chicago:20250304T173000
DTSTAMP:20260423T162323
CREATED:20250127T211022Z
LAST-MODIFIED:20250319T003353Z
UID:10003012-1741106700-1741109400@ynschoirs.org
SUMMARY:Voci Rehearsal
DESCRIPTION:
URL:https://ynschoirs.org/calendar/voci-rehearsal-3/2025-03-04/
LOCATION:St. John’s Episcopal Church\, 750 Aurora Ave\, Naperville\, IL\, 60540
CATEGORIES:Parents,Voci
END:VEVENT
BEGIN:VEVENT
DTSTART;TZID=America/Chicago:20250225T164500
DTEND;TZID=America/Chicago:20250225T173000
DTSTAMP:20260423T162323
CREATED:20250127T211022Z
LAST-MODIFIED:20250319T003353Z
UID:10003011-1740501900-1740504600@ynschoirs.org
SUMMARY:Voci Rehearsal
DESCRIPTION:
URL:https://ynschoirs.org/calendar/voci-rehearsal-3/2025-02-25/
LOCATION:St. John’s Episcopal Church\, 750 Aurora Ave\, Naperville\, IL\, 60540
CATEGORIES:Parents,Voci
END:VEVENT
BEGIN:VEVENT
DTSTART;TZID=America/Chicago:20250218T164500
DTEND;TZID=America/Chicago:20250218T173000
DTSTAMP:20260423T162323
CREATED:20250127T211022Z
LAST-MODIFIED:20250319T003353Z
UID:10003010-1739897100-1739899800@ynschoirs.org
SUMMARY:Voci Rehearsal
DESCRIPTION:
URL:https://ynschoirs.org/calendar/voci-rehearsal-3/2025-02-18/
LOCATION:St. John’s Episcopal Church\, 750 Aurora Ave\, Naperville\, IL\, 60540
CATEGORIES:Parents,Voci
END:VEVENT
BEGIN:VEVENT
DTSTART;TZID=America/Chicago:20250211T164500
DTEND;TZID=America/Chicago:20250211T173000
DTSTAMP:20260423T162323
CREATED:20250127T211022Z
LAST-MODIFIED:20250319T003353Z
UID:10003009-1739292300-1739295000@ynschoirs.org
SUMMARY:Voci Rehearsal
DESCRIPTION:
URL:https://ynschoirs.org/calendar/voci-rehearsal-3/2025-02-11/
LOCATION:St. John’s Episcopal Church\, 750 Aurora Ave\, Naperville\, IL\, 60540
CATEGORIES:Parents,Voci
END:VEVENT
BEGIN:VEVENT
DTSTART;TZID=America/Chicago:20250204T164500
DTEND;TZID=America/Chicago:20250204T173000
DTSTAMP:20260423T162323
CREATED:20250127T211022Z
LAST-MODIFIED:20250319T003353Z
UID:10003008-1738687500-1738690200@ynschoirs.org
SUMMARY:Voci Rehearsal
DESCRIPTION:
URL:https://ynschoirs.org/calendar/voci-rehearsal-3/2025-02-04/
LOCATION:St. John’s Episcopal Church\, 750 Aurora Ave\, Naperville\, IL\, 60540
CATEGORIES:Parents,Voci
END:VEVENT
BEGIN:VEVENT
DTSTART;TZID=America/Chicago:20250128T164500
DTEND;TZID=America/Chicago:20250128T173000
DTSTAMP:20260423T162323
CREATED:20250127T211022Z
LAST-MODIFIED:20250319T003353Z
UID:10003007-1738082700-1738085400@ynschoirs.org
SUMMARY:Voci Rehearsal
DESCRIPTION:
URL:https://ynschoirs.org/calendar/voci-rehearsal-3/2025-01-28/
LOCATION:St. John’s Episcopal Church\, 750 Aurora Ave\, Naperville\, IL\, 60540
CATEGORIES:Parents,Voci
END:VEVENT
BEGIN:VEVENT
DTSTART;TZID=America/Chicago:20250121T164500
DTEND;TZID=America/Chicago:20250121T173000
DTSTAMP:20260423T162323
CREATED:20250127T211022Z
LAST-MODIFIED:20250319T003353Z
UID:10003006-1737477900-1737480600@ynschoirs.org
SUMMARY:Voci Rehearsal
DESCRIPTION:
URL:https://ynschoirs.org/calendar/voci-rehearsal-3/2025-01-21/
LOCATION:St. John’s Episcopal Church\, 750 Aurora Ave\, Naperville\, IL\, 60540
CATEGORIES:Parents,Voci
END:VEVENT
BEGIN:VEVENT
DTSTART;TZID=America/Chicago:20250114T164500
DTEND;TZID=America/Chicago:20250114T173000
DTSTAMP:20260423T162323
CREATED:20250127T211022Z
LAST-MODIFIED:20250319T003353Z
UID:10003005-1736873100-1736875800@ynschoirs.org
SUMMARY:Voci Rehearsal
DESCRIPTION:
URL:https://ynschoirs.org/calendar/voci-rehearsal-3/2025-01-14/
LOCATION:St. John’s Episcopal Church\, 750 Aurora Ave\, Naperville\, IL\, 60540
CATEGORIES:Parents,Voci
END:VEVENT
BEGIN:VEVENT
DTSTART;TZID=America/Chicago:20241210T164500
DTEND;TZID=America/Chicago:20241210T174500
DTSTAMP:20260423T162323
CREATED:20241021T170351Z
LAST-MODIFIED:20241021T170453Z
UID:10002522-1733849100-1733852700@ynschoirs.org
SUMMARY:Voci Recital
DESCRIPTION:Voci Recital\nWear your black YNS t-shirt
URL:https://ynschoirs.org/calendar/voci-recital/
LOCATION:St. John’s Episcopal Church\, 750 Aurora Ave\, Naperville\, IL\, 60540
CATEGORIES:Parents,Voci
END:VEVENT
BEGIN:VEVENT
DTSTART;TZID=America/Chicago:20230930T093000
DTEND;TZID=America/Chicago:20230930T130000
DTSTAMP:20260423T162323
CREATED:20230928T160428Z
LAST-MODIFIED:20230928T160505Z
UID:10002249-1696066200-1696078800@ynschoirs.org
SUMMARY:YNS Family Fest
DESCRIPTION:Schedule for the day:\n\nAria: Line Up 9:15am\, Perform 9:30am\nBella Voce: Line Up 9:45am\, Perform 10am\nBrillante: Line Up 10:15am\, Perform 10:30am\nRagazzi: Line Up 10:45am\, Perform 11am\nCantabile Line Up 11:15am\, Perform 11:30am\nDolce: Line Up 11:45am\, Perform 12pm\nPrimo: Line Up 12:15pm\, Perform 12:30pm\n\n*Brio & Voci – please come and join in the fun anytime between 10:00am and 12:30pm! \nYNS Family Fest Information and Schedule \n*YNS Family Fest activities will be held from 10:00am-12:30pm. There will be musical activities\, a craft\, and YNS info tables for the singers and their families to enjoy before or after their performance. \n 
URL:https://ynschoirs.org/calendar/yns-family-fest/
LOCATION:St. John’s Episcopal Church\, 750 Aurora Ave\, Naperville\, IL\, 60540
CATEGORIES:Aria,Bella Voce,Brillante,Brio,Cantabile,Dolce,Parents,Primo,Ragazzi,Voci
END:VEVENT
END:VCALENDAR