BEGIN:VCALENDAR
VERSION:2.0
PRODID:-//Young Naperville Singers - ECPv6.8.0//NONSGML v1.0//EN
CALSCALE:GREGORIAN
METHOD:PUBLISH
X-WR-CALNAME:Young Naperville Singers
X-ORIGINAL-URL:https://ynschoirs.org
X-WR-CALDESC:Events for Young Naperville Singers
REFRESH-INTERVAL;VALUE=DURATION:PT1H
X-Robots-Tag:noindex
X-PUBLISHED-TTL:PT1H
BEGIN:VTIMEZONE
TZID:America/Chicago
BEGIN:DAYLIGHT
TZOFFSETFROM:-0600
TZOFFSETTO:-0500
TZNAME:CDT
DTSTART:20210314T080000
END:DAYLIGHT
BEGIN:STANDARD
TZOFFSETFROM:-0500
TZOFFSETTO:-0600
TZNAME:CST
DTSTART:20211107T070000
END:STANDARD
END:VTIMEZONE
BEGIN:VEVENT
DTSTART;TZID=America/Chicago:20210506T163000
DTEND;TZID=America/Chicago:20210506T180000
DTSTAMP:20260421T054032
CREATED:20210323T182035Z
LAST-MODIFIED:20210323T182035Z
UID:10001316-1620318600-1620324000@ynschoirs.org
SUMMARY:Brillante - Virtual Rehearsal
DESCRIPTION:Brillante – Virtual Rehearsal\nZoom Evaluations
URL:https://ynschoirs.org/calendar/brillante-virtual-rehearsal-6/
LOCATION:Zoom
CATEGORIES:Brillante,Parents
END:VEVENT
BEGIN:VEVENT
DTSTART;TZID=America/Chicago:20210506T163000
DTEND;TZID=America/Chicago:20210506T174500
DTSTAMP:20260421T054032
CREATED:20210323T173332Z
LAST-MODIFIED:20210323T173332Z
UID:10001296-1620318600-1620323100@ynschoirs.org
SUMMARY:Aria - Virtual Rehearsal
DESCRIPTION:Aria – Virtual Rehearsal\nZoom Evaluations
URL:https://ynschoirs.org/calendar/aria-virtual-rehearsal-5/
LOCATION:Zoom
CATEGORIES:Aria,Parents
END:VEVENT
BEGIN:VEVENT
DTSTART;TZID=America/Chicago:20210505T164500
DTEND;TZID=America/Chicago:20210505T174500
DTSTAMP:20260421T054032
CREATED:20210323T171712Z
LAST-MODIFIED:20210323T171712Z
UID:10001288-1620233100-1620236700@ynschoirs.org
SUMMARY:Primo - Virtual Rehearsal
DESCRIPTION:Primo – Virtual Rehearsal\nZoom Evaluations
URL:https://ynschoirs.org/calendar/primo-virtual-rehearsal-4/
LOCATION:Zoom
CATEGORIES:Parents,Primo
END:VEVENT
BEGIN:VEVENT
DTSTART;TZID=America/Chicago:20210504T183000
DTEND;TZID=America/Chicago:20210504T200000
DTSTAMP:20260421T054032
CREATED:20210323T184137Z
LAST-MODIFIED:20210323T184137Z
UID:10001325-1620153000-1620158400@ynschoirs.org
SUMMARY:Cantabile - Virtual Rehearsal
DESCRIPTION:Cantabile – Virtual Rehearsal\nZoom Evaluations
URL:https://ynschoirs.org/calendar/cantabile-virtual-rehearsal-8/
LOCATION:Zoom
CATEGORIES:Cantabile,Parents
END:VEVENT
BEGIN:VEVENT
DTSTART;TZID=America/Chicago:20210504T183000
DTEND;TZID=America/Chicago:20210504T200000
DTSTAMP:20260421T054032
CREATED:20210323T180216Z
LAST-MODIFIED:20210323T180216Z
UID:10001302-1620153000-1620158400@ynschoirs.org
SUMMARY:CV - Virtual Rehearsal
DESCRIPTION:Canto Vivo – Virtual Rehearsal\nZoom Evaluations
URL:https://ynschoirs.org/calendar/cv-virtual-rehearsal-5/
LOCATION:Zoom
CATEGORIES:Canto Vivo,Parents
END:VEVENT
BEGIN:VEVENT
DTSTART;TZID=America/Chicago:20210504T164500
DTEND;TZID=America/Chicago:20210504T180000
DTSTAMP:20260421T054032
CREATED:20210323T180446Z
LAST-MODIFIED:20210323T180446Z
UID:10001303-1620146700-1620151200@ynschoirs.org
SUMMARY:Ragazzi - Virtual Rehearsal
DESCRIPTION:Ragazzi – Virtual Rehearsal\nZoom Evaluations
URL:https://ynschoirs.org/calendar/ragazzi-virtual-rehearsal-8/
LOCATION:Zoom
CATEGORIES:Parents,Ragazzi
END:VEVENT
BEGIN:VEVENT
DTSTART;TZID=America/Chicago:20210504T163000
DTEND;TZID=America/Chicago:20210504T174500
DTSTAMP:20260421T054032
CREATED:20210323T175051Z
LAST-MODIFIED:20210323T175051Z
UID:10001301-1620145800-1620150300@ynschoirs.org
SUMMARY:Brio - Virtual Rehearsal
DESCRIPTION:Brio – Virtual Rehearsal\nZoom Evaluations
URL:https://ynschoirs.org/calendar/brio-virtual-rehearsal-5/
LOCATION:Zoom
CATEGORIES:Brio,Parents
END:VEVENT
BEGIN:VEVENT
DTSTART;TZID=America/Chicago:20210504T080000
DTEND;TZID=America/Chicago:20210504T170000
DTSTAMP:20260421T054032
CREATED:20210323T185451Z
LAST-MODIFIED:20210323T185451Z
UID:10001354-1620115200-1620147600@ynschoirs.org
SUMMARY:BV - Virtual Rehearsal
DESCRIPTION:Bella Voce – Virtual Rehearsal\nZoom Evaluations
URL:https://ynschoirs.org/calendar/bv-virtual-rehearsal-7/
LOCATION:Zoom
CATEGORIES:Bella Voce,Parents
END:VEVENT
BEGIN:VEVENT
DTSTART;TZID=America/Chicago:20210503T181500
DTEND;TZID=America/Chicago:20210503T191500
DTSTAMP:20260421T054032
CREATED:20210323T184837Z
LAST-MODIFIED:20210323T184837Z
UID:10001332-1620065700-1620069300@ynschoirs.org
SUMMARY:BC - Virtual Rehearsal
DESCRIPTION:BC- Virtual Rehearsal\nZoom
URL:https://ynschoirs.org/calendar/bc-virtual-rehearsal-4/
LOCATION:Zoom
CATEGORIES:Bella Cantare,Parents
END:VEVENT
BEGIN:VEVENT
DTSTART;TZID=America/Chicago:20210427T163000
DTEND;TZID=America/Chicago:20210427T174500
DTSTAMP:20260421T054032
CREATED:20210323T174928Z
LAST-MODIFIED:20210323T174928Z
UID:10001300-1619541000-1619545500@ynschoirs.org
SUMMARY:Brio - Virtual Rehearsal
DESCRIPTION:Brio – Virtual Rehearsal\nZoom
URL:https://ynschoirs.org/calendar/brio-virtual-rehearsal-4/
LOCATION:Zoom
CATEGORIES:Brio,Parents
END:VEVENT
BEGIN:VEVENT
DTSTART;TZID=America/Chicago:20210422T163000
DTEND;TZID=America/Chicago:20210422T174500
DTSTAMP:20260421T054032
CREATED:20210323T173141Z
LAST-MODIFIED:20210323T173141Z
UID:10001295-1619109000-1619113500@ynschoirs.org
SUMMARY:Aria - Virtual Rehearsal
DESCRIPTION:Aria – Virtual Rehearsal\nZoom
URL:https://ynschoirs.org/calendar/aria-virtual-rehearsal-4/
LOCATION:Zoom
CATEGORIES:Aria,Parents
END:VEVENT
BEGIN:VEVENT
DTSTART;TZID=America/Chicago:20210413T163000
DTEND;TZID=America/Chicago:20210413T174500
DTSTAMP:20260421T054032
CREATED:20210323T174849Z
LAST-MODIFIED:20210323T174849Z
UID:10001299-1618331400-1618335900@ynschoirs.org
SUMMARY:Brio - Virtual Rehearsal
DESCRIPTION:Brio – Virtual Rehearsal\nZoom
URL:https://ynschoirs.org/calendar/brio-virtual-rehearsal-3/
LOCATION:Zoom
CATEGORIES:Brio,Parents
END:VEVENT
BEGIN:VEVENT
DTSTART;TZID=America/Chicago:20210408T163000
DTEND;TZID=America/Chicago:20210408T180000
DTSTAMP:20260421T054032
CREATED:20210323T181949Z
LAST-MODIFIED:20210323T181949Z
UID:10001315-1617899400-1617904800@ynschoirs.org
SUMMARY:Brillante - Virtual Rehearsal
DESCRIPTION:Brillante – Virtual Rehearsal\nZoom
URL:https://ynschoirs.org/calendar/brillante-virtual-rehearsal-5/
LOCATION:Zoom
CATEGORIES:Brillante,Parents
END:VEVENT
BEGIN:VEVENT
DTSTART;TZID=America/Chicago:20210408T163000
DTEND;TZID=America/Chicago:20210408T174500
DTSTAMP:20260421T054032
CREATED:20210323T173058Z
LAST-MODIFIED:20210323T173058Z
UID:10001294-1617899400-1617903900@ynschoirs.org
SUMMARY:Aria - Virtual Rehearsal
DESCRIPTION:Aria – Virtual Rehearsal\nZoom
URL:https://ynschoirs.org/calendar/aria-virtual-rehearsal-3/
LOCATION:Zoom
CATEGORIES:Aria,Parents
END:VEVENT
BEGIN:VEVENT
DTSTART;TZID=America/Chicago:20210407T164500
DTEND;TZID=America/Chicago:20210407T174500
DTSTAMP:20260421T054032
CREATED:20210323T171613Z
LAST-MODIFIED:20210323T171614Z
UID:10001287-1617813900-1617817500@ynschoirs.org
SUMMARY:Primo - Virtual Rehearsal
DESCRIPTION:Primo – Virtual Rehearsal\nZoom
URL:https://ynschoirs.org/calendar/primo-virtual-rehearsal-3/
LOCATION:Zoom
CATEGORIES:Parents,Primo
END:VEVENT
BEGIN:VEVENT
DTSTART;TZID=America/Chicago:20210325T163000
DTEND;TZID=America/Chicago:20210325T180000
DTSTAMP:20260421T054032
CREATED:20210212T004024Z
LAST-MODIFIED:20210212T004024Z
UID:10001266-1616689800-1616695200@ynschoirs.org
SUMMARY:Brillante - Virtual Rehearsal
DESCRIPTION:Brillante – Virtual Rehearsal \nZoom – 4:30pm-6:00pm
URL:https://ynschoirs.org/calendar/brillante-virtual-rehearsal-4/
LOCATION:Zoom
CATEGORIES:Brillante,Parents
END:VEVENT
BEGIN:VEVENT
DTSTART;TZID=America/Chicago:20210325T163000
DTEND;TZID=America/Chicago:20210325T174500
DTSTAMP:20260421T054032
CREATED:20210211T155529Z
LAST-MODIFIED:20210211T155529Z
UID:10001178-1616689800-1616694300@ynschoirs.org
SUMMARY:Aria - Virtual Rehearsal
DESCRIPTION:Aria – Virtual Rehearsal\nZoom – 4:30pm-5:45pm
URL:https://ynschoirs.org/calendar/aria-virtual-rehearsal-2/2021-03-25/
LOCATION:Zoom
CATEGORIES:Aria,Parents
END:VEVENT
BEGIN:VEVENT
DTSTART;TZID=America/Chicago:20210324T164500
DTEND;TZID=America/Chicago:20210324T174500
DTSTAMP:20260421T054032
CREATED:20210211T155242Z
LAST-MODIFIED:20210211T155242Z
UID:10001172-1616604300-1616607900@ynschoirs.org
SUMMARY:Primo - Virtual Rehearsal
DESCRIPTION:Primo – Virtual Rehearsal\nZoom – 4:45pm-5:45pm
URL:https://ynschoirs.org/calendar/primo-virtual-rehearsal-2/2021-03-24/
LOCATION:Zoom
CATEGORIES:Parents,Primo
END:VEVENT
BEGIN:VEVENT
DTSTART;TZID=America/Chicago:20210323T183000
DTEND;TZID=America/Chicago:20210323T193000
DTSTAMP:20260421T054032
CREATED:20210212T013435Z
LAST-MODIFIED:20210301T181859Z
UID:10001271-1616524200-1616527800@ynschoirs.org
SUMMARY:Cantabile - Virtual Rehearsal
DESCRIPTION:Cantabile – Virtual Rehearsal\nZoom with Guest Artist Ta-Tynisa Wilson 6:30pm-7:30pm
URL:https://ynschoirs.org/calendar/cantabile-in-person-rehearsal-3/
LOCATION:Zoom
CATEGORIES:Cantabile,Parents
END:VEVENT
BEGIN:VEVENT
DTSTART;TZID=America/Chicago:20210323T181500
DTEND;TZID=America/Chicago:20210323T201500
DTSTAMP:20260421T054032
CREATED:20210211T201009Z
LAST-MODIFIED:20210211T201009Z
UID:10001196-1616523300-1616530500@ynschoirs.org
SUMMARY:BV - Virtual Rehearsal
DESCRIPTION:Bella Voce – Virtual Rehearsal\nZoom – 6:15pm-8:15pm
URL:https://ynschoirs.org/calendar/bv-virtual-rehearsal-6/
LOCATION:Zoom
CATEGORIES:Bella Voce,Parents
END:VEVENT
BEGIN:VEVENT
DTSTART;TZID=America/Chicago:20210322T181500
DTEND;TZID=America/Chicago:20210322T201500
DTSTAMP:20260421T054032
CREATED:20210211T200515Z
LAST-MODIFIED:20210211T200515Z
UID:10001193-1616436900-1616444100@ynschoirs.org
SUMMARY:BC - Virtual Rehearsal
DESCRIPTION:BC – Virtual Rehearsal\nZoom – 6:15pm-8:15pm \nGuest Artist: Tracy Wong
URL:https://ynschoirs.org/calendar/bc-virtual-rehearsal-3/
LOCATION:Zoom
CATEGORIES:Bella Cantare,Parents
END:VEVENT
BEGIN:VEVENT
DTSTART;TZID=America/Chicago:20210318T163000
DTEND;TZID=America/Chicago:20210318T174500
DTSTAMP:20260421T054032
CREATED:20210211T155529Z
LAST-MODIFIED:20210211T155529Z
UID:10001177-1616085000-1616089500@ynschoirs.org
SUMMARY:Aria - Virtual Rehearsal
DESCRIPTION:Aria – Virtual Rehearsal\nZoom – 4:30pm-5:45pm
URL:https://ynschoirs.org/calendar/aria-virtual-rehearsal-2/2021-03-18/
LOCATION:Zoom
CATEGORIES:Aria,Parents
END:VEVENT
BEGIN:VEVENT
DTSTART;TZID=America/Chicago:20210317T164500
DTEND;TZID=America/Chicago:20210317T174500
DTSTAMP:20260421T054032
CREATED:20210211T155242Z
LAST-MODIFIED:20210211T155242Z
UID:10001171-1615999500-1616003100@ynschoirs.org
SUMMARY:Primo - Virtual Rehearsal
DESCRIPTION:Primo – Virtual Rehearsal\nZoom – 4:45pm-5:45pm
URL:https://ynschoirs.org/calendar/primo-virtual-rehearsal-2/2021-03-17/
LOCATION:Zoom
CATEGORIES:Parents,Primo
END:VEVENT
BEGIN:VEVENT
DTSTART;TZID=America/Chicago:20210316T183000
DTEND;TZID=America/Chicago:20210316T200000
DTSTAMP:20260421T054032
CREATED:20210211T203529Z
LAST-MODIFIED:20210211T203529Z
UID:10001227-1615919400-1615924800@ynschoirs.org
SUMMARY:Canto Vivo - Virtual Rehearsal
DESCRIPTION:Canto Vivo – Virtual Rehearsal\nZoom 6:30pm-8:00pm
URL:https://ynschoirs.org/calendar/canto-vivo-virtual-rehearsal-3/
LOCATION:Zoom
CATEGORIES:Canto Vivo,Parents
END:VEVENT
BEGIN:VEVENT
DTSTART;TZID=America/Chicago:20210316T164500
DTEND;TZID=America/Chicago:20210316T181500
DTSTAMP:20260421T054032
CREATED:20210211T202916Z
LAST-MODIFIED:20210211T202916Z
UID:10001208-1615913100-1615918500@ynschoirs.org
SUMMARY:Ragazzi - Virtual Rehearsal
DESCRIPTION:Ragazzi – Virtual Rehearsal\nZoom 4:45pm-6:15pm
URL:https://ynschoirs.org/calendar/ragazzi-virtual-rehearsal-7/
LOCATION:Zoom
CATEGORIES:Parents,Ragazzi
END:VEVENT
BEGIN:VEVENT
DTSTART;TZID=America/Chicago:20210311T163000
DTEND;TZID=America/Chicago:20210311T180000
DTSTAMP:20260421T054032
CREATED:20210212T003944Z
LAST-MODIFIED:20210212T003944Z
UID:10001265-1615480200-1615485600@ynschoirs.org
SUMMARY:Brillante - Virtual Rehearsal
DESCRIPTION:Brillante – Virtual Rehearsal \nZoom – 4:30pm-6:00pm
URL:https://ynschoirs.org/calendar/brillante-virtual-rehearsal-3/
LOCATION:Zoom
CATEGORIES:Brillante,Parents
END:VEVENT
BEGIN:VEVENT
DTSTART;TZID=America/Chicago:20210310T164500
DTEND;TZID=America/Chicago:20210310T174500
DTSTAMP:20260421T054032
CREATED:20210211T155242Z
LAST-MODIFIED:20210211T155242Z
UID:10001170-1615394700-1615398300@ynschoirs.org
SUMMARY:Primo - Virtual Rehearsal
DESCRIPTION:Primo – Virtual Rehearsal\nZoom – 4:45pm-5:45pm
URL:https://ynschoirs.org/calendar/primo-virtual-rehearsal-2/2021-03-10/
LOCATION:Zoom
CATEGORIES:Parents,Primo
END:VEVENT
BEGIN:VEVENT
DTSTART;TZID=America/Chicago:20210309T183000
DTEND;TZID=America/Chicago:20210309T200000
DTSTAMP:20260421T054032
CREATED:20210212T013635Z
LAST-MODIFIED:20210212T013635Z
UID:10001275-1615314600-1615320000@ynschoirs.org
SUMMARY:Cantabile - Virtual Rehearsal
DESCRIPTION:Cantabile – Virtual Rehearsal\nZoom 6:30pm-8:00pm
URL:https://ynschoirs.org/calendar/cantabile-virtual-rehearsal-6/
LOCATION:Zoom
CATEGORIES:Cantabile,Parents
END:VEVENT
BEGIN:VEVENT
DTSTART;TZID=America/Chicago:20210304T163000
DTEND;TZID=America/Chicago:20210304T174500
DTSTAMP:20260421T054032
CREATED:20210211T155529Z
LAST-MODIFIED:20210211T155529Z
UID:10001176-1614875400-1614879900@ynschoirs.org
SUMMARY:Aria - Virtual Rehearsal
DESCRIPTION:Aria – Virtual Rehearsal\nZoom – 4:30pm-5:45pm
URL:https://ynschoirs.org/calendar/aria-virtual-rehearsal-2/2021-03-04/
LOCATION:Zoom
CATEGORIES:Aria,Parents
END:VEVENT
BEGIN:VEVENT
DTSTART;TZID=America/Chicago:20210303T164500
DTEND;TZID=America/Chicago:20210303T174500
DTSTAMP:20260421T054032
CREATED:20210211T155242Z
LAST-MODIFIED:20210211T155242Z
UID:10001169-1614789900-1614793500@ynschoirs.org
SUMMARY:Primo - Virtual Rehearsal
DESCRIPTION:Primo – Virtual Rehearsal\nZoom – 4:45pm-5:45pm
URL:https://ynschoirs.org/calendar/primo-virtual-rehearsal-2/2021-03-03/
LOCATION:Zoom
CATEGORIES:Parents,Primo
END:VEVENT
END:VCALENDAR