BEGIN:VCALENDAR
VERSION:2.0
PRODID:-//Young Naperville Singers - ECPv6.8.0//NONSGML v1.0//EN
CALSCALE:GREGORIAN
METHOD:PUBLISH
X-WR-CALNAME:Young Naperville Singers
X-ORIGINAL-URL:https://ynschoirs.org
X-WR-CALDESC:Events for Young Naperville Singers
REFRESH-INTERVAL;VALUE=DURATION:PT1H
X-Robots-Tag:noindex
X-PUBLISHED-TTL:PT1H
BEGIN:VTIMEZONE
TZID:America/Chicago
BEGIN:DAYLIGHT
TZOFFSETFROM:-0600
TZOFFSETTO:-0500
TZNAME:CDT
DTSTART:20200308T080000
END:DAYLIGHT
BEGIN:STANDARD
TZOFFSETFROM:-0500
TZOFFSETTO:-0600
TZNAME:CST
DTSTART:20201101T070000
END:STANDARD
END:VTIMEZONE
BEGIN:VEVENT
DTSTART;TZID=America/Chicago:20200930T190000
DTEND;TZID=America/Chicago:20200930T200000
DTSTAMP:20260421T182419
CREATED:20200928T031532Z
LAST-MODIFIED:20200928T031532Z
UID:10001122-1601492400-1601496000@ynschoirs.org
SUMMARY:Artists and Answers
DESCRIPTION:Artists and Answers\nGreg Woods and Phillip Armstrong – Brillante\, Ragazzi\, Cantabile\, CV\, BV\, & BC \n7pm Zoom – Go to your choir page for link
URL:https://ynschoirs.org/calendar/artists-and-answers/
LOCATION:Zoom
CATEGORIES:Bella Cantare,Bella Voce,Brillante,Cantabile,Canto Vivo,Parents,Ragazzi
END:VEVENT
BEGIN:VEVENT
DTSTART;TZID=America/Chicago:20200930T164500
DTEND;TZID=America/Chicago:20200930T174500
DTSTAMP:20260421T182419
CREATED:20200923T132547Z
LAST-MODIFIED:20200923T132547Z
UID:10001099-1601484300-1601487900@ynschoirs.org
SUMMARY:Primo Virtual Rehearsal
DESCRIPTION:Primo Virtual Rehearsal\n4:45pm-5:45pm Zoom
URL:https://ynschoirs.org/calendar/primo-virtual-rehearsal/2020-09-30/
LOCATION:Zoom
CATEGORIES:Parents,Primo
END:VEVENT
BEGIN:VEVENT
DTSTART;TZID=America/Chicago:20200929T163000
DTEND;TZID=America/Chicago:20200929T174500
DTSTAMP:20260421T182420
CREATED:20200923T131445Z
LAST-MODIFIED:20200923T133002Z
UID:10001091-1601397000-1601401500@ynschoirs.org
SUMMARY:Brio Virtual Rehearsal
DESCRIPTION:Brio Virtual Rehearsal\n4:30pm-5:45pm Zoom
URL:https://ynschoirs.org/calendar/brio-virtual-rehearsal/2020-09-29/
LOCATION:Zoom
CATEGORIES:Brio,Parents
END:VEVENT
BEGIN:VEVENT
DTSTART;TZID=America/Chicago:20200928T164500
DTEND;TZID=America/Chicago:20200928T174500
DTSTAMP:20260421T182420
CREATED:20200922T200616Z
LAST-MODIFIED:20200922T200616Z
UID:10001037-1601311500-1601315100@ynschoirs.org
SUMMARY:Songwiters Ignite
DESCRIPTION:Songwriters Ignite\n4:45pm-5:45pm Zoom
URL:https://ynschoirs.org/calendar/songwiters-ignite/2020-09-28/
LOCATION:Zoom
CATEGORIES:Parents
END:VEVENT
BEGIN:VEVENT
DTSTART;TZID=America/Chicago:20200924T163000
DTEND;TZID=America/Chicago:20200924T180000
DTSTAMP:20260421T182420
CREATED:20200923T121453Z
LAST-MODIFIED:20200923T133201Z
UID:10001060-1600965000-1600970400@ynschoirs.org
SUMMARY:Brillante Virtual Rehearsal
DESCRIPTION:Brillante Virtual Rehearsal\n4:30pm-6:00pm Zoom
URL:https://ynschoirs.org/calendar/brillante-virtual-rehearsal/2020-09-24/
LOCATION:Zoom
CATEGORIES:Brillante,Parents
END:VEVENT
BEGIN:VEVENT
DTSTART;TZID=America/Chicago:20200924T163000
DTEND;TZID=America/Chicago:20200924T174500
DTSTAMP:20260421T182420
CREATED:20200923T130322Z
LAST-MODIFIED:20200923T132902Z
UID:10001081-1600965000-1600969500@ynschoirs.org
SUMMARY:Aria Virtual Rehearsal
DESCRIPTION:Aria Virtual Rehearsal\n4:30pm-5:45pm Zoom
URL:https://ynschoirs.org/calendar/aria-virtual-rehearsal/2020-09-24/
LOCATION:Zoom
CATEGORIES:Aria,Parents
END:VEVENT
BEGIN:VEVENT
DTSTART;TZID=America/Chicago:20200923T164500
DTEND;TZID=America/Chicago:20200923T174500
DTSTAMP:20260421T182420
CREATED:20200923T132547Z
LAST-MODIFIED:20200923T132547Z
UID:10001098-1600879500-1600883100@ynschoirs.org
SUMMARY:Primo Virtual Rehearsal
DESCRIPTION:Primo Virtual Rehearsal\n4:45pm-5:45pm Zoom
URL:https://ynschoirs.org/calendar/primo-virtual-rehearsal/2020-09-23/
LOCATION:Zoom
CATEGORIES:Parents,Primo
END:VEVENT
BEGIN:VEVENT
DTSTART;TZID=America/Chicago:20200922T183000
DTEND;TZID=America/Chicago:20200922T201500
DTSTAMP:20260421T182420
CREATED:20200922T172413Z
LAST-MODIFIED:20200922T172413Z
UID:10001020-1600799400-1600805700@ynschoirs.org
SUMMARY:CV Virtual Rehearsal
DESCRIPTION:CV Virtual Rehearsal\n6:30pm-8:15pm Zoom
URL:https://ynschoirs.org/calendar/cv-virtual-rehearsal/
LOCATION:Zoom
CATEGORIES:Canto Vivo,Parents
END:VEVENT
BEGIN:VEVENT
DTSTART;TZID=America/Chicago:20200922T164500
DTEND;TZID=America/Chicago:20200922T181500
DTSTAMP:20260421T182420
CREATED:20200922T202617Z
LAST-MODIFIED:20200922T203739Z
UID:10001046-1600793100-1600798500@ynschoirs.org
SUMMARY:Ragazzi Virtual Rehearsal
DESCRIPTION:Ragazzi Virtual Rehearsal\n4:45pm-6:15pm Zoom
URL:https://ynschoirs.org/calendar/ragazzi-virtual-rehearsal/
LOCATION:Zoom
CATEGORIES:Parents,Ragazzi
END:VEVENT
BEGIN:VEVENT
DTSTART;TZID=America/Chicago:20200922T163000
DTEND;TZID=America/Chicago:20200922T174500
DTSTAMP:20260421T182420
CREATED:20200923T131445Z
LAST-MODIFIED:20200923T133002Z
UID:10001090-1600792200-1600796700@ynschoirs.org
SUMMARY:Brio Virtual Rehearsal
DESCRIPTION:Brio Virtual Rehearsal\n4:30pm-5:45pm Zoom
URL:https://ynschoirs.org/calendar/brio-virtual-rehearsal/2020-09-22/
LOCATION:Zoom
CATEGORIES:Brio,Parents
END:VEVENT
BEGIN:VEVENT
DTSTART;TZID=America/Chicago:20200921T164500
DTEND;TZID=America/Chicago:20200921T174500
DTSTAMP:20260421T182420
CREATED:20200922T200616Z
LAST-MODIFIED:20200922T200616Z
UID:10001036-1600706700-1600710300@ynschoirs.org
SUMMARY:Songwiters Ignite
DESCRIPTION:Songwriters Ignite\n4:45pm-5:45pm Zoom
URL:https://ynschoirs.org/calendar/songwiters-ignite/2020-09-21/
LOCATION:Zoom
CATEGORIES:Parents
END:VEVENT
BEGIN:VEVENT
DTSTART;TZID=America/Chicago:20200916T190000
DTEND;TZID=America/Chicago:20200916T200000
DTSTAMP:20260421T182420
CREATED:20200922T200946Z
LAST-MODIFIED:20200922T201314Z
UID:10001043-1600282800-1600286400@ynschoirs.org
SUMMARY:Leading Edge
DESCRIPTION:Leading Edge\n7:00pm Zoom (see your choir page in the YNS Portal)
URL:https://ynschoirs.org/calendar/leading-edge/
LOCATION:Zoom
CATEGORIES:Parents
END:VEVENT
BEGIN:VEVENT
DTSTART;TZID=America/Chicago:20200914T164500
DTEND;TZID=America/Chicago:20200914T174500
DTSTAMP:20260421T182420
CREATED:20200922T200616Z
LAST-MODIFIED:20200922T200616Z
UID:10001035-1600101900-1600105500@ynschoirs.org
SUMMARY:Songwiters Ignite
DESCRIPTION:Songwriters Ignite\n4:45pm-5:45pm Zoom
URL:https://ynschoirs.org/calendar/songwiters-ignite/2020-09-14/
LOCATION:Zoom
CATEGORIES:Parents
END:VEVENT
END:VCALENDAR