BEGIN:VCALENDAR
VERSION:2.0
PRODID:-//Young Naperville Singers - ECPv6.8.0//NONSGML v1.0//EN
CALSCALE:GREGORIAN
METHOD:PUBLISH
X-ORIGINAL-URL:https://ynschoirs.org
X-WR-CALDESC:Events for Young Naperville Singers
REFRESH-INTERVAL;VALUE=DURATION:PT1H
X-Robots-Tag:noindex
X-PUBLISHED-TTL:PT1H
BEGIN:VTIMEZONE
TZID:America/Chicago
BEGIN:DAYLIGHT
TZOFFSETFROM:-0600
TZOFFSETTO:-0500
TZNAME:CDT
DTSTART:20200308T080000
END:DAYLIGHT
BEGIN:STANDARD
TZOFFSETFROM:-0500
TZOFFSETTO:-0600
TZNAME:CST
DTSTART:20201101T070000
END:STANDARD
END:VTIMEZONE
BEGIN:VEVENT
DTSTART;TZID=America/Chicago:20201118T164500
DTEND;TZID=America/Chicago:20201118T174500
DTSTAMP:20260421T134057
CREATED:20200923T132547Z
LAST-MODIFIED:20200923T132547Z
UID:10001104-1605717900-1605721500@ynschoirs.org
SUMMARY:Primo Virtual Rehearsal
DESCRIPTION:Primo Virtual Rehearsal\n4:45pm-5:45pm Zoom
URL:https://ynschoirs.org/calendar/primo-virtual-rehearsal/2020-11-18/
LOCATION:Zoom
CATEGORIES:Parents,Primo
END:VEVENT
BEGIN:VEVENT
DTSTART;TZID=America/Chicago:20201117T183000
DTEND;TZID=America/Chicago:20201117T201500
DTSTAMP:20260421T134057
CREATED:20200922T173037Z
LAST-MODIFIED:20201116T220534Z
UID:10001025-1605637800-1605644100@ynschoirs.org
SUMMARY:CV Virtual Rehearsal
DESCRIPTION:CV Virtual Rehearsal\n6:30pm-8:00pm Zoom
URL:https://ynschoirs.org/calendar/cv-live-rehearsal-3/
LOCATION:Zoom
CATEGORIES:Canto Vivo,Parents
END:VEVENT
BEGIN:VEVENT
DTSTART;TZID=America/Chicago:20201117T183000
DTEND;TZID=America/Chicago:20201117T200000
DTSTAMP:20260421T134057
CREATED:20200922T195143Z
LAST-MODIFIED:20201110T174355Z
UID:10001032-1605637800-1605643200@ynschoirs.org
SUMMARY:Cantabile Virtual Rehearsal
DESCRIPTION:Cantabile Virtual Rehearsal\n6:30pm-8:00pm Zoom
URL:https://ynschoirs.org/calendar/cantabile-virtual-rehearsal-3/2020-11-17/
LOCATION:Zoom
CATEGORIES:Cantabile,Parents
END:VEVENT
BEGIN:VEVENT
DTSTART;TZID=America/Chicago:20201117T181500
DTEND;TZID=America/Chicago:20201117T201500
DTSTAMP:20260421T134057
CREATED:20200923T135656Z
LAST-MODIFIED:20201116T220727Z
UID:10001115-1605636900-1605644100@ynschoirs.org
SUMMARY:BV Virtual Rehearsal
DESCRIPTION:BV Virtual Rehearsal\n6:15pm-8:15pm Zoom
URL:https://ynschoirs.org/calendar/bv-virtual-rehearsal/
LOCATION:Zoom
CATEGORIES:Bella Voce,Parents
END:VEVENT
BEGIN:VEVENT
DTSTART;TZID=America/Chicago:20201117T164500
DTEND;TZID=America/Chicago:20201117T181500
DTSTAMP:20260421T134057
CREATED:20200922T205501Z
LAST-MODIFIED:20201116T220105Z
UID:10001051-1605631500-1605636900@ynschoirs.org
SUMMARY:Ragazzi Virtual Rehearsal
DESCRIPTION:Ragazzi Virtual Rehearsal\n4:45pm-6:15pm Zoom \n 
URL:https://ynschoirs.org/calendar/ragazzi-live-rehearsal-3/
LOCATION:Zoom
CATEGORIES:Parents,Ragazzi
END:VEVENT
BEGIN:VEVENT
DTSTART;TZID=America/Chicago:20201117T163000
DTEND;TZID=America/Chicago:20201117T174500
DTSTAMP:20260421T134057
CREATED:20200923T131445Z
LAST-MODIFIED:20200923T133002Z
UID:10001095-1605630600-1605635100@ynschoirs.org
SUMMARY:Brio Virtual Rehearsal
DESCRIPTION:Brio Virtual Rehearsal\n4:30pm-5:45pm Zoom
URL:https://ynschoirs.org/calendar/brio-virtual-rehearsal/2020-11-17/
LOCATION:Zoom
CATEGORIES:Brio,Parents
END:VEVENT
BEGIN:VEVENT
DTSTART;TZID=America/Chicago:20201116T181500
DTEND;TZID=America/Chicago:20201116T201500
DTSTAMP:20260421T134057
CREATED:20200922T155722Z
LAST-MODIFIED:20200922T155722Z
UID:10001013-1605550500-1605557700@ynschoirs.org
SUMMARY:BV/BC Elaine Hagenberg Masterclass
DESCRIPTION:BV/BC Elaine Hagenberg Masterclass\nSingers – Use the Bella Cantare Zoom link to enter this Masterclass \nBella Cantare – 6:15pm-8:15pm (normal rehearsal time) \nBella Voce – 6:15pm-7:30pm
URL:https://ynschoirs.org/calendar/bv-bc-elaine-hagenberg-masterclass/
LOCATION:Zoom
CATEGORIES:Bella Cantare,Bella Voce,Parents
END:VEVENT
BEGIN:VEVENT
DTSTART;TZID=America/Chicago:20201112T163000
DTEND;TZID=America/Chicago:20201112T180000
DTSTAMP:20260421T134057
CREATED:20200923T121453Z
LAST-MODIFIED:20200923T133201Z
UID:10001064-1605198600-1605204000@ynschoirs.org
SUMMARY:Brillante Virtual Rehearsal
DESCRIPTION:Brillante Virtual Rehearsal\n4:30pm-6:00pm Zoom
URL:https://ynschoirs.org/calendar/brillante-virtual-rehearsal/2020-11-12/
LOCATION:Zoom
CATEGORIES:Brillante,Parents
END:VEVENT
BEGIN:VEVENT
DTSTART;TZID=America/Chicago:20201112T163000
DTEND;TZID=America/Chicago:20201112T174500
DTSTAMP:20260421T134057
CREATED:20200923T130322Z
LAST-MODIFIED:20200923T132902Z
UID:10001086-1605198600-1605203100@ynschoirs.org
SUMMARY:Aria Virtual Rehearsal
DESCRIPTION:Aria Virtual Rehearsal\n4:30pm-5:45pm Zoom
URL:https://ynschoirs.org/calendar/aria-virtual-rehearsal/2020-11-12/
LOCATION:Zoom
CATEGORIES:Aria,Parents
END:VEVENT
BEGIN:VEVENT
DTSTART;TZID=America/Chicago:20201111T164500
DTEND;TZID=America/Chicago:20201111T174500
DTSTAMP:20260421T134057
CREATED:20200923T132547Z
LAST-MODIFIED:20200923T132547Z
UID:10001103-1605113100-1605116700@ynschoirs.org
SUMMARY:Primo Virtual Rehearsal
DESCRIPTION:Primo Virtual Rehearsal\n4:45pm-5:45pm Zoom
URL:https://ynschoirs.org/calendar/primo-virtual-rehearsal/2020-11-11/
LOCATION:Zoom
CATEGORIES:Parents,Primo
END:VEVENT
BEGIN:VEVENT
DTSTART;TZID=America/Chicago:20201110T183000
DTEND;TZID=America/Chicago:20201110T201500
DTSTAMP:20260421T134057
CREATED:20200922T173240Z
LAST-MODIFIED:20200922T173240Z
UID:10001027-1605033000-1605039300@ynschoirs.org
SUMMARY:CV Virtual Rehearsal
DESCRIPTION:CV Virtual Rehearsal\n6:30pm-8:15pm Zoom
URL:https://ynschoirs.org/calendar/cv-virtual-rehearsal-3/2020-11-10/
LOCATION:Zoom
CATEGORIES:Canto Vivo,Parents
END:VEVENT
BEGIN:VEVENT
DTSTART;TZID=America/Chicago:20201110T183000
DTEND;TZID=America/Chicago:20201110T200000
DTSTAMP:20260421T134057
CREATED:20201110T175221Z
LAST-MODIFIED:20201110T175221Z
UID:10001159-1605033000-1605038400@ynschoirs.org
SUMMARY:Cantabile - Virtual Rehearsal
DESCRIPTION:Cantabile – Virtual Rehearsal\n6:30-8:00pm Zoom
URL:https://ynschoirs.org/calendar/cantabile-virtual-rehearsal-4/
LOCATION:Zoom
CATEGORIES:Cantabile,Parents
END:VEVENT
BEGIN:VEVENT
DTSTART;TZID=America/Chicago:20201110T181500
DTEND;TZID=America/Chicago:20201110T193000
DTSTAMP:20260421T134057
CREATED:20201109T155022Z
LAST-MODIFIED:20201109T155234Z
UID:10001157-1605032100-1605036600@ynschoirs.org
SUMMARY:Bella Voce - Virtual Rehearsal
DESCRIPTION:Bella Voce – Virtual Rehearsal\n6:15pm-7:30pm Zoom
URL:https://ynschoirs.org/calendar/bella-voce-virtual-rehearsal/
LOCATION:Zoom
CATEGORIES:Bella Voce,Parents
END:VEVENT
BEGIN:VEVENT
DTSTART;TZID=America/Chicago:20201110T164500
DTEND;TZID=America/Chicago:20201110T181500
DTSTAMP:20260421T134057
CREATED:20201110T175121Z
LAST-MODIFIED:20201110T175121Z
UID:10001158-1605026700-1605032100@ynschoirs.org
SUMMARY:Ragazzi - Virtual Rehearsal
DESCRIPTION:Ragazzi – Virtual Rehearsal\n4:45pm – 6:15pm Zoom
URL:https://ynschoirs.org/calendar/ragazzi-virtual-rehearsal-5/
LOCATION:Zoom
CATEGORIES:Parents,Ragazzi
END:VEVENT
BEGIN:VEVENT
DTSTART;TZID=America/Chicago:20201110T163000
DTEND;TZID=America/Chicago:20201110T174500
DTSTAMP:20260421T134057
CREATED:20200923T131445Z
LAST-MODIFIED:20200923T133002Z
UID:10001094-1605025800-1605030300@ynschoirs.org
SUMMARY:Brio Virtual Rehearsal
DESCRIPTION:Brio Virtual Rehearsal\n4:30pm-5:45pm Zoom
URL:https://ynschoirs.org/calendar/brio-virtual-rehearsal/2020-11-10/
LOCATION:Zoom
CATEGORIES:Brio,Parents
END:VEVENT
BEGIN:VEVENT
DTSTART;TZID=America/Chicago:20201109T164500
DTEND;TZID=America/Chicago:20201109T174500
DTSTAMP:20260421T134057
CREATED:20201109T154839Z
LAST-MODIFIED:20201109T154839Z
UID:10001156-1604940300-1604943900@ynschoirs.org
SUMMARY:Dolce - Virtual Rehearsal
DESCRIPTION:Dolce – Virtual Rehearsal\n4:45-5:45pm Zoom
URL:https://ynschoirs.org/calendar/dolce-virtual-rehearsal-2/
LOCATION:Zoom
CATEGORIES:Dolce,Parents
END:VEVENT
BEGIN:VEVENT
DTSTART;TZID=America/Chicago:20201109T164500
DTEND;TZID=America/Chicago:20201109T174500
DTSTAMP:20260421T134057
CREATED:20200922T200616Z
LAST-MODIFIED:20200922T200616Z
UID:10001042-1604940300-1604943900@ynschoirs.org
SUMMARY:Songwiters Ignite
DESCRIPTION:Songwriters Ignite\n4:45pm-5:45pm Zoom
URL:https://ynschoirs.org/calendar/songwiters-ignite/2020-11-09/
LOCATION:Zoom
CATEGORIES:Parents
END:VEVENT
BEGIN:VEVENT
DTSTART;TZID=America/Chicago:20201105T163000
DTEND;TZID=America/Chicago:20201105T174500
DTSTAMP:20260421T134057
CREATED:20200923T130322Z
LAST-MODIFIED:20200923T132902Z
UID:10001085-1604593800-1604598300@ynschoirs.org
SUMMARY:Aria Virtual Rehearsal
DESCRIPTION:Aria Virtual Rehearsal\n4:30pm-5:45pm Zoom
URL:https://ynschoirs.org/calendar/aria-virtual-rehearsal/2020-11-05/
LOCATION:Zoom
CATEGORIES:Aria,Parents
END:VEVENT
BEGIN:VEVENT
DTSTART;TZID=America/Chicago:20201103T183000
DTEND;TZID=America/Chicago:20201103T201500
DTSTAMP:20260421T134057
CREATED:20200922T173240Z
LAST-MODIFIED:20200922T173240Z
UID:10001026-1604428200-1604434500@ynschoirs.org
SUMMARY:CV Virtual Rehearsal
DESCRIPTION:CV Virtual Rehearsal\n6:30pm-8:15pm Zoom
URL:https://ynschoirs.org/calendar/cv-virtual-rehearsal-3/2020-11-03/
LOCATION:Zoom
CATEGORIES:Canto Vivo,Parents
END:VEVENT
BEGIN:VEVENT
DTSTART;TZID=America/Chicago:20201103T181500
DTEND;TZID=America/Chicago:20201103T193000
DTSTAMP:20260421T134057
CREATED:20201102T173710Z
LAST-MODIFIED:20201102T173710Z
UID:10001154-1604427300-1604431800@ynschoirs.org
SUMMARY:BV Virtual Rehearsal
DESCRIPTION:BV Virtual Rehearsal\n6:15pm-7:30pm Zoom
URL:https://ynschoirs.org/calendar/bv-virtual-rehearsal-2/
LOCATION:Zoom
CATEGORIES:Bella Voce,Parents
END:VEVENT
BEGIN:VEVENT
DTSTART;TZID=America/Chicago:20201103T164500
DTEND;TZID=America/Chicago:20201103T181500
DTSTAMP:20260421T134057
CREATED:20200923T120723Z
LAST-MODIFIED:20200923T120723Z
UID:10001057-1604421900-1604427300@ynschoirs.org
SUMMARY:Ragazzi Virtual Rehearsal
DESCRIPTION:Ragazzi Virtual Rehearsal\n4:45pm-6:15pm Zoom
URL:https://ynschoirs.org/calendar/ragazzi-virtual-rehearsal-3/2020-11-03/
LOCATION:Zoom
CATEGORIES:Parents,Ragazzi
END:VEVENT
BEGIN:VEVENT
DTSTART;TZID=America/Chicago:20201102T164500
DTEND;TZID=America/Chicago:20201102T174500
DTSTAMP:20260421T134057
CREATED:20200922T200616Z
LAST-MODIFIED:20200922T200616Z
UID:10001041-1604335500-1604339100@ynschoirs.org
SUMMARY:Songwiters Ignite
DESCRIPTION:Songwriters Ignite\n4:45pm-5:45pm Zoom
URL:https://ynschoirs.org/calendar/songwiters-ignite/2020-11-02/
LOCATION:Zoom
CATEGORIES:Parents
END:VEVENT
BEGIN:VEVENT
DTSTART;TZID=America/Chicago:20201028T190000
DTEND;TZID=America/Chicago:20201028T200000
DTSTAMP:20260421T134057
CREATED:20201028T143820Z
LAST-MODIFIED:20201028T143820Z
UID:10001147-1603911600-1603915200@ynschoirs.org
SUMMARY:Artists & Answers - Luke Frees
DESCRIPTION:7pm on Zoom for Ragazzi\, Brillante\, Cantabile\, Bella Voce\, Bella Cantare and Canto Vivo \nVisit your choir page in the YNS Portal to access the zoom link.
URL:https://ynschoirs.org/calendar/artists-answers-luke-frees/
LOCATION:Zoom
CATEGORIES:Bella Cantare,Bella Voce,Brillante,Cantabile,Canto Vivo,Parents,Ragazzi
END:VEVENT
BEGIN:VEVENT
DTSTART;TZID=America/Chicago:20201028T190000
DTEND;TZID=America/Chicago:20201028T200000
DTSTAMP:20260421T134058
CREATED:20201028T143652Z
LAST-MODIFIED:20201028T143652Z
UID:10001145-1603911600-1603915200@ynschoirs.org
SUMMARY:Artists & Answers - Miss Meredith
DESCRIPTION:7pm on Zoom for Primo\, Aria\, Dolce and Brio \nVisit your choir page in the YNS Portal to access the zoom link.
URL:https://ynschoirs.org/calendar/artists-answers-miss-meredith/
LOCATION:Zoom
CATEGORIES:Aria,Brio,Dolce,Parents,Primo
END:VEVENT
BEGIN:VEVENT
DTSTART;TZID=America/Chicago:20201027T184500
DTEND;TZID=America/Chicago:20201027T201500
DTSTAMP:20260421T134058
CREATED:20200922T194942Z
LAST-MODIFIED:20201006T180032Z
UID:10001031-1603824300-1603829700@ynschoirs.org
SUMMARY:Cantabile Virtual Rehearsal
DESCRIPTION:Cantabile Virtual Rehearsal\n6:45pm-8:15pm Zoom
URL:https://ynschoirs.org/calendar/cantabile-virtual-rehearsal-2/
LOCATION:Zoom
CATEGORIES:Cantabile,Parents
END:VEVENT
BEGIN:VEVENT
DTSTART;TZID=America/Chicago:20201027T163000
DTEND;TZID=America/Chicago:20201027T174500
DTSTAMP:20260421T134058
CREATED:20200923T131445Z
LAST-MODIFIED:20200923T133002Z
UID:10001093-1603816200-1603820700@ynschoirs.org
SUMMARY:Brio Virtual Rehearsal
DESCRIPTION:Brio Virtual Rehearsal\n4:30pm-5:45pm Zoom
URL:https://ynschoirs.org/calendar/brio-virtual-rehearsal/2020-10-27/
LOCATION:Zoom
CATEGORIES:Brio,Parents
END:VEVENT
BEGIN:VEVENT
DTSTART;TZID=America/Chicago:20201026T164500
DTEND;TZID=America/Chicago:20201026T174500
DTSTAMP:20260421T134058
CREATED:20200922T200616Z
LAST-MODIFIED:20200922T200616Z
UID:10001040-1603730700-1603734300@ynschoirs.org
SUMMARY:Songwiters Ignite
DESCRIPTION:Songwriters Ignite\n4:45pm-5:45pm Zoom
URL:https://ynschoirs.org/calendar/songwiters-ignite/2020-10-26/
LOCATION:Zoom
CATEGORIES:Parents
END:VEVENT
BEGIN:VEVENT
DTSTART;TZID=America/Chicago:20201022T163000
DTEND;TZID=America/Chicago:20201022T180000
DTSTAMP:20260421T134058
CREATED:20200923T122934Z
LAST-MODIFIED:20201008T161338Z
UID:10001071-1603384200-1603389600@ynschoirs.org
SUMMARY:Brillante Virtual Rehearsal
DESCRIPTION:Brillante Virtual Rehearsal\n4:30-6:00pm Zoom
URL:https://ynschoirs.org/calendar/brillante-live-rehearsal-2/
LOCATION:Zoom
CATEGORIES:Brillante,Parents
END:VEVENT
BEGIN:VEVENT
DTSTART;TZID=America/Chicago:20201022T163000
DTEND;TZID=America/Chicago:20201022T180000
DTSTAMP:20260421T134058
CREATED:20200923T121453Z
LAST-MODIFIED:20200923T133201Z
UID:10001063-1603384200-1603389600@ynschoirs.org
SUMMARY:Brillante Virtual Rehearsal
DESCRIPTION:Brillante Virtual Rehearsal\n4:30pm-6:00pm Zoom
URL:https://ynschoirs.org/calendar/brillante-virtual-rehearsal/2020-10-22/
LOCATION:Zoom
CATEGORIES:Brillante,Parents
END:VEVENT
BEGIN:VEVENT
DTSTART;TZID=America/Chicago:20201022T163000
DTEND;TZID=America/Chicago:20201022T174500
DTSTAMP:20260421T134058
CREATED:20200923T130322Z
LAST-MODIFIED:20200923T132902Z
UID:10001084-1603384200-1603388700@ynschoirs.org
SUMMARY:Aria Virtual Rehearsal
DESCRIPTION:Aria Virtual Rehearsal\n4:30pm-5:45pm Zoom
URL:https://ynschoirs.org/calendar/aria-virtual-rehearsal/2020-10-22/
LOCATION:Zoom
CATEGORIES:Aria,Parents
END:VEVENT
END:VCALENDAR